BEGIN:VCALENDAR
VERSION:2.0
PRODID:-//Sociedad Geográfica Española - ECPv6.10.3//NONSGML v1.0//EN
CALSCALE:GREGORIAN
METHOD:PUBLISH
X-ORIGINAL-URL:https://old.sge.org
X-WR-CALDESC:Eventos para Sociedad Geográfica Española
REFRESH-INTERVAL;VALUE=DURATION:PT1H
X-Robots-Tag:noindex
X-PUBLISHED-TTL:PT1H

BEGIN:VEVENT
DTSTART;TZID=Europe/Madrid:20260419T185313
DTEND;TZID=Europe/Madrid:20240521T110100
DTSTAMP:20260419T185313
CREATED:20240222T144155Z
LAST-MODIFIED:20240521T110212Z
UID:33751-0-1716289260@old.sge.org
SUMMARY:ALASKA\, LA LLAMADA DE LA NATURALEZA
DESCRIPTION:Diversidad geográfica y conexión con la Naturaleza\, en los confines del mundo habitado de Norteamérica\nAlaska es una península singular\, ubicada entre los océanos Ártico y Pacífico y en el límite noroccidental de Norteamérica que ofrece paisajes extremos. \nEs una tierra de extensas montañas\, glaciares\, bosques y tundra donde el frío y el hielo son las constantes que dirigen los paisajes y condicionan la presencia humana. Aúna el Ártico con su naturaleza salvaje -fauna\, montañas glaciadas\, extensos valles\, turberas\, tundra y taiga- y el desarrollo humano en ciudades y asentamientos -mineros\, militares\, pesqueros- esparcidos por su territorio y que en ocasiones han dejado una profunda huella. \nDe sur a norte se pueden admirar paisajes costeros modelados por el hielo\, con fiordos\, montañas y frentes glaciares sobre el mar que nos llevan a las montañas continentales\, los grandes espacios con las cumbres más altas y donde de nuevo alternan bosques y praderas con unos glaciares que muestran los rastros de su reciente retroceso sin perder la belleza del ártico. Más al norte\, los grandes ríos y sus llanuras dominan el paisaje\, caracterizado por la presencia de amplios bosques y el permafrost. Son extensas masas de coníferas que colonizan los sustratos helados. \n  \n\n 
URL:https://old.sge.org/evento/alaska-la-llamada-de-la-naturaleza/
CATEGORIES:Viajes
ATTACH;FMTTYPE=image/jpeg:https://old.sge.org/wp-content/uploads/2024/02/barth-bailey-DeNUFD4XcNA-unsplash.jpg
ORGANIZER;CN="Sociedad Geogr%C3%A1fica Espa%C3%B1ola":MAILTO:sge@sge.org
END:VEVENT
BEGIN:VEVENT
DTSTART;TZID=Europe/Madrid:20200731T100552
DTEND;TZID=Europe/Madrid:20200731T100552
DTSTAMP:20260419T185313
CREATED:20200302T105237Z
LAST-MODIFIED:20200731T100552Z
UID:19080-1596189952-1596189952@old.sge.org
SUMMARY:"Papúa Nueva Guinea\, un viaje hacia la prehistoria” con Juan Corona.
DESCRIPTION:Papúa Nueva Guinea es uno de los rincones del Planeta que guarda mayor diversidad de tribus indígenas\, algunas de las cuales apenas han sido contactadas. Aquí se han localizado en fechas muy recientes los últimos pueblos caníbales de nuestros tiempos. Es tierra de aventuras y de selvas inexploradas en las que muy pocos se atreven a entrar\, pero también un entorno frágil y amenazado en el que los últimos pueblos indígenas pasan directamente de la Edad de Piedra al siglo XXI\, perdiendo su identidad y muchas veces\, sus derechos. \nJuan Corona es Catedrático de economía y Director General del Instituto de Empresa Familiar. Durante los últimos 30 años ha desarrollado una intensa actividad en el ámbito académico y empresarial\, siendo autor de más de 40 libros y numerosos artículos en revistas especializadas y de divulgación. Pero\, sobre todo\, Corona es un viajero empedernido\, un gran experto en las grandes aventuras de la historia de la exploración mundial que\, además\, ha seguido los pasos de muchos exploradores míticos a pie de terreno. \nTERTULIAS 2020:  \n500 aniversario de la primera travesía del Pacífico \nEl 27 de noviembre de 1520 la expedición capitaneada por Magallanes con destino a las Molucas avistaba por fin La Mar del Sur\, eso sí tras haber navegado 600 km de un laberíntico estrecho\, peleando contra grandes tempestades y escasez de víveres. \nLa flota doblaba\, pues\, el que denominaron cabo Deseado. El acontecimiento se celebró con salvas de cañón y Magallanes lloró de alegría\, “dando infinitas gracias a Dios que le había dejado hallar lo que tanto deseaba\, y que hubiese sido el primero que por aquella parte hubiese hallado el paso tan deseado”\, como escribió el cronista Herrera. \nEn su empeño de llegar a las islas de las especias\, y creyendo que estaban cerca\, Magallanes inicia la primera travesía de la\, entonces\, Mar del Sur: 18.000 km de un interminable viaje de tres meses y veinte días hasta llegar a Filipinas. Magallanes no tardó en dar el nombre de mar Pacífico por la ausencia de tormentas y las aguas en calma. \nCon motivo de esta efeméride viajera\, la SGE dirige la mirada en este 2020 a este lugar del mundo dedicando las tertulias viajeras mensuales a lugares bañados por el Pacífico: historia\, viajes actuales\, geografías que siguen sorprendiendo\, rincones del planeta casi vírgenes\, expediciones que estudian el impacto del hombre en sus aguas\, e historias de la Historia más que curiosas. \nMás información
URL:https://old.sge.org/evento/papua-nueva-guinea-un-viaje-hacia-la-prehistoria-con-juan-corona/
CATEGORIES:Tertulias
ATTACH;FMTTYPE=image/png:https://old.sge.org/wp-content/uploads/2020/03/Imagen3.png
ORGANIZER;CN="Sociedad Geogr%C3%A1fica Espa%C3%B1ola":MAILTO:sge@sge.org
END:VEVENT
BEGIN:VEVENT
DTSTART;TZID=Europe/Madrid:20200731T102717
DTEND;TZID=Europe/Madrid:20200731T102717
DTSTAMP:20260419T185313
CREATED:20200302T105803Z
LAST-MODIFIED:20200731T102717Z
UID:19086-1596191237-1596191237@old.sge.org
SUMMARY:“Una vuelta al mundo a vela en 4 años para observar\, comprender y cartografiar el estado de los océanos: the ocean mapping expedition” con Michel André.
DESCRIPTION:The Ocean Mapping Expedition ha dedicado cuatro años en dar la vuelta al mundo\, tras la estela de Magallanes y Elcano\, en una travesía de más de 1.600 días y 76.000 km recorridos\, casi el doble de la circunferencia de la Tierra. La expedición\, “a lomos” de un velero tradicional ha desarrollado cuatro grandes programas: sobre contaminación por meso y microplásticos\, la contaminación sonora de los océanos\, el monitoreo de las concentraciones de gases de efecto invernadero en la superficie del océano y de observación del estado de salud de los corales. \nMichel André\, Premio Investigación SGE 2016\, nos contará cómo se ha elaborado un mapa acústico para informar sobre los niveles de ruido subacuático de los océanos\, y para sensibilizar la población mundial sobre el creciente problema de la contaminación acústica marina. \nMichel André es ingeniero superior en Biotecnología y profesor de la Universidad Politécnica de Cataluña. Como director del Laboratorio de Aplicaciones Bioacústicas (LAB) es el responsable del proyecto “20.000 sonidos bajo el mar”\, un ambicioso estudio que pretende realizar un informe exhaustivo sobre la contaminación acústica en los océanos. La expedición\, que partió de Sevilla en abril de 2015 a bordo del velero “Fleur de Passion”\, ha recorrido\, hasta el año 2019\, todos los mares y océanos registrando los sonidos de las profundidades\, dentro del proyecto global “Ocean Mapping Expedition”. \nTERTULIAS 2020:  \n500 aniversario de la primera travesía del Pacífico \nEl 27 de noviembre de 1520 la expedición capitaneada por Magallanes con destino a las Molucas avistaba por fin La Mar del Sur\, eso sí tras haber navegado 600 km de un laberíntico estrecho\, peleando contra grandes tempestades y escasez de víveres. \nLa flota doblaba\, pues\, el que denominaron cabo Deseado. El acontecimiento se celebró con salvas de cañón y Magallanes lloró de alegría\, “dando infinitas gracias a Dios que le había dejado hallar lo que tanto deseaba\, y que hubiese sido el primero que por aquella parte hubiese hallado el paso tan deseado”\, como escribió el cronista Herrera. \nEn su empeño de llegar a las islas de las especias\, y creyendo que estaban cerca\, Magallanes inicia la primera travesía de la\, entonces\, Mar del Sur: 18.000 km de un interminable viaje de tres meses y veinte días hasta llegar a Filipinas. Magallanes no tardó en dar el nombre de mar Pacífico por la ausencia de tormentas y las aguas en calma. \nCon motivo de esta efeméride viajera\, la SGE dirige la mirada en este 2020 a este lugar del mundo dedicando las tertulias viajeras mensuales a lugares bañados por el Pacífico: historia\, viajes actuales\, geografías que siguen sorprendiendo\, rincones del planeta casi vírgenes\, expediciones que estudian el impacto del hombre en sus aguas\, e historias de la Historia más que curiosas. \nMás información
URL:https://old.sge.org/evento/una-vuelta-al-mundo-a-vela-en-4-anos-para-observar-comprender-y-cartografiar-el-estado-de-los-oceanos-the-ocean-mapping-expedition-con-michel-andre/
CATEGORIES:Tertulias
ATTACH;FMTTYPE=image/png:https://old.sge.org/wp-content/uploads/2020/03/Imagen4.png
ORGANIZER;CN="Sociedad Geogr%C3%A1fica Espa%C3%B1ola":MAILTO:sge@sge.org
END:VEVENT
BEGIN:VEVENT
DTSTART;TZID=Europe/Madrid:20200731T103332
DTEND;TZID=Europe/Madrid:20200731T103332
DTSTAMP:20260419T185313
CREATED:20200302T110200Z
LAST-MODIFIED:20200731T103332Z
UID:19090-1596191612-1596191612@old.sge.org
SUMMARY:“Las últimas playas españolas del Pacífico: en busca de Kapingamarangi” con Lola Escudero.
DESCRIPTION:¿Puede haber un nombre más sugerente para un lugar que Kapingamarangi? Pues su situación y su curiosa historia añaden un poco más de exotismo si cabe a este aislado rincón del mundo. \nEste atolón situado al norte de Papúa Nueva Guinea alberga las que han podido ser las últimas playas españolas del Pacífico. En 1537\, un galeón español al mando de Hernando de Grijalva que iba de Filipinas a México avistó una serie de atolones en mitad del Pacífico\, entre ellos uno al que llamó Pescadores y que se supone es el actual Kapingamarangi\, aunque no hay ninguna certeza. No fue hasta 1686 cuando Francisco de Lezcano puso pie en tierra en la actual isla de Yap y llamó al archipiélago islas Carolinas\, en honor al rey Carlos II. Las Carolinas siguieron siendo parte –al menos nominalmente- del imperio español durante otros 213 años… \nTras el desastre del 98\, España vendió las Carolinas a Alemania por 25 millones de pesetas. De la fugaz presencia española en el Pacífico no se hubiera vuelto a hablar de no haber sido porque en 1948 el historiador español Emilio Pastor\, revisando el contrato de venta de las Carolinas a Alemania\, se percató de que los redactores habían olvidado poner en el acuerdo cuatro islotes minúsculos\, entre ellos Kapingamarangi\, que era el más alejado\, el más remoto y también el más habitado de los cuatro. Así pues\, y si Pastor llevaba razón\, Kapingamarangi pudo haber seguido siendo española hasta 1990\, cuando la ONU dio por finalizado el fideicomiso sobre todos esos territorios que tenía EEUU desde el final de la II Guerra Mundial. \nLola Escudero: Es miembro fundador de la Sociedad Geográfica Española y Secretaria General desde 2007. Forma parte también del Patronato de la Fundación Geográfica Española. \nEs la responsable de la organización de actividades\, proyectos y eventos de la SGE\, entre ellos los Premios Anuales. \nGeógrafa y periodista especializada en viajes y turismo\, actualmente es la Directora de Comunicación de Lonely Planet y GeoPlaneta\, y del Área ilustrada e institucional del Grupo Planeta. \nHa trabajado desde 1986 en el sector turístico\, como periodista especializada en diversos medios y experta en comunicación y gestión de proyectos culturales para museos\, empresas e instituciones. Ha publicado numerosos artículos y libros sobre viajes\, turismo e historia de la exploración y fue la coordinadora del Gran Atlas de los exploradores españoles de la Sociedad Geográfica (2009). \nTERTULIAS 2020:  \n500 aniversario de la primera travesía del Pacífico \nEl 27 de noviembre de 1520 la expedición capitaneada por Magallanes con destino a las Molucas avistaba por fin La Mar del Sur\, eso sí tras haber navegado 600 km de un laberíntico estrecho\, peleando contra grandes tempestades y escasez de víveres. \nLa flota doblaba\, pues\, el que denominaron cabo Deseado. El acontecimiento se celebró con salvas de cañón y Magallanes lloró de alegría\, “dando infinitas gracias a Dios que le había dejado hallar lo que tanto deseaba\, y que hubiese sido el primero que por aquella parte hubiese hallado el paso tan deseado”\, como escribió el cronista Herrera. \nEn su empeño de llegar a las islas de las especias\, y creyendo que estaban cerca\, Magallanes inicia la primera travesía de la\, entonces\, Mar del Sur: 18.000 km de un interminable viaje de tres meses y veinte días hasta llegar a Filipinas. Magallanes no tardó en dar el nombre de mar Pacífico por la ausencia de tormentas y las aguas en calma. \nCon motivo de esta efeméride viajera\, la SGE dirige la mirada en este 2020 a este lugar del mundo dedicando las tertulias viajeras mensuales a lugares bañados por el Pacífico: historia\, viajes actuales\, geografías que siguen sorprendiendo\, rincones del planeta casi vírgenes\, expediciones que estudian el impacto del hombre en sus aguas\, e historias de la Historia más que curiosas. \nMás información
URL:https://old.sge.org/evento/las-ultimas-playas-espanolas-del-pacifico-en-busca-de-kapingamarangi-con-lola-escudero/
CATEGORIES:Tertulias
ATTACH;FMTTYPE=image/png:https://old.sge.org/wp-content/uploads/2020/03/Imagen5.png
ORGANIZER;CN="Sociedad Geogr%C3%A1fica Espa%C3%B1ola":MAILTO:sge@sge.org
END:VEVENT
END:VCALENDAR