BEGIN:VCALENDAR
VERSION:2.0
PRODID:-//Sociedad Geográfica Española - ECPv6.10.3//NONSGML v1.0//EN
CALSCALE:GREGORIAN
METHOD:PUBLISH
X-ORIGINAL-URL:https://old.sge.org
X-WR-CALDESC:Eventos para Sociedad Geográfica Española
REFRESH-INTERVAL;VALUE=DURATION:PT1H
X-Robots-Tag:noindex
X-PUBLISHED-TTL:PT1H

BEGIN:VEVENT
DTSTART;TZID=Europe/Madrid:20260419T220751
DTEND;TZID=Europe/Madrid:20240521T110100
DTSTAMP:20260419T220751
CREATED:20240222T144155Z
LAST-MODIFIED:20240521T110212Z
UID:33751-0-1716289260@old.sge.org
SUMMARY:ALASKA\, LA LLAMADA DE LA NATURALEZA
DESCRIPTION:Diversidad geográfica y conexión con la Naturaleza\, en los confines del mundo habitado de Norteamérica\nAlaska es una península singular\, ubicada entre los océanos Ártico y Pacífico y en el límite noroccidental de Norteamérica que ofrece paisajes extremos. \nEs una tierra de extensas montañas\, glaciares\, bosques y tundra donde el frío y el hielo son las constantes que dirigen los paisajes y condicionan la presencia humana. Aúna el Ártico con su naturaleza salvaje -fauna\, montañas glaciadas\, extensos valles\, turberas\, tundra y taiga- y el desarrollo humano en ciudades y asentamientos -mineros\, militares\, pesqueros- esparcidos por su territorio y que en ocasiones han dejado una profunda huella. \nDe sur a norte se pueden admirar paisajes costeros modelados por el hielo\, con fiordos\, montañas y frentes glaciares sobre el mar que nos llevan a las montañas continentales\, los grandes espacios con las cumbres más altas y donde de nuevo alternan bosques y praderas con unos glaciares que muestran los rastros de su reciente retroceso sin perder la belleza del ártico. Más al norte\, los grandes ríos y sus llanuras dominan el paisaje\, caracterizado por la presencia de amplios bosques y el permafrost. Son extensas masas de coníferas que colonizan los sustratos helados. \n  \n\n 
URL:https://old.sge.org/evento/alaska-la-llamada-de-la-naturaleza/
CATEGORIES:Viajes
ATTACH;FMTTYPE=image/jpeg:https://old.sge.org/wp-content/uploads/2024/02/barth-bailey-DeNUFD4XcNA-unsplash.jpg
ORGANIZER;CN="Sociedad Geogr%C3%A1fica Espa%C3%B1ola":MAILTO:sge@sge.org
END:VEVENT
BEGIN:VEVENT
DTSTART;TZID=Europe/Madrid:20200601T104714
DTEND;TZID=Europe/Madrid:20200601T104714
DTSTAMP:20260419T220751
CREATED:20200302T103901Z
LAST-MODIFIED:20200601T104714Z
UID:19074-1591008434-1591008434@old.sge.org
SUMMARY:“Las islas de la geografía soñada: Nueva Zelanda” con Raúl Martín.
DESCRIPTION:Si un geógrafo tuviese carta blanca para diseñar un lugar de geografía soñada -con paisajes fantásticos\, casi increíbles-\, seguramente empezaría por localizarlo en las antípodas del mundo occidental\, justo al otro lado del sitio donde habitamos. Luego elegiría un conjunto de islas\, defendidas por infinitos y bravos océanos. Ubicadas en el límite de las placas tectónicas\, responsables de sus altas montañas y numerosos volcanes. Le daría un clima templado -entre la influencia de las regiones cálidas del norte y del frío de la poderosa Antártida\, al sur-\, para que existiesen bosques que recuerdan a selvas tropicales\, grandes glaciares en las montañas más altas y profundos fiordos en las costas\, labrados por el hielo en eras recientes. Aislaría esas islas del resto del mundo durante millones de años\, para que todos sus organismos hubiesen evolucionado de forma diferente a la del resto del planeta. Por último\, permitiría que el ser humano hubiese llegado a ellas hace apenas mil años -en una aventura marina extraordinaria incluso para nuestros días-\, para que desarrollasen en ella una cultura original y casi única. \nEse lugar existe. Y se llama Nueva Zelanda. \nRaúl Martín: Doctor en Geografía y especialista en paisajes fríos y de montaña. Ha impartido clases de ciencias medioambientales y de la tierra en universidades americanas durante casi diez años y actualmente es profesor de la Universidad Autónoma de Madrid. \nEs experto en glaciarismo y ambientes árticos y subárticos – a los que ha viajado en más de quince ocasiones. Es montañero y alpinista\, con actividades en numerosas montañas del mundo. \nEs uno de los geógrafos que realiza viajes geográficos en la SGE\, conoce muy a fondo a sus socios más activos y la opinión unánime de quienes han viajado con él o han ido a sus salidas de campo es su excelencia profesional y sobre todo su enorme calidad humana. Es un magnífico divulgador en conferencias tanto para adultos como para jóvenes y niños. Es autor de varios libros\, muchos de ellos relacionados con sus investigaciones en entornos árticos. \nTERTULIAS 2020:  \n500 aniversario de la primera travesía del Pacífico \nEl 27 de noviembre de 1520 la expedición capitaneada por Magallanes con destino a las Molucas avistaba por fin La Mar del Sur\, eso sí tras haber navegado 600 km de un laberíntico estrecho\, peleando contra grandes tempestades y escasez de víveres. \nLa flota doblaba\, pues\, el que denominaron cabo Deseado. El acontecimiento se celebró con salvas de cañón y Magallanes lloró de alegría\, “dando infinitas gracias a Dios que le había dejado hallar lo que tanto deseaba\, y que hubiese sido el primero que por aquella parte hubiese hallado el paso tan deseado”\, como escribió el cronista Herrera. \nEn su empeño de llegar a las islas de las especias\, y creyendo que estaban cerca\, Magallanes inicia la primera travesía de la\, entonces\, Mar del Sur: 18.000 km de un interminable viaje de tres meses y veinte días hasta llegar a Filipinas. Magallanes no tardó en dar el nombre de mar Pacífico por la ausencia de tormentas y las aguas en calma. \nCon motivo de esta efeméride viajera\, la SGE dirige la mirada en este 2020 a este lugar del mundo dedicando las tertulias viajeras mensuales a lugares bañados por el Pacífico: historia\, viajes actuales\, geografías que siguen sorprendiendo\, rincones del planeta casi vírgenes\, expediciones que estudian el impacto del hombre en sus aguas\, e historias de la Historia más que curiosas. \nMás información
URL:https://old.sge.org/evento/las-islas-de-la-geografia-sonada-nueva-zelanda-con-raul-martin/
LOCATION:Utópica\, Calle Conde de Peñalver 47\, Madrid\, 28006\, España
CATEGORIES:Tertulias
ATTACH;FMTTYPE=image/jpeg:https://old.sge.org/wp-content/uploads/2018/11/new-zealand-3021090.jpg
ORGANIZER;CN="Sociedad Geogr%C3%A1fica Espa%C3%B1ola":MAILTO:sge@sge.org
END:VEVENT
BEGIN:VEVENT
DTSTART;TZID=Europe/Madrid:20200625T220000
DTEND;TZID=Europe/Madrid:20200625T220000
DTSTAMP:20260419T220751
CREATED:20200309T113514Z
LAST-MODIFIED:20200625T081956Z
UID:19106-1593122400-1593122400@old.sge.org
SUMMARY:EL SUEÑO DE ÁFRICA. CON JAVIER REVERTE
DESCRIPTION:VIAJE A KENIA CON JAVIER REVERTE. \n“África tiene un aura especial y la tersura de un sueño infantil. África es también literaria\, quizás el más literario de todos los continentes. Desde luego ha sido el sueño tangible de muchos hombres durante muchos siglos y su halo de ensoñación sigue sin apagarse. África fue siempre un mito y\, en cierta medida\, continúa siéndolo. El carácter del mito ha cambiado a lo largo de los siglos\, pero su leyenda prosigue. Para los hombres de aquellos tiempos en los que no había mapas exactos y en los que la imaginación rellenaba los espacios vacíos de la geografía\, África se dibujaba como un territorio misterioso\, repleto de selvas\, ríos y lagos que habitaban fieras terribles\, y en los que también vivían tribus hostiles y sanguinarias. La Naturaleza indomeñable de las selvas era el símbolo exacto del fin de la civilización y de la muerte.” Javier Reverte. \nJAVIER REVERTE: EL ESCRITOR QUE VIAJA\, EL VIAJERO QUE ESCRIBE. Escritor\, viajero y periodista\, es el escritor de viajes más reconocido y conocido en nuestro país. Durante casi 30 años\, ejerció como corresponsal y enviado especial en numerosos países\, y entre unas cosas y otras\, lleva más de media vida viajando por el mundo. Referente imprescindible del género del relato de viajes\, ha publicado numerosos libros como “La trilogía de África”\, “La aventura de viajar. Historias de viajes extraordinarios”\, “Paisajes del Mundo”\, “Un otoño romano” y “Confines”\, además de novelas como “El tiempo de los héroes” y “Banderas en la niebla”. También ha escrito poemarios como “Metrópoli” y “Poemas africanos”. En 2010 fue galardonado con el Premio Fernando Lara por su novela Barrio Cero. Es miembro fundador de la Sociedad Geográfica Española. \n  \nINFORMACIÓN Y RESERVAS\nPlazo de inscripción abierto. \nInformación y reservas en sge@sge.org y en el teléfono 91 528 38 47 \n  \n\n  \n\n  \n 
URL:https://old.sge.org/evento/el-sueno-de-africa-con-javier-reverte/
CATEGORIES:Viajes
ATTACH;FMTTYPE=image/jpeg:https://old.sge.org/wp-content/uploads/2018/11/foto.jpg
END:VEVENT
BEGIN:VEVENT
DTSTART;VALUE=DATE:20200627
DTEND;VALUE=DATE:20200628
DTSTAMP:20260419T220751
CREATED:20190612T220020Z
LAST-MODIFIED:20200612T115234Z
UID:18084-1593216000-1593302399@old.sge.org
SUMMARY:PROGRAMA DE VISITAS A JARDINES 2019-2020 con la geógrafa Pilar Lacasta
DESCRIPTION:Pilar Lacasta es Profesora Titular de Geografía en la Universidad Autónoma de Madrid. Centra su investigación en la gran propiedad territorial y el paisaje desde hace muchos años\, fundamentalmente en la Comunidad de Madrid\, habiendo publicado varios libros y artículos para revistas científicas. \nHa trabajado en el Plan de Ordenación de los Recursos Naturales del Parque Nacional de la Sierra de Guadarrama\, formando parte del equipo que realizó el estudio de paisaje\, bajo la dirección del Catedrático de Geografía de la Universidad Autónoma de Madrid\, Eduardo Martínez de Pisón \nHa formado parte del equipo de investigación\, formado por geógrafos de varias universidades de España\, para la elaboración del Atlas Geográfico de España que dirigió la Universidad de Oviedo. \nHa formado parte del equipo de geógrafos de la Universidad Autónoma de Madrid encargado por la Comunidad de Madrid para la elaboración de un estudio que comprendiera el  análisis\, diagnóstico y evaluación de la calidad del paisaje de la Comunidad de Madrid para el establecimiento de criterios de protección y ordenación del territorio. \nHa trabajado en el proyecto de identificación\, delimitación\, caracterización y valoración de los paisajes agrarios de España\, junto con geógrafos de varias universidades de España. Trabajos que han salido a la luz en dos tomos del libro “Atlas de los Paisajes Agrarios de España”. \nCon las mismas universidades ha terminado este año otro proyecto sobre los Paisajes Patrimoniales de España que quedará plasmado en una nueva publicación. \nFormó parte de uno de los equipos de arquitectos y paisajistas que quedó finalista entre los 40 proyectos de distintos profesionales y estudios de arquitectura de todo el mundo que participaron en el Concurso Internacional de Ideas y Proyectos para la integración del Tajo en la ciudad de Toledo\, cuyo trabajo consistía en el análisis y valoración de las orillas del Tajo en el término municipal de Toledo y la elaboración de propuestas de restauración y ajardinamiento. \nHa formado parte del equipo de filólogos y geógrafos en un proyecto sobre el estudio de la toponimia de la provincia de Cuenca que culminó con la publicación “Etude des toponymes en rapport a la nature du sol. Le cas de l’expression de “bourbier”\, “marais” dans la province de Cuenca (Espagne)\, presentada en el Congrès Régional de Kyoto de 2013. \nEn la actualidad está jubilada\, aunque sigue dando clase en la Universidad de Mayores de la Universidad Autónoma de Madrid impartiendo un curso de Paisaje de la Comunidad de Madrid y otro sobre Naturaleza y Jardín. Hasta hace poco impartía clase también en el curso “Madrid Villa y Tierra: Rutas Histórico-Culturales” dentro de los programas de “Enseñanzas Propias de la UAM”. Colabora con la Universidad Carlos III haciendo Excursiones Geográficas por la Comunidad de Madrid y con la Universidad Autónoma de Madrid y la Sociedad Geográfica Española haciendo recorridos por Parques y Jardines. Tampoco ha abandonado su actividad investigadora tanto sobre Paisaje como sobre Jardines. \n\n\n\n\nMás información en sge@sge.org  o en el teléfono 91 528 38 47.
URL:https://old.sge.org/evento/programa-de-visitas-a-jardines-2019-2020-3/
CATEGORIES:Actividades,Senderismo
ATTACH;FMTTYPE=image/jpeg:https://old.sge.org/wp-content/uploads/2019/11/madridrio.jpg
END:VEVENT
END:VCALENDAR