BEGIN:VCALENDAR
VERSION:2.0
PRODID:-//Sociedad Geográfica Española - ECPv6.10.3//NONSGML v1.0//EN
CALSCALE:GREGORIAN
METHOD:PUBLISH
X-WR-CALNAME:Sociedad Geográfica Española
X-ORIGINAL-URL:https://old.sge.org
X-WR-CALDESC:Eventos para Sociedad Geográfica Española
REFRESH-INTERVAL;VALUE=DURATION:PT1H
X-Robots-Tag:noindex
X-PUBLISHED-TTL:PT1H

BEGIN:VEVENT
DTSTART;TZID=Europe/Madrid:20260420T043317
DTEND;TZID=Europe/Madrid:20240521T110100
DTSTAMP:20260420T043317
CREATED:20240222T144155Z
LAST-MODIFIED:20240521T110212Z
UID:33751-0-1716289260@old.sge.org
SUMMARY:ALASKA\, LA LLAMADA DE LA NATURALEZA
DESCRIPTION:Diversidad geográfica y conexión con la Naturaleza\, en los confines del mundo habitado de Norteamérica\nAlaska es una península singular\, ubicada entre los océanos Ártico y Pacífico y en el límite noroccidental de Norteamérica que ofrece paisajes extremos. \nEs una tierra de extensas montañas\, glaciares\, bosques y tundra donde el frío y el hielo son las constantes que dirigen los paisajes y condicionan la presencia humana. Aúna el Ártico con su naturaleza salvaje -fauna\, montañas glaciadas\, extensos valles\, turberas\, tundra y taiga- y el desarrollo humano en ciudades y asentamientos -mineros\, militares\, pesqueros- esparcidos por su territorio y que en ocasiones han dejado una profunda huella. \nDe sur a norte se pueden admirar paisajes costeros modelados por el hielo\, con fiordos\, montañas y frentes glaciares sobre el mar que nos llevan a las montañas continentales\, los grandes espacios con las cumbres más altas y donde de nuevo alternan bosques y praderas con unos glaciares que muestran los rastros de su reciente retroceso sin perder la belleza del ártico. Más al norte\, los grandes ríos y sus llanuras dominan el paisaje\, caracterizado por la presencia de amplios bosques y el permafrost. Son extensas masas de coníferas que colonizan los sustratos helados. \n  \n\n 
URL:https://old.sge.org/evento/alaska-la-llamada-de-la-naturaleza/
CATEGORIES:Viajes
ATTACH;FMTTYPE=image/jpeg:https://old.sge.org/wp-content/uploads/2024/02/barth-bailey-DeNUFD4XcNA-unsplash.jpg
ORGANIZER;CN="Sociedad Geogr%C3%A1fica Espa%C3%B1ola":MAILTO:sge@sge.org
END:VEVENT
BEGIN:VEVENT
DTSTART;TZID=Europe/Madrid:20200310T190000
DTEND;TZID=Europe/Madrid:20200310T210000
DTSTAMP:20260420T043317
CREATED:20200302T100430Z
LAST-MODIFIED:20200310T121752Z
UID:19065-1583866800-1583874000@old.sge.org
SUMMARY:"La primera travesía del Pacífico” con Lola Higueras.
DESCRIPTION:Esta gran aventura marítima se inicia el 10 de agosto de 1519\, cuando la flota española zarpa del puerto de Sevilla\, pero sus finalidades geográficas\, económicas y políticas\, tienen su origen mucho antes\, en la rivalidad de los dos grandes imperios marítimos de la época\, España y Portugal\, cuya gran ambición era alcanzar las islas Malucas donde se cultivaban las “especias”\, más valiosas que el oro en esa época. El reto estaba en dominar estas lejanas islas y controlar el comercio de estos productos naturales. \nEl viaje a partir del paso del estrecho de Magallanes supuso algo más que un hito histórico: era la primera vez que los europeos atravesaban el Pacífico\, y descubrían de verdad su inmensidad\, pero a su vez inició una revolución cartográfica y una nueva era para el comercio y globalización mundial. \nLola Higueras\, es Vicepresidenta de la SGE\, Historiadora y especialista en Historia Naval y Arqueología Subacuática. Ha sido Directora Técnica del Museo Naval de Madrid\, ha desarrollado también una intensa labor\, tanto en la Junta Nacional de Arqueología Submarina como en el Centro de estudios Históricos-Navales Subacuáticos que dirigió desde su creación hasta 2005. Fue la primera mujer submarinista de la Armada (1970). Ha destacado notablemente por la investigación y divulgación de la historia de los descubrimientos geográficos y en particular la historia de la marina ilustrada y los viajes científicos-marítimos a América y el Pacífico en el siglo XVIII. Ha trabajado también en la investigación y divulgación del rico patrimonio sumergido español. Ha publicado más de 60 libros y artículos y ha comisariado relevantes exposiciones e impartido centenares de conferencias. Forma parte de numerosas sociedades e instituciones profesionales\, como la “Nautical Archaelogy Society” de Londres; la “Society for Nautical Research” inglesa o el “San Salvador Advisory Committee for the San Diego Maritime Museum” de California. En 1980 fue nombrada Buceadora de Honor” por el Centro de Buceo de la Armada Española que la ha distinguido también con dos Cruces del Mérito Naval. \n  \nTERTULIAS 2020:  \n500 aniversario de la primera travesía del Pacífico \nEl 27 de noviembre de 1520 la expedición capitaneada por Magallanes con destino a las Molucas avistaba por fin La Mar del Sur\, eso sí tras haber navegado 600 km de un laberíntico estrecho\, peleando contra grandes tempestades y escasez de víveres. \nLa flota doblaba\, pues\, el que denominaron cabo Deseado. El acontecimiento se celebró con salvas de cañón y Magallanes lloró de alegría\, “dando infinitas gracias a Dios que le había dejado hallar lo que tanto deseaba\, y que hubiese sido el primero que por aquella parte hubiese hallado el paso tan deseado”\, como escribió el cronista Herrera. \nEn su empeño de llegar a las islas de las especias\, y creyendo que estaban cerca\, Magallanes inicia la primera travesía de la\, entonces\, Mar del Sur: 18.000 km de un interminable viaje de tres meses y veinte días hasta llegar a Filipinas. Magallanes no tardó en dar el nombre de mar Pacífico por la ausencia de tormentas y las aguas en calma. \nCon motivo de esta efeméride viajera\, la SGE dirige la mirada en este 2020 a este lugar del mundo dedicando las tertulias viajeras mensuales a lugares bañados por el Pacífico: historia\, viajes actuales\, geografías que siguen sorprendiendo\, rincones del planeta casi vírgenes\, expediciones que estudian el impacto del hombre en sus aguas\, e historias de la Historia más que curiosas. \nMás información
URL:https://old.sge.org/evento/la-primera-travesia-del-pacifico-con-lola-higueras/
LOCATION:Utópica\, Calle Conde de Peñalver 47\, Madrid\, 28006\, España
CATEGORIES:Actividades,Tertulias
ATTACH;FMTTYPE=image/jpeg:https://old.sge.org/wp-content/uploads/2020/03/ortelius.jpg
ORGANIZER;CN="Sociedad Geogr%C3%A1fica Espa%C3%B1ola":MAILTO:sge@sge.org
END:VEVENT
BEGIN:VEVENT
DTSTART;TZID=Europe/Madrid:20200318T094540
DTEND;TZID=Europe/Madrid:20200318T094540
DTSTAMP:20260420T043317
CREATED:20191119T155426Z
LAST-MODIFIED:20200318T094539Z
UID:18141-1584524740-1584524740@old.sge.org
SUMMARY:"MARRAKECH A TRAVÉS DE SUS JARDINES" con Pilar Lacasta
DESCRIPTION:Marrakech es conocida como al-Bahya “la ciudad que alegra el corazón”\, acepción conseguida gracias a los jardines y espacios verdes que alberga. Desde su fundación por los almorávides a principios del siglo XII y\, sobre todo gracias a los impresionantes trabajos de ingeniería hidráulica llevados a cabo por los almohades que consiguieron conducir el agua desde el Atlas\, la zona desértica donde se asentó la ciudad\, devino en un vergel con sus jardines reales\, sus riads\, etc. \nHasta hace pocos años\, la ciudad conservaba más de setenta zonas ajardinadas\, pero el importante crecimiento urbano llevado a cabo desde mediados del siglo XX se ha realizado a costa de muchos espacios verdes. Aun así\, existe un gran interés por recuperar jardines históricos e incrementar tanto los parques como las calles arboladas. \nEn este viaje visitaremos siete jardines que reúnen las características de los antiguos jardines islámicos y las novedades de la jardinería actual\, presente tanto en riads como en parques públicos. \nAcompañará el viaje Pilar Lacasta\, Profesora Titular de Geografía en la Universidad Autónoma de Madrid y miembro de la SGE. \n\n\nINFORMACIÓN Y RESERVAS\nPlazo de inscripción abierto. \nInformación y reservas en sge@sge.org y en el teléfono 91 528 38 47 \n 
URL:https://old.sge.org/evento/marrakech-a-traves-de-sus-jardines-con-pilar-lacasta/
CATEGORIES:Viajes
ATTACH;FMTTYPE=image/jpeg:https://old.sge.org/wp-content/uploads/2018/11/yves-saint-laurent-adquirio-comenzo.jpeg
END:VEVENT
BEGIN:VEVENT
DTSTART;TZID=Europe/Madrid:20200318T094810
DTEND;TZID=Europe/Madrid:20200318T094810
DTSTAMP:20260420T043317
CREATED:20200117T124318Z
LAST-MODIFIED:20200318T094810Z
UID:18928-1584524890-1584524890@old.sge.org
SUMMARY:"MARRAKECH A TRAVÉS DE SUS JARDINES" con Pilar Lacasta
DESCRIPTION:Debido al gran éxito de su primera edición\, la SGE propone una 2ª visita del 25 al 28 de mayo del 2020. \nMarrakech es conocida como al-Bahya “la ciudad que alegra el corazón”\, acepción conseguida gracias a los jardines y espacios verdes que alberga. Desde su fundación por los almorávides a principios del siglo XII y\, sobre todo gracias a los impresionantes trabajos de ingeniería hidráulica llevados a cabo por los almohades que consiguieron conducir el agua desde el Atlas\, la zona desértica donde se asentó la ciudad\, devino en un vergel con sus jardines reales\, sus riads\, etc. \nHasta hace pocos años\, la ciudad conservaba más de setenta zonas ajardinadas\, pero el importante crecimiento urbano llevado a cabo desde mediados del siglo XX se ha realizado a costa de muchos espacios verdes. Aun así\, existe un gran interés por recuperar jardines históricos e incrementar tanto los parques como las calles arboladas. \nEn este viaje visitaremos siete jardines que reúnen las características de los antiguos jardines islámicos y las novedades de la jardinería actual\, presente tanto en riads como en parques públicos. \nAcompañará el viaje Pilar Lacasta\, Profesora Titular de Geografía en la Universidad Autónoma de Madrid y miembro de la SGE. \n\n\nINFORMACIÓN Y RESERVAS\nPlazo de inscripción abierto. \nInformación y reservas en sge@sge.org y en el teléfono 91 528 38 47
URL:https://old.sge.org/evento/marrakech-a-traves-de-sus-jardines-con-pilar-lacasta-2/
CATEGORIES:Viajes
ATTACH;FMTTYPE=image/jpeg:https://old.sge.org/wp-content/uploads/2018/11/yves-saint-laurent-adquirio-comenzo.jpeg
END:VEVENT
BEGIN:VEVENT
DTSTART;TZID=Europe/Madrid:20200318T094943
DTEND;TZID=Europe/Madrid:20200318T094943
DTSTAMP:20260420T043317
CREATED:20191119T161753Z
LAST-MODIFIED:20200318T094943Z
UID:18164-1584524983-1584524983@old.sge.org
SUMMARY:BAIKAL\, EL “OJO AZUL DE SIBERIA”. Viaje a Siberia con el geógrafo Pedro Nicolás
DESCRIPTION:Pocas veces se puede afirmar rotundamente que se está en un lugar único de la Tierra. \nSi bien es cierto que todos los lugares son únicos por pequeños matices\, y esa es una de las virtudes de nuestra Tierra\, sin duda hay unos cuantos enclaves especiales en los que dicha afirmación adquiere toda su relevancia y profundidad. Son los lugares escogidos del planeta. \nUno de estos lugares\, sin ninguna duda\, es el lago Baikal. \nEn esta inmensa superficie de agua dulce en medio de la Siberia meridional\, se dan cita una serie de circunstancias que determinan que el lago y su entorno\, lo que supone un inmenso territorio\, tenga rasgos diferentes a cualquier otro espacio terrestre. \nLas circunstancias concurrentes para ese hecho son la geología que origina la depresión en la que se ubica el lago; sus grandes dimensiones; su ubicación en una latitud bastante septentrional; su orientación meridiana; su continentalidad; el clima o climas dominantes; su profundo aislamiento hasta tiempos bastante recientes y la escasa población que lo habita. \nAcompañará el viaje Pedro Nicolás\, geógrafo\, alpinista y miembro de la SGE. \n  \nINFORMACIÓN Y RESERVAS\nPlazo de inscripción abierto. \nInformación y reservas en sge@sge.org y en el teléfono 91 528 38 47 \n\n\n  \n 
URL:https://old.sge.org/evento/baikal-el-ojo-azul-de-siberia-viaje-a-siberia-con-el-geografo-pedro-nicolas/
CATEGORIES:Viajes
ATTACH;FMTTYPE=image/jpeg:https://old.sge.org/wp-content/uploads/2018/11/baikal.jpg
END:VEVENT
END:VCALENDAR