BEGIN:VCALENDAR
VERSION:2.0
PRODID:-//Sociedad Geográfica Española - ECPv6.10.3//NONSGML v1.0//EN
CALSCALE:GREGORIAN
METHOD:PUBLISH
X-ORIGINAL-URL:https://old.sge.org
X-WR-CALDESC:Eventos para Sociedad Geográfica Española
REFRESH-INTERVAL;VALUE=DURATION:PT1H
X-Robots-Tag:noindex
X-PUBLISHED-TTL:PT1H

BEGIN:VEVENT
DTSTART;TZID=Europe/Madrid:20260420T100707
DTEND;TZID=Europe/Madrid:20240521T110100
DTSTAMP:20260420T100707
CREATED:20240222T144155Z
LAST-MODIFIED:20240521T110212Z
UID:33751-0-1716289260@old.sge.org
SUMMARY:ALASKA\, LA LLAMADA DE LA NATURALEZA
DESCRIPTION:Diversidad geográfica y conexión con la Naturaleza\, en los confines del mundo habitado de Norteamérica\nAlaska es una península singular\, ubicada entre los océanos Ártico y Pacífico y en el límite noroccidental de Norteamérica que ofrece paisajes extremos. \nEs una tierra de extensas montañas\, glaciares\, bosques y tundra donde el frío y el hielo son las constantes que dirigen los paisajes y condicionan la presencia humana. Aúna el Ártico con su naturaleza salvaje -fauna\, montañas glaciadas\, extensos valles\, turberas\, tundra y taiga- y el desarrollo humano en ciudades y asentamientos -mineros\, militares\, pesqueros- esparcidos por su territorio y que en ocasiones han dejado una profunda huella. \nDe sur a norte se pueden admirar paisajes costeros modelados por el hielo\, con fiordos\, montañas y frentes glaciares sobre el mar que nos llevan a las montañas continentales\, los grandes espacios con las cumbres más altas y donde de nuevo alternan bosques y praderas con unos glaciares que muestran los rastros de su reciente retroceso sin perder la belleza del ártico. Más al norte\, los grandes ríos y sus llanuras dominan el paisaje\, caracterizado por la presencia de amplios bosques y el permafrost. Son extensas masas de coníferas que colonizan los sustratos helados. \n  \n\n 
URL:https://old.sge.org/evento/alaska-la-llamada-de-la-naturaleza/
CATEGORIES:Viajes
ATTACH;FMTTYPE=image/jpeg:https://old.sge.org/wp-content/uploads/2024/02/barth-bailey-DeNUFD4XcNA-unsplash.jpg
ORGANIZER;CN="Sociedad Geogr%C3%A1fica Espa%C3%B1ola":MAILTO:sge@sge.org
END:VEVENT
BEGIN:VEVENT
DTSTART;VALUE=DATE:20191214
DTEND;VALUE=DATE:20191215
DTSTAMP:20260420T100707
CREATED:20191118T230058Z
LAST-MODIFIED:20191129T101744Z
UID:18069-1576281600-1576367999@old.sge.org
SUMMARY:Recorrido por los jardines históricos del centro de la ciudad con la geógrafa Pilar Lacasta
DESCRIPTION:En esta ocasión haremos un recorrido por algunos de los jardines del centro histórico de la capital: Jardines del Palacio de Anglona\, Huerto de las Monjas\, Plaza de Oriente y Jardines de Sabatini. \nJardines de origen aristocrático\, monástico o procedentes de grandes reformas urbanas. Hablaremos de su historia\, su trazado y su futuro ligado a las nuevas reformas. \nPilar Lacasta es Profesora Titular de Geografía en la Universidad Autónoma de Madrid. Centra su investigación en la gran propiedad territorial y el paisaje desde hace muchos años\, fundamentalmente en la Comunidad de Madrid\, habiendo publicado varios libros y artículos para revistas científicas. \nEntre otras muchas cosas\, ha formado parte del equipo de geógrafos de la Universidad Autónoma de Madrid encargado por la Comunidad de Madrid para la elaboración de un estudio que comprendiera el  análisis\, diagnóstico y evaluación de la calidad del paisaje de la Comunidad de Madrid para el establecimiento de criterios de protección y ordenación del territorio. \nEn la actualidad está jubilada\, aunque sigue dando clase en la Universidad de Mayores de la Universidad Autónoma de Madrid impartiendo un curso de Paisaje de la Comunidad de Madrid y otro sobre Naturaleza y Jardín. Hasta hace poco impartía clase también en el curso “Madrid Villa y Tierra: Rutas Histórico-Culturales” dentro de los programas de “Enseñanzas Propias de la UAM”. Colabora con la Universidad Carlos III haciendo Excursiones Geográficas por la Comunidad de Madrid y con la Universidad Autónoma de Madrid y la Sociedad Geográfica Española haciendo recorridos por Parques y Jardines. Tampoco ha abandonado su actividad investigadora tanto sobre Paisaje como sobre Jardines. \n\n\n\n\nMás información en sge@sge.org  o en el teléfono 91 528 38 47.
URL:https://old.sge.org/evento/programa-visitas-jardines-2019-2020/
CATEGORIES:Actividades,Senderismo
ATTACH;FMTTYPE=image/jpeg:https://old.sge.org/wp-content/uploads/2019/11/madridrio.jpg
END:VEVENT
BEGIN:VEVENT
DTSTART;TZID=Europe/Madrid:20191218T193000
DTEND;TZID=Europe/Madrid:20191218T210000
DTSTAMP:20260420T100707
CREATED:20191202T110806Z
LAST-MODIFIED:20191210T152802Z
UID:18656-1576697400-1576702800@old.sge.org
SUMMARY:Ciclo de conferencias II Semana Vasca de la Exploración
DESCRIPTION:Con motivo de la II Semana Vasca de la Exploración organizada por la Sociedad Geográfica La Exploradora\, Sociedad Geográfica Española y Círculo Vitoriano\, se celebrará en la sala de proyecciones del Círculo Vitoriano un ciclo de conferencias durante los días 18 y 19 de diciembre \nLa primera cita será el miércoles 18 de diciembre de 2019\, a las 19:30 h.\, con Lola Higueras\, hispanista\, historiadora naval\, Vicepresidenta de la Sociedad Geográfica Española y exdirectora del Museo Naval de Madrid\, que nos hablará sobre la expedición de Magallanes-Elcano aprovechando el 500 aniversario de su marcha. \nLa conferencia con el título “500 años de la primera circunnavegación a La Tierra” nos contará cómo dio comienzo la Expedición española al Maluco que\, por azar del destino\, acabó culminando la Primera Vuelta al Mundo\, una de las más importantes gestas de la historia marítima española\, que tuvo\, como veremos\, repercusión mundial.  Esta gran aventura marítima se inició el 10 de agosto de 1519\, cuando la flota española zarpa del puerto de Sevilla\, pero su origen y sus finalidades geográficas\, económicas y políticas\, tienen su origen mucho antes\, en la rivalidad de los dos grandes imperios marítimos de la época\, España y Portugal\, cuya gran ambición era alcanzar las islas Malucas donde se cultivaban las” especias”\, más valiosas que el oro en esa época. El reto estaba en dominar estas lejanas islas y controlar el comercio de estos productos naturales. \n\nENTRADA LIBRE HASTA COMPLETAR AFORO.
URL:https://old.sge.org/evento/ciclo-de-conferencias/
LOCATION:Círculo Vitoriano\, Eduardo Dato Kalea\, 6 01005\, Vitoria-Gasteiz\, Araba\, España
CATEGORIES:Conferencias
ATTACH;FMTTYPE=image/jpeg:https://old.sge.org/wp-content/uploads/2019/12/nao-victoria.jpg
END:VEVENT
BEGIN:VEVENT
DTSTART;TZID=Europe/Madrid:20191219T000000
DTEND;TZID=Europe/Madrid:20191219T235900
DTSTAMP:20260420T100707
CREATED:20191202T103714Z
LAST-MODIFIED:20191204T164501Z
UID:18646-1576713600-1576799940@old.sge.org
SUMMARY:Exposición "Conocer lo Desconocido"
DESCRIPTION:Con motivo de la II Semana Vasca de la Exploración organizada por la Sociedad Geográfica La Exploradora\, la Sociedad Geográfica Española y el Círculo Vitoriano\, tendrá lugar desde el jueves 19 de diciembre de 2019\, en la planta baja del Círculo Vitoriano\, una exposición titulada “Conocer lo Desconocido”. \nLa muestra constará de fotografías realizadas por Rafael Gutiérrez Garitano durante las expediciones llevadas a cabo por los miembros de La Exploradora a Perú\, Sáhara\, Irak\, Ártico\, etc. \nAsimismo habrá una pequeña muestra de objetos históricos sobre el explorador Manuel Iradier y Bulfi de la colección de La Exploradora. \n\n 
URL:https://old.sge.org/evento/exposicion-conocer-lo-desconocido/
CATEGORIES:Visitas a museos
ATTACH;FMTTYPE=image/jpeg:https://old.sge.org/wp-content/uploads/2017/04/donaciones.jpg
ORGANIZER;CN="C%C3%ADrculo Vitoriano":MAILTO:administracion@circulovitoriano.org
END:VEVENT
BEGIN:VEVENT
DTSTART;TZID=Europe/Madrid:20191219T193000
DTEND;TZID=Europe/Madrid:20191219T210000
DTSTAMP:20260420T100707
CREATED:20191202T143627Z
LAST-MODIFIED:20191210T152555Z
UID:18701-1576783800-1576789200@old.sge.org
SUMMARY:Ciclo de conferencias II Semana Vasca de la Exploración
DESCRIPTION:Siguiendo con la II Semana Vasca de la Exploración organizada por la Sociedad Geográfica La Exploradora\, Sociedad Geográfica Española y Círculo Vitoriano\, se celebrará en la sala de proyecciones del Círculo Vitoriano un ciclo de conferencias durante los días 18 y 19 de diciembre \nLa segunda cita\, será el jueves 19 de diciembre de 2019\, a las 19:30 h.\, con la conferencia  “Recuperación de las expresiones arqueológicas del Sahara Occidental: del deber con el patrimomio de la humanidad a la construcción renovada de la historia del territorio”. Correrá a cargo de Andoni Sáenz de Buruaga\, profesor de Prehistoria de la Universidad del País Vasco\, premio Manuel Iradier 2018 al proyecto científico viajero. En ella nos hablará de sus dos décadas de expediciones a la región del Tiris en Sahara Occidental\, donde ha descubierto más de mil yacimientos arqueológicos. \nENTRADA LIBRE HASTA COMPLETAR AFORO.
URL:https://old.sge.org/evento/ciclo-de-conferencias-ii-semana-vasca-de-la-exploracion/
LOCATION:Círculo Vitoriano\, Eduardo Dato Kalea\, 6 01005\, Vitoria-Gasteiz\, Araba\, España
CATEGORIES:Conferencias
ATTACH;FMTTYPE=image/jpeg:https://old.sge.org/wp-content/uploads/2019/12/nao-victoria.jpg
END:VEVENT
BEGIN:VEVENT
DTSTART;TZID=Europe/Madrid:20191220T193000
DTEND;TZID=Europe/Madrid:20191220T213000
DTSTAMP:20260420T100707
CREATED:20191202T112838Z
LAST-MODIFIED:20191210T152328Z
UID:18661-1576870200-1576877400@old.sge.org
SUMMARY:Medallas La Exploradora y Premios Manuel Iradier
DESCRIPTION:Como broche final a la II Semana Vasca de la Exploración organizada por la Sociedad Geográfica La Exploradora\, la Sociedad Geográfica Española y el Círculo Vitoriano\, el próximo viernes 20 de diciembre de 2019\, a las 19:30 h.\, en la sala de proyecciones del Círculo Vitoriano se hará entrega de las medallas La Exploradora y los trofeos del premio Manuel Iradier. El acto estará precedido por dos audiovisuales sobre sus respectivas expediciones a cargo de los exploradores Diego Cortijo y Alex Galán. \n  \nPREMIADOS:  \n\nMedalla  de Honor de La Exploradora-La Exploradora Elkarte Geografikoa: se entrega a aquellos que han destacado por sus méritos y\, por su trayectoria\, han colaborado en algún momento con La Exploradora.\nDiego Cortijo\, explorador de la Sociedad Geográfica Española\, realizador\, fotógrafo de viajes.\nCristina Morató\, escritora y miembro de la Sociedad Geográfica Española.\nTeresa Bedman y Francisco José Martín Valentín\, egiptólogos y codirectores del Proyecto Visir Amen-Hotep Huy que se desarrolla en luxor y del Instituto de Estudios del Antiguo Egipto.\nPremio Manuel  Iradier a la Comunicación\nVirginia Mendoza\, periodista\, escritora\, escritora de viajes. Ha escrito libros sobre la vida en el entorno rural y sobre culturas poco conocidas como la Armenia. Biógrafa de mujeres viajeras y científicas.\nPremio Manuel Iradier al Proyecto Científico\nAna Inés de Castro\, Catedrática de Astronomía y Astrofísica de la Facultad de Ciencias Matemáticas de la Universidad Complutense de Madrid. Directora Científica del proyecto World-Space Observatory-Ultraviolet (WSO-UV) en España.  Estudia los procesos hidromagnéticos que participan en la formación de las estrellas y los sistemas planetarios.\nPremio Manuel Iradier a la Cooperación\nJosé María García Calleja\, médico\, epidemiólogo jubilado de la OMS experto en el VIH. Ha trabajado en países como Afganistán\, Guinea Ecuatorial\, Zambia\, Liberia\, Sudán\, etc. Miembro de La Exploradora.\nPremio Manuel Iradier a la Empresa\nEduardo Anitua Aldecoa\, médico especializado en Estomatología\, Director del BTI Biotecnology Institute. Volcado en proyectos de investigación y desarrollo que le han aupado a la celebridad mundial e impulsor asimismo de proyectos viajeros.\nMedalla La Exploradora al Viaje del Año 2018\nAlex Galán\, aventurero\, realizador y explorador. Por la expedición de 2108 siguiendo los acuíferos que alimentan el mar de Aral\, denunciando así el desastre ecológico que acabó con este.\nMedalla La Exploradora a la trayectoria viajera\nMiyuki Okabe y Eneko Etxebarrieta\, por sus viajes durante varios años en bicicleta y en tándem\, cruzando América y alrededor del globo.\nMedalla La Exploradora Sociedades Geográficas\nManuel José Carpintero Manzanares\, Presidente de la Sociedad Astronómica y Geográfica de Ciudad Real y experto explorador. Por su labor proselitista en torno a valores científicos y geográficos.\nPremio Jóvenes Exploradores\nTerminaremos el acto entregando a nuestros jóvenes exploradores de La Exploradora\, Beñat Basarrate y Eva Díaz\, un merecido premio por sus experiencias y navegaciones en las costas groenlandesa\, africana y española.\n\n  \nENTRADA LIBRE HASTA COMPLETAR AFORO \n  \n\n 
URL:https://old.sge.org/evento/medallas-la-exploradora-y-premios-manuel-iradier/
LOCATION:Círculo Vitoriano\, Eduardo Dato Kalea\, 6 01005\, Vitoria-Gasteiz\, Araba\, España
CATEGORIES:Presentaciones
ATTACH;FMTTYPE=image/jpeg:https://old.sge.org/wp-content/uploads/2017/04/donaciones.jpg
END:VEVENT
END:VCALENDAR