BEGIN:VCALENDAR
VERSION:2.0
PRODID:-//Sociedad Geográfica Española - ECPv6.10.3//NONSGML v1.0//EN
CALSCALE:GREGORIAN
METHOD:PUBLISH
X-WR-CALNAME:Sociedad Geográfica Española
X-ORIGINAL-URL:https://old.sge.org
X-WR-CALDESC:Eventos para Sociedad Geográfica Española
REFRESH-INTERVAL;VALUE=DURATION:PT1H
X-Robots-Tag:noindex
X-PUBLISHED-TTL:PT1H

BEGIN:VEVENT
DTSTART;TZID=Europe/Madrid:20260422T103933
DTEND;TZID=Europe/Madrid:20240521T110100
DTSTAMP:20260422T103933
CREATED:20240222T144155Z
LAST-MODIFIED:20240521T110212Z
UID:33751-0-1716289260@old.sge.org
SUMMARY:ALASKA\, LA LLAMADA DE LA NATURALEZA
DESCRIPTION:Diversidad geográfica y conexión con la Naturaleza\, en los confines del mundo habitado de Norteamérica\nAlaska es una península singular\, ubicada entre los océanos Ártico y Pacífico y en el límite noroccidental de Norteamérica que ofrece paisajes extremos. \nEs una tierra de extensas montañas\, glaciares\, bosques y tundra donde el frío y el hielo son las constantes que dirigen los paisajes y condicionan la presencia humana. Aúna el Ártico con su naturaleza salvaje -fauna\, montañas glaciadas\, extensos valles\, turberas\, tundra y taiga- y el desarrollo humano en ciudades y asentamientos -mineros\, militares\, pesqueros- esparcidos por su territorio y que en ocasiones han dejado una profunda huella. \nDe sur a norte se pueden admirar paisajes costeros modelados por el hielo\, con fiordos\, montañas y frentes glaciares sobre el mar que nos llevan a las montañas continentales\, los grandes espacios con las cumbres más altas y donde de nuevo alternan bosques y praderas con unos glaciares que muestran los rastros de su reciente retroceso sin perder la belleza del ártico. Más al norte\, los grandes ríos y sus llanuras dominan el paisaje\, caracterizado por la presencia de amplios bosques y el permafrost. Son extensas masas de coníferas que colonizan los sustratos helados. \n  \n\n 
URL:https://old.sge.org/evento/alaska-la-llamada-de-la-naturaleza/
CATEGORIES:Viajes
ATTACH;FMTTYPE=image/jpeg:https://old.sge.org/wp-content/uploads/2024/02/barth-bailey-DeNUFD4XcNA-unsplash.jpg
ORGANIZER;CN="Sociedad Geogr%C3%A1fica Espa%C3%B1ola":MAILTO:sge@sge.org
END:VEVENT
BEGIN:VEVENT
DTSTART;TZID=Europe/Madrid:20191101T080000
DTEND;TZID=Europe/Madrid:20191115T170000
DTSTAMP:20260422T103933
CREATED:20191031T230006Z
LAST-MODIFIED:20191119T133518Z
UID:17298-1572595200-1573837200@old.sge.org
SUMMARY:EN BUSCA DEL CONTINENTE PERDIDO: MADAGASCAR\, UN MUNDO APARTE
DESCRIPTION:La isla de las especias\, el lugar donde nacen la vainilla y la canela\, ofrece multitud de paisajes diferentes\, como la altiplanicie central\, los bosques lluviosos de la Costa este\, los manglares\, los Tsingy\, macizos de caliza formados de miles de años de erosiones\, el camino de Baobabs en Menabe o el Canal de Pangalanes en la costa Este. El Sur aporta un paisaje desértico de grandes espacios y el norte\, escenarios volcánicos junto a densos bosques tropicales. Nosy Be o Santa María son lagunas de sus más bellas islas\, donde aún se respira la herencia colonial portuguesa entre playas paradisíacas\, avistamientos de delfines y ballenas y cementerios piratas. Los más apasionados de la fauna encontrarán un colorido abanico de especies propias: ranas de colores imposibles\, más de 30 tipos de camaleones y cariñosos lémures nos esperarán en cualquier rincón de la isla\, desde Isalo hasta Ankarafantsika\, junto a otras singularidades como el geco diurno\, la boa de Madagascar o diferentes tipos de tortugas. \nUn auténtico viaje por un mundo perdido y recuperado\, por millones de años de naturaleza\,  por dieciséis siglos de historia entre dos continentes y por una riqueza peculiar definida tan solo por el capricho de la geografía.\n\n\n\nEMMA LIRA\n\nEs periodista por la Universidad Complutense de Madrid y se estrenó en el antiguo Diario16. Viajera vocacional\, es una apasionada de la arqueología y gran conocedora de la cultura árabe y la historia de las religiones. En 2013 fue finalista del Premio Lara con su primera novela\, Tras el Agua Grande. Dio el salto al mundo del relato largo con la publicación de Búscame donde nacen los Dragos (Plaza y Janés\, 2013) y Lo que esconden las olas (Plaza y Janés\, 2015). En la actualidad\, redacta guías de viaje para Lonely Planet\, colabora con National Geographic\, es miembro de la Sociedad Geográfica Española y ejerce como guía en destinos africanos como Etiopía\, Marruecos o Madagascar.\n\n\n\n\nOrganización técnica: Utópica Travel\n\n\n\n\n  DESCARGAR EL PROGRAMA
URL:https://old.sge.org/evento/en-busca-del-continente-perdido-madagascar-un-mundo-aparte/
CATEGORIES:Viajes
ATTACH;FMTTYPE=image/jpeg:https://old.sge.org/wp-content/uploads/2018/12/2.jpg
END:VEVENT
BEGIN:VEVENT
DTSTART;TZID=Europe/Madrid:20191114T190000
DTEND;TZID=Europe/Madrid:20191114T210000
DTSTAMP:20260422T103933
CREATED:20191114T180029Z
LAST-MODIFIED:20191119T133452Z
UID:17347-1573758000-1573765200@old.sge.org
SUMMARY:VIAJES EN TREN Y NOVELA NEGRA\, UNA ATRACCIÓN FATAL: ASESINATOS SOBRE RAILES.
DESCRIPTION:La literatura y el tren resultan inseparables a lo largo de la historia de los últimos ciento cincuenta años\, y en particular la novela negra\, que ha encontrado en los trenes un escenario perfecto para desarrollar tramas intrigantes en un reducido espacio. A través de las páginas de grandes escritores\, como Agatha Christie o Patricia Highsmith se descubren tramas intrigantes y las insospechadas relaciones que se pueden establecer en un viaje en tren. Autora estrella de este particular género “noir sobre raíles” fue Agatha Christie\, viajera y arqueóloga\, que desarrolló sus más intrigantes tramas detectivescas en trenes\, desde el Orient Express al Tren Azul o los cotidianos trenes ingleses\, tan presentes en la mayor parte de sus obras. \n\nLola Escudero es miembro fundador de la SGE y Secretaria General desde 200x. Forma parte también del Patronato de la Fundación Geográfica Española. Es la responsable de la organización de actividades\, proyectos y eventos de la SGE\, entre ellos los Premios Anuales. Geógrafa y periodista especializada en viajes y turismo\, actualmente es la Directora de Comunicación de Lonely Planet y GeoPlaneta\, y del Área ilustrada e institucional del Grupo Planeta. Ha trabajado desde 1986 en el sector turístico\, como periodista especializada en diversos medios y experta en comunicación y gestión de proyectos culturales para museos\, empresas e instituciones. Ha publicado numerosos artículos y libros sobre viajes\, turismo e historia de la exploración y fue la coordinadora del Gran Atlas de los exploradores españoles de la SGE (2009).
URL:https://old.sge.org/evento/la-gran-aventura-del-tren-ciclo-de-conferencias-5/
LOCATION:Utópica\, Calle Conde de Peñalver 47\, Madrid\, 28006\, España
CATEGORIES:Conferencias,Tertulias
ATTACH;FMTTYPE=image/jpeg:https://old.sge.org/wp-content/uploads/2019/04/41IrkzHv9IL._SX320_BO1204203200_.jpg
END:VEVENT
BEGIN:VEVENT
DTSTART;VALUE=DATE:20191120
DTEND;VALUE=DATE:20191121
DTSTAMP:20260422T103933
CREATED:20191117T230044Z
LAST-MODIFIED:20191119T181903Z
UID:18048-1574208000-1574294399@old.sge.org
SUMMARY:VISITA EXCLUSIVA PARA SOCIOS A LA EXPOSICIÓN: "Fuimos los primeros. Magallanes\, Elcano y la vuelta al mundo"
DESCRIPTION:Visita guiada por José María Moreno Martín\, uno de los comisarios de la exposición. \nLa muestra se inscribe en los actos programados para la celebración del V Centenario de la expedición de la Primera Vuelta al Mundo. A través de los módulos en que se articula la muestra\, se destaca la trascendencia de esa expedición culminada por la Corona de España\, con sus consiguientes repercusiones internacionales\, a corto y largo plazo\, de tipo naval\, científico\, geográfico\, astronómico\, diplomático\, económico.. Asimismo\, se pone en relieve el valor de la figura del marino Juan Sebastián Elcano\, que al alcanzar las islas de las especias\, cumplió la misión encargada por Carlos I a Magallanes\, tras la muerte de éste\, y consiguió\, como efecto colateral de ese éxito\, otro aún mayor: circunnavegar por primera vez el planeta\, demostrando de manera empírica la esfericidad del mismo. \nGrupo completo.
URL:https://old.sge.org/evento/visita-fuimos-los-primeros-naval/
LOCATION:Museo Naval de Madrid
CATEGORIES:Actividades,Visitas a museos
ATTACH;FMTTYPE=image/jpeg:https://old.sge.org/wp-content/uploads/2019/11/museo-naval-1.jpg
END:VEVENT
BEGIN:VEVENT
DTSTART;VALUE=DATE:20191127
DTEND;VALUE=DATE:20191128
DTSTAMP:20260422T103933
CREATED:20191117T230022Z
LAST-MODIFIED:20191119T182116Z
UID:18076-1574812800-1574899199@old.sge.org
SUMMARY:VISITA EXCLUSIVA PARA SOCIOS A LA EXPOSICIÓN: "Fuimos los primeros. Magallanes\, Elcano y la vuelta al mundo"
DESCRIPTION:Visita guiada por José María Moreno Martín\, uno de los comisarios de la exposición. \nLa muestra se inscribe en los actos programados para la celebración del V Centenario de la expedición de la Primera Vuelta al Mundo. A través de los módulos en que se articula la muestra\, se destaca la trascendencia de esa expedición culminada por la Corona de España\, con sus consiguientes repercusiones internacionales\, a corto y largo plazo\, de tipo naval\, científico\, geográfico\, astronómico\, diplomático\, económico.. Asimismo\, se pone en relieve el valor de la figura del marino Juan Sebastián Elcano\, que al alcanzar las islas de las especias\, cumplió la misión encargada por Carlos I a Magallanes\, tras la muerte de éste\, y consiguió\, como efecto colateral de ese éxito\, otro aún mayor: circunnavegar por primera vez el planeta\, demostrando de manera empírica la esfericidad del mismo. \nGrupo completo.
URL:https://old.sge.org/evento/visita-exposicion-fuimos-los-primeros-mundo/
LOCATION:Museo Naval de Madrid
CATEGORIES:Actividades,Visitas a museos
ATTACH;FMTTYPE=image/jpeg:https://old.sge.org/wp-content/uploads/2019/11/museo-naval-1.jpg
END:VEVENT
BEGIN:VEVENT
DTSTART;TZID=Europe/Madrid:20191127T190000
DTEND;TZID=Europe/Madrid:20191127T210000
DTSTAMP:20260422T103933
CREATED:20191118T180034Z
LAST-MODIFIED:20191119T153644Z
UID:18043-1574881200-1574888400@old.sge.org
SUMMARY:MIDWAY. UN VIAJE AL MEDIO DE LA NADA PARA DESCUBRIR EL CENTRO DE TODO.
DESCRIPTION:Midway es un pequeño atolón enclavado en el corazón del océano Pacífico\, a más de 3.000 kilómetros del continente más cercano. En años recientes\, esta isla es escenario de un extraño fenómeno: las aves marinas que anidan en Midway están alimentando a sus polluelos con plástico que confunden con comida. En 2011 Manuel Maqueda viajó a Midway junto a un equipo de artistas visuales para documentar esta tragedia. Sería la primera de nueve expediciones a lo largo de siete años para crear la película documental Albatross\, galardonada internacionalmente y proyectada en las Naciones Unidas. Las imágenes y los vídeos que captaron han sido vistos por más de 80 millones de personas. \nDurante esta charla\, Manuel Maqueda mostrará fragmentos de Albatross\, y nos desvelará las sorprendentes capas de historia que se superponen en Midway. Un lugar en medio de la nada -la inmensidad azul que los hawaianos denominan Papahanaumokuakea. Y sin embargo un lugar en el centro de todo por su poderoso simbolismo y singular significado para el destino de la humanidad. \nManuel Maqueda además de viajero\, fotógrafo\, y coproductor del film Albatross\, es profesor de Economía Circular y Emprendimiento Social en la Universidad de Berkeley. Manuel es un reconocido experto en contaminación por plásticos y fundador de Plastic Pollution Coalition y El Plástico Mata\, entre otras organizaciones. \nImprescindible confirmar asistencia en sge@sge.org
URL:https://old.sge.org/evento/midway-un-viaje-al-medio-de-la-nada-para-descubrir-el-centro-de-todo/
LOCATION:Utópica\, Calle Conde de Peñalver 47\, Madrid\, 28006\, España
CATEGORIES:Actividades,Conferencias
ATTACH;FMTTYPE=image/jpeg:https://old.sge.org/wp-content/uploads/2019/11/midwa33.jpg
END:VEVENT
END:VCALENDAR