BEGIN:VCALENDAR
VERSION:2.0
PRODID:-//Sociedad Geográfica Española - ECPv6.10.3//NONSGML v1.0//EN
CALSCALE:GREGORIAN
METHOD:PUBLISH
X-ORIGINAL-URL:https://old.sge.org
X-WR-CALDESC:Eventos para Sociedad Geográfica Española
REFRESH-INTERVAL;VALUE=DURATION:PT1H
X-Robots-Tag:noindex
X-PUBLISHED-TTL:PT1H

BEGIN:VEVENT
DTSTART;TZID=Europe/Madrid:20260422T140255
DTEND;TZID=Europe/Madrid:20240521T110100
DTSTAMP:20260422T140255
CREATED:20240222T144155Z
LAST-MODIFIED:20240521T110212Z
UID:33751-0-1716289260@old.sge.org
SUMMARY:ALASKA\, LA LLAMADA DE LA NATURALEZA
DESCRIPTION:Diversidad geográfica y conexión con la Naturaleza\, en los confines del mundo habitado de Norteamérica\nAlaska es una península singular\, ubicada entre los océanos Ártico y Pacífico y en el límite noroccidental de Norteamérica que ofrece paisajes extremos. \nEs una tierra de extensas montañas\, glaciares\, bosques y tundra donde el frío y el hielo son las constantes que dirigen los paisajes y condicionan la presencia humana. Aúna el Ártico con su naturaleza salvaje -fauna\, montañas glaciadas\, extensos valles\, turberas\, tundra y taiga- y el desarrollo humano en ciudades y asentamientos -mineros\, militares\, pesqueros- esparcidos por su territorio y que en ocasiones han dejado una profunda huella. \nDe sur a norte se pueden admirar paisajes costeros modelados por el hielo\, con fiordos\, montañas y frentes glaciares sobre el mar que nos llevan a las montañas continentales\, los grandes espacios con las cumbres más altas y donde de nuevo alternan bosques y praderas con unos glaciares que muestran los rastros de su reciente retroceso sin perder la belleza del ártico. Más al norte\, los grandes ríos y sus llanuras dominan el paisaje\, caracterizado por la presencia de amplios bosques y el permafrost. Son extensas masas de coníferas que colonizan los sustratos helados. \n  \n\n 
URL:https://old.sge.org/evento/alaska-la-llamada-de-la-naturaleza/
CATEGORIES:Viajes
ATTACH;FMTTYPE=image/jpeg:https://old.sge.org/wp-content/uploads/2024/02/barth-bailey-DeNUFD4XcNA-unsplash.jpg
ORGANIZER;CN="Sociedad Geogr%C3%A1fica Espa%C3%B1ola":MAILTO:sge@sge.org
END:VEVENT
BEGIN:VEVENT
DTSTART;VALUE=DATE:20191005
DTEND;VALUE=DATE:20191006
DTSTAMP:20260422T140255
CREATED:20190917T084943Z
LAST-MODIFIED:20190917T140326Z
UID:17644-1570233600-1570319999@old.sge.org
SUMMARY:EN RECUERDO DE FERNANDO GURUCETA
DESCRIPTION:SENDERISMO: POR LOS MOLINOS DE LA HIRUELA\nIntroducción \nQuizás nos hallemos ante el itinerario serrano más rural\, más tranquilo\, que mejor mantiene los rasgos y esencias de lo que fueron estos parajes en tiempos muy lejanos. Cierto es que ahora se accede con relativa comodidad al antes apartado pueblo de La Hiruela; cierto es también que allí encontraremos cafetería y restaurante\, pero tan cierto como que a lo largo de la jornada nos olvidaremos de grandes carreteras\, ruidos\, líneas de alta tensión\, etc…\, y que nuestro horizonte se limitará a montes\, bosques\, ríos y cielo. Por unas horas\, ya sea en el fondo del apacible Jarama\, ya en la fronda de los robledales o en las viejas carboneras o colmenares\, el entorno se hará eminentemente rural y natural. Esta ruta pasa una divisoria\, materializada por el propio puerto de La Hiruela\, allende el cual todo cambia\, pues si bien el paisaje de la zona de Montejo es también sobresaliente\, el escenario es más conocido y familiar\, mientras hacia La Hiruela y el Jarama\, lindando ya con las sierras de Guadalajara\, todo se hace más silvestre y desconocido\, proporcionándonos sensaciones propias de algún apartado rincón de la España vieja y vacía. \nLa ruta es por ello muy grata consistiendo básicamente en un delicioso paseo por el camino rural de La Hiruela al Cardoso\, el cual se abandona al llegar al río Jarama para caminar curso abajo hasta el molino de la Hiruela desde donde se retorna al pueblo. \nValores paisajísticos\nEl entorno de La Hiruela muestra como pocos en la Comunidad de Madrid un paisaje de resonancias rurales y soledades profundas. La Hiruela está\, como apuntábamos en la introducción\, “como al otro lado”; para llegar a este pueblo es siempre necesario cruzar algún alto de montaña o realizar en su defecto un rodeo impensable por tierras de Castilla La Mancha. Está\, por tanto\, allende los montes y sobre montes de enorme extensión\, densa vegetación y notable naturalidad. En La Hiruela nos encontramos en un auténtico pueblo\, sin ruidos cercanos\, sin adosados ni crecimiento urbanístico desaforado\, con miles de hectáreas de monte solitario y bravío acompañando nuestros pasos y con restos\, huellas\, de molinos fluviales\, carboneras recientes y dehesas funcionales que nos sitúan en un mundo rural de vigencia casi actual. El caserío de La Hiruela es la primera agradable sensación que obtendremos pues si bien no se conserva todo él con la arquitectura tradicional algunas de las recientes restauraciones son ejemplos de buen gusto. Los melojos y robles albares que encontraremos en la ruta son otro de los atractivos de toda esta comarca de la Sierra Norte. Las pizarras\, espectaculares en lo alto del puerto de La Hiruela\, se enseñorean del territorio y se hacen presentes en construcciones y cualquier afloramiento rocoso. Si la nieve o el barro lo facilitan encontraremos numerosas huellas de fauna salvaje\, especialmente jabalí y corzo\, tan abundantes en la comarca. El río Jarama\, con sus sotos y vegetación de ribera\, es otro de sus profundos encantos\, culminando con la modélica restauración del viejo molino. \nDesarrollo del itinerario\nPlaza de San Miguel\, al lado de la Iglesia de La Hiruela. Justo detrás y a la izquierda de la iglesia está señalizado como GR el camino que lleva al Cardoso\, vecino pueblo ya en la provincia de Guadalajara. El amplio sendero baja suavemente entre cercas y robles con tramos empedrados o escalonados en las pizarras. A unos 600 m de la salida traza una pronunciada curva y cruza el pequeño arroyo de la Umbría. Se sigue por un tramo horizontal con hermosos robles que conduce al propio valle del Jarama cuyas aguas oiremos antes de acceder a sus orillas. \nSe alcanza el puente del Jarama. Enfrente veremos los campos de labor cercanos a la localidad del Cardoso. El Jarama muestra una anchura y normalmente un caudal notable para estar en una zona tan alta de su curso\, anunciando el gran río que llegará a ser aguas abajo. Al llegar al puente no habremos de cruzarlo pues el sendero continúa por la orilla derecha. El camino es ahora muy agradable\, recorriendo sotos y praderas. Pocos minutos después se alcanza el antiguo molino de Juan Bravo\, actualmente sólo unas ruinas\, cuyo entorno se presta a un rato de solaz. \nUn poco más adelante\, cuando la orilla se hace escarpada o el cauce se ciñe a las rocas subiremos unos metros volviendo a bajar un poco más allá\, para enseguida cruzar el Jarama por un bonito puente de madera. Ya en la orilla izquierda\, después de cruzar unos sotos\, subiremos un pequeño escalón rocoso. De nuevo en la orilla es posible ver los bloques de cuarcita que cubren el lecho fluvial\, rocas que no aparecen en el lugar y por tanto proceden de zonas superiores de la cuenca. Tras otro amplio soto\, al lado de un azud que canaliza el agua en la margen derecha\, toda ella orlada con una bonita alameda\, hemos de remontar una zona rocosa por la orilla izquierda\, señalizada con marcas de pintura. Pronto vemos ya el viejo molino\, ahora restaurado y con su entorno acondicionado. Para llegar a él hemos de cruzar de nuevo otro puente de madera. \nMolino de La Hiruela. Estamos a 1.158 m; 3\,35 km desde la salida. El lugar en el que se encuentra el molino\, con praderas\, zona de pic-nic\, además de una especie de aula ambiental\, El lugar resulta muy agradable y pide un rato de descanso y curioseo en el que constatar la muy loable y adecuada restauración de esta obra. \nDesde el molino se puede sale hacia el SW por un pequeño puente que lleva a una pista que en fuerte pendiente y tras una curva nos deposita en la carretera M-137. Justo a la izquierda se ha construido un pequeño mirador sobre el valle y el molino. \nNosotros sin embargo tomaremos un sendero algo pendiente y rocoso\, pero con escalones de madera\, que parte del mismo molino y conduce directamente al pueblo de La Hiruela. A medio camino entre el molino y el pueblo podremos desviarnos unos metros para visitar un viejo colmenar rehabilitado. \nTras un breve ascenso final desembocaremos en la plaza de San Miguel de la Hiruela dando por concluida la ruta. \nFicha técnica:\nLocalización.- La Hiruela es el pueblo más nororiental de la Comunidad de Madrid\, situado un poco más al Este que Montejo de la Sierra. \nPunto de salida y llegada.- Aparcamiento a la entrada de La Hiruela. \nDistancia de la ruta .- Unos 5 kilómetros \nDesniveles y altitudes .- Unos 169 m de desnivel acumulado. Altitudes entre 1.329 y 1.158 m \nDuración .- Casi 2\,5 horas a paso tranquilo. \nNivel de esfuerzo y de dificultad .- Bajo \nTipo de terreno .- Buenos senderos y algún corto tramo por sendero rocoso en las orillas del río Jarama. \nPuntos panorámicos .- Mirador sobre el valle y molino de la carretera M –137. Agua .- No hay fuentes. \nEquipo.- El habitual para recorridos por media montaña. \nFiguras de protección.- Reserva Nacional de Caza del Sonsaz. Reserva de la Biosfera de la Sierra del Rincón. \n  \nRuta guiada por el geógrafo Pedro Nicolás. \nLa SGE ha fletado un autobús que llevará a los participantes que lo deseen desde Madrid hasta el punto de inicio de la ruta. \nEs imprescindible reservar plaza y confirmar asistencia. \nMás información en: \nsge@sge.org \nTel.: 91 528 38 47 \n 
URL:https://old.sge.org/evento/en-recuerdo-de-fernando-guruceta/
CATEGORIES:Senderismo
ATTACH;FMTTYPE=image/jpeg:https://old.sge.org/wp-content/uploads/2019/09/008.jpg
ORGANIZER;CN="SGE":MAILTO:sge@sge.org
END:VEVENT
BEGIN:VEVENT
DTSTART;TZID=Europe/Madrid:20191007T080000
DTEND;TZID=Europe/Madrid:20191023T170000
DTSTAMP:20260422T140255
CREATED:20190704T093504Z
LAST-MODIFIED:20190704T093816Z
UID:17288-1570435200-1571850000@old.sge.org
SUMMARY:NUEVA ZELANDA: LAS ISLAS DE LA GEOGRAFÍA SOÑADA
DESCRIPTION:La Sociedad Geográfica Española y Utópica proponen para 2019 un viaje a Nueva Zelanda\, las islas de la geografía soñada\, donde se visitarán las costas de la isla norte\, de arenas negras y ricas en fauna\, y las manifestaciones geotermales de la caldera de Rotorua. Y en la isla sur el lago Tekapo\, el Monte Cook (3.724 m.) y sus glaciares que llegan a descender hasta los 300 m. sobre el nivel del mar (un hecho excepcional a estas latitudes)\, y el Parque Nacional de los Fiordland\, donde destaca el fiordo de Milford Sound\, con montañas que se alzan casi 1700 m. sobre el agua\, entre otros lugares de gran interés geográfico. \nRAÚL MARTÍN \nDoctor en Geografía y especialista en paisajes fríos y de montaña. Ha impartido clases de ciencias medioambientales y de la tierra en universidades americanas durante casi diez años y actualmente es profesor de la Universidad Autónoma de Madrid. Es experto en glaciarismo y ambientes árticos y subárticos – a los que ha viajado en más de quince ocasiones. Es montañero y alpinista\, con actividades en numerosas montañas del mundo.\n\n\n\nOrganización técnica: Utópica Travel\n\n\n\n\n  DESCARGAR EL PROGRAMA
URL:https://old.sge.org/evento/nueva-zelanda-las-islas-de-la-geografia-sonada/
CATEGORIES:Viajes
ATTACH;FMTTYPE=image/jpeg:https://old.sge.org/wp-content/uploads/2018/12/new-zealand-3021090.jpg
END:VEVENT
BEGIN:VEVENT
DTSTART;TZID=Europe/Madrid:20191008T193000
DTEND;TZID=Europe/Madrid:20191008T210000
DTSTAMP:20260422T140255
CREATED:20190724T102940Z
LAST-MODIFIED:20190730T065426Z
UID:17502-1570563000-1570568400@old.sge.org
SUMMARY:¿Por qué no volvimos a la luna? La historia desconocida del programa Apollo
DESCRIPTION:La aventura de la llegada a la Luna hace 50 años fue una de las grandes hazañas tecnológicas de la humanidad. Fue un acontecimiento irrepetible: ni siquiera en el futuro un eventual desembarco en Marte podrá compararse con el viaje del Apollo 11\, un viaje épico y en principio casi imposible de realizar. Desde aquella aventura ha transcurrido medio siglo. Después del Apollo\, nadie ha vuelto a la Luna. \nEl científico y divulgador Rafael Clemente\, explicará la “cara oculta” de esta odisea\, historias desconocidas y anécdotas del programa Apollo y el futuro de la conquista de nuestro satélite. \nRafael Clemente es ingeniero industrial y Master of Science y uno de los principales divulgadores de temas relacionados con la carrera espacial y la investigación del espacio. Fundador y primer director del Museu de la Ciència de Barcelona (actual CosmoCaixa). Durante más de cincuenta años ha colaborado en temas de divulgación científica con La Vanguardia\, El País y otros medios y ha publicado este año el libro “Un pequeño paso para (un) hombre. Historia desconocida de la llegada del hombre a la luna”. \nImprescindible confirmación de asistencia en: \nFundación Ramón Areces
URL:https://old.sge.org/evento/por-que-no-volvimos-a-la-luna-la-historia-desconocida-del-programa-apollo/
LOCATION:Fundación Ramón Areces\, Vitruvio 5\, Madrid\, España
CATEGORIES:Mes geográfico
ATTACH;FMTTYPE=image/jpeg:https://old.sge.org/wp-content/uploads/2019/07/7610985594_2375f72b19_o.jpg
ORGANIZER;CN="Sociedad Geogr%C3%A1fica Espa%C3%B1ola":MAILTO:sge@sge.org
END:VEVENT
BEGIN:VEVENT
DTSTART;TZID=Europe/Madrid:20191015T193000
DTEND;TZID=Europe/Madrid:20191015T210000
DTSTAMP:20260422T140255
CREATED:20190724T104413Z
LAST-MODIFIED:20190730T065829Z
UID:17530-1571167800-1571173200@old.sge.org
SUMMARY:La conquista europea del Espacio
DESCRIPTION:Los nuevos retos de la Europa espacial en ciencia\, exploración y aplicaciones satelitales.\nLos retos en el campo de la ciencia y de la exploración en la próxima década son fascinantes y Europa\, a través de su Agencia Espacial\, puede jugar un papel fundamental. La Agencia Espacial Europea\, la ESA\, es la puerta de acceso al espacio del continente europeo. Programas tan fascinantes como el estudio detallado de los exoplanetas\, la detección de ondas gravitacionales desde el espacio\, la comprensión sobre el origen de la energía y la materia oscura\,  misiones robóticas a Marte o el ambicioso programa de  retorno y exploración humana de la luna\, son solo ejemplos de futuras misiones en los que la contribución europea será fundamental durante los próximos años. \nJavier Ventura-Traveset es Jefe de la Oficina Científica Galileo de la Agencia Espacial Europea. Académico de la Real Academia de Ingeniería de España. Experto reconocido internacionalmente en el campo de la navegación por satélite\, ha sido Ingeniero Jefe (Principal System Engineer)\, Mission Manager y System Manager en todas las fases del proyecto de Navegación EGNOS\, precursor del sistema Europeo Galileo. Ha sido Director de Comunicación y Director de Educación de la ESA en España. Actualmente\, es secretario ejecutivo del Comité científico asesor del programa Galileo (GSAC) de la ESA\, Director de la Oficina Científica de Navegación por satélite de la ESA\, Asesor al Director de ESAC y Portavoz de la ESA en España. \nImprescindible confirmación de asistencia en: \nFundación Ramón Areces
URL:https://old.sge.org/evento/la-conquista-europea-del-espacio/
LOCATION:Fundación Ramón Areces\, Vitruvio 5\, Madrid\, España
CATEGORIES:Mes geográfico
ATTACH;FMTTYPE=image/jpeg:https://old.sge.org/wp-content/uploads/2019/07/48194888847_f6b99daaf9_o-scaled.jpg
ORGANIZER;CN="SGE":MAILTO:sge@sge.org
END:VEVENT
BEGIN:VEVENT
DTSTART;TZID=Europe/Madrid:20191022T193000
DTEND;TZID=Europe/Madrid:20191022T210000
DTSTAMP:20260422T140255
CREATED:20190724T105345Z
LAST-MODIFIED:20191009T074943Z
UID:17539-1571772600-1571778000@old.sge.org
SUMMARY:La Misión Nuevos Horizontes: Descubriendo nuevos mundos
DESCRIPTION:¿Llegará el ser humano a colonizar otros planetas?\nLa búsqueda de nuevos horizontes en el espacio exterior es una de las prioridades de los programas de investigación de la NASA: Adriana Ocampo\, directora de proyectos científicos de la Agencia Espacial americana nos hablará de su experiencia como investigadora del espacio\, del conocimiento de los exoplanetas y qué nos aporta a los humanos\, de cómo se investiga en otros sistemas solares y de la búsqueda de la vida en el universo. Explicará los diferentes proyectos de la NASA\, cada vez más sofisticados\, para la exploración de distintos elementos del sistema solar\, como la misión Juno a Júpiter\, la New Horizons a Plutón o la Osiris-Rex al remoto asteroide Bennu. \nAdriana C. Ocampo Uría es geóloga planetaria y ejecutiva del Programa Nuevas Fronteras de la NASA. Responsable de la misión de la sonda espacial Juno a Júpiter y la misión del New Horizons a Plutón. Sus investigaciones han contribuido a una mejor comprensión de los cráteres de impacto de satélites sobre la tierra\, como el cráter de Chicxulub (México) o el Cráter de impacto Aorounga en Chad. \nImprescindible confirmación de asistencia en: \nFundación Ramón Areces
URL:https://old.sge.org/evento/en-busca-de-nuevos-mundos/
LOCATION:Fundación Ramón Areces\, Vitruvio 5\, Madrid\, España
CATEGORIES:Mes geográfico
ATTACH;FMTTYPE=image/jpeg:https://old.sge.org/wp-content/uploads/2019/07/PIA17516_orig.jpg
ORGANIZER;CN="SGE":MAILTO:sge@sge.org
END:VEVENT
BEGIN:VEVENT
DTSTART;TZID=Europe/Madrid:20191029T193000
DTEND;TZID=Europe/Madrid:20191029T210000
DTSTAMP:20260422T140255
CREATED:20190724T105721Z
LAST-MODIFIED:20190730T070305Z
UID:17548-1572377400-1572382800@old.sge.org
SUMMARY:La observación de la Tierra desde el espacio: una historia de descubrimiento mutuo
DESCRIPTION:Gracias a las imágenes y datos de la Tierra tomadas por los instrumentos que portan los satélites\, desarrollados muchas veces para estudiar el espacio exterior\, es posible disponer\, por primera vez\, de un conocimiento profundo y al tiempo global del sistema terrestre y de los cambios que en él se producen\, poniendo a nuestra disposición un perspectiva\, en gran medida nueva\, de la relación entre los habitantes de la Tierra y su planeta en un momento decisivo en que por vez primera tienen tenemos la capacidad de alterar todo el Planeta. En este descubrimiento mutuo\, las tecnologías de la era espacial trascienden las fronteras económicas y culturales de naciones y pueblos\, obligando a un esfuerzo de cooperación y formación. \nJosé Antonio Rodríguez Esteban es Profesor de Universidad Autónoma de Madrid de Técnicas Geoespaciales aplicadas a las Ciencias Ambientales. Experto en teledetección espacial y SIG. Es responsable de la implantación en la  UAM de Copernicus Academy\, dentro del programa Copernicus de la ESA. Es miembro de la Junta Directiva de la  Sociedad Geográfica Española. \nImprescindible confirmación de asistencia en: \nFundación Ramón Areces
URL:https://old.sge.org/evento/la-observacion-de-la-tierra-desde-el-espacio-una-historia-de-descubrimiento-mutuo/
LOCATION:Fundación Ramón Areces\, Vitruvio 5\, Madrid\, España
CATEGORIES:Mes geográfico
ATTACH;FMTTYPE=image/jpeg:https://old.sge.org/wp-content/uploads/2017/07/5134455469_e6f4f19d92_o.jpg
ORGANIZER;CN="SGE":MAILTO:sge@sge.org
END:VEVENT
END:VCALENDAR