BEGIN:VCALENDAR
VERSION:2.0
PRODID:-//Sociedad Geográfica Española - ECPv6.10.3//NONSGML v1.0//EN
CALSCALE:GREGORIAN
METHOD:PUBLISH
X-ORIGINAL-URL:https://old.sge.org
X-WR-CALDESC:Eventos para Sociedad Geográfica Española
REFRESH-INTERVAL;VALUE=DURATION:PT1H
X-Robots-Tag:noindex
X-PUBLISHED-TTL:PT1H

BEGIN:VEVENT
DTSTART;TZID=Europe/Madrid:20260423T033758
DTEND;TZID=Europe/Madrid:20240521T110100
DTSTAMP:20260423T033758
CREATED:20240222T144155Z
LAST-MODIFIED:20240521T110212Z
UID:33751-0-1716289260@old.sge.org
SUMMARY:ALASKA\, LA LLAMADA DE LA NATURALEZA
DESCRIPTION:Diversidad geográfica y conexión con la Naturaleza\, en los confines del mundo habitado de Norteamérica\nAlaska es una península singular\, ubicada entre los océanos Ártico y Pacífico y en el límite noroccidental de Norteamérica que ofrece paisajes extremos. \nEs una tierra de extensas montañas\, glaciares\, bosques y tundra donde el frío y el hielo son las constantes que dirigen los paisajes y condicionan la presencia humana. Aúna el Ártico con su naturaleza salvaje -fauna\, montañas glaciadas\, extensos valles\, turberas\, tundra y taiga- y el desarrollo humano en ciudades y asentamientos -mineros\, militares\, pesqueros- esparcidos por su territorio y que en ocasiones han dejado una profunda huella. \nDe sur a norte se pueden admirar paisajes costeros modelados por el hielo\, con fiordos\, montañas y frentes glaciares sobre el mar que nos llevan a las montañas continentales\, los grandes espacios con las cumbres más altas y donde de nuevo alternan bosques y praderas con unos glaciares que muestran los rastros de su reciente retroceso sin perder la belleza del ártico. Más al norte\, los grandes ríos y sus llanuras dominan el paisaje\, caracterizado por la presencia de amplios bosques y el permafrost. Son extensas masas de coníferas que colonizan los sustratos helados. \n  \n\n 
URL:https://old.sge.org/evento/alaska-la-llamada-de-la-naturaleza/
CATEGORIES:Viajes
ATTACH;FMTTYPE=image/jpeg:https://old.sge.org/wp-content/uploads/2024/02/barth-bailey-DeNUFD4XcNA-unsplash.jpg
ORGANIZER;CN="Sociedad Geogr%C3%A1fica Espa%C3%B1ola":MAILTO:sge@sge.org
END:VEVENT
BEGIN:VEVENT
DTSTART;TZID=Europe/Madrid:20190312T190000
DTEND;TZID=Europe/Madrid:20190312T203000
DTSTAMP:20260423T033758
CREATED:20190131T142002Z
LAST-MODIFIED:20190131T142108Z
UID:16292-1552417200-1552422600@old.sge.org
SUMMARY:TODA AVENTURA COMIENZA CON UN SÍ. DESAFÍO ÁFRICA 2018
DESCRIPTION:Alicia Sornosa lleva años recorriendo el mundo: ha dado la vuelta al planeta y se plantea cada año nuevos retos siempre a bordo de su moto. “Shikati” es el nombre que los masaai dieron a la moto de Alicia en su #DesafíoÁfrica2018. Y “shitaki” quiere decir “el animal más veloz”. Así que a lomos del animal más veloz\, en 2018\, Alicia recorrió 15.000 km en un reto solidario a través de 7 países africanos y durante cuatro meses. \nLa aventura africana de Alicia arroja muchos datos como 2 juegos de neumáticos\, 2 Ducati Scrambler o 577 sonrisas\, pero también un diario de viaje que recoge páginas llenas de grandes vivencias: rodar entre jirafas\, cebras y ñus en Kenia; las lluvias monzónicas y los baobabs fueron testigos de su periplo en Tanzania; los pescadores de Malawi le acogieron entre sonrisas y casas de colores; en Mozambique los cánticos de las jóvenes fueron la banda sonora que le acompañó en su ruta\, pero también sus pistas de arena\, las piedras\, los caminos rotos\, el barro y las carreteras. \nImprescindible confirmación de asistencia en: sge@sge.org 
URL:https://old.sge.org/evento/toda-aventura-comienza-con-un-si-desafio-africa-2018/
LOCATION:Utópica\, Calle Conde de Peñalver 47\, Madrid\, 28006\, España
CATEGORIES:Tertulias
ATTACH;FMTTYPE=image/jpeg:https://old.sge.org/wp-content/uploads/2018/03/aliciasornosa.jpg
ORGANIZER;CN="SGE":MAILTO:sge@sge.org
END:VEVENT
END:VCALENDAR