BEGIN:VCALENDAR
VERSION:2.0
PRODID:-//Sociedad Geográfica Española - ECPv6.10.3//NONSGML v1.0//EN
CALSCALE:GREGORIAN
METHOD:PUBLISH
X-ORIGINAL-URL:https://old.sge.org
X-WR-CALDESC:Eventos para Sociedad Geográfica Española
REFRESH-INTERVAL;VALUE=DURATION:PT1H
X-Robots-Tag:noindex
X-PUBLISHED-TTL:PT1H

BEGIN:VEVENT
DTSTART;TZID=Europe/Madrid:20260423T093723
DTEND;TZID=Europe/Madrid:20240521T110100
DTSTAMP:20260423T093723
CREATED:20240222T144155Z
LAST-MODIFIED:20240521T110212Z
UID:33751-0-1716289260@old.sge.org
SUMMARY:ALASKA\, LA LLAMADA DE LA NATURALEZA
DESCRIPTION:Diversidad geográfica y conexión con la Naturaleza\, en los confines del mundo habitado de Norteamérica\nAlaska es una península singular\, ubicada entre los océanos Ártico y Pacífico y en el límite noroccidental de Norteamérica que ofrece paisajes extremos. \nEs una tierra de extensas montañas\, glaciares\, bosques y tundra donde el frío y el hielo son las constantes que dirigen los paisajes y condicionan la presencia humana. Aúna el Ártico con su naturaleza salvaje -fauna\, montañas glaciadas\, extensos valles\, turberas\, tundra y taiga- y el desarrollo humano en ciudades y asentamientos -mineros\, militares\, pesqueros- esparcidos por su territorio y que en ocasiones han dejado una profunda huella. \nDe sur a norte se pueden admirar paisajes costeros modelados por el hielo\, con fiordos\, montañas y frentes glaciares sobre el mar que nos llevan a las montañas continentales\, los grandes espacios con las cumbres más altas y donde de nuevo alternan bosques y praderas con unos glaciares que muestran los rastros de su reciente retroceso sin perder la belleza del ártico. Más al norte\, los grandes ríos y sus llanuras dominan el paisaje\, caracterizado por la presencia de amplios bosques y el permafrost. Son extensas masas de coníferas que colonizan los sustratos helados. \n  \n\n 
URL:https://old.sge.org/evento/alaska-la-llamada-de-la-naturaleza/
CATEGORIES:Viajes
ATTACH;FMTTYPE=image/jpeg:https://old.sge.org/wp-content/uploads/2024/02/barth-bailey-DeNUFD4XcNA-unsplash.jpg
ORGANIZER;CN="Sociedad Geogr%C3%A1fica Espa%C3%B1ola":MAILTO:sge@sge.org
END:VEVENT
BEGIN:VEVENT
DTSTART;TZID=Europe/Madrid:20181002T193000
DTEND;TZID=Europe/Madrid:20181002T210000
DTSTAMP:20260423T093723
CREATED:20180907T084413Z
LAST-MODIFIED:20180911T085259Z
UID:14354-1538508600-1538514000@old.sge.org
SUMMARY:Mes Geográfico - La difícil conquista de los paisajes abisales: la mirada de un explorador sobre la corteza oceánica
DESCRIPTION:Thierry Juteau\nGeógrafo y descubridor de las fumarolas del Pacífico. \nEs el descubridor de los volcanes submarinos y de la actividad geotermal de los fondos oceánicos. Este geólogo francés ha recorrido durante años el fondo del mar a bordo de submarinos y batiscafos para demostrar que el fondo del mar está en permanente transformación\, rediseñando la inmensa cadena volcánica submarina que recorre los océanos del globo. Jutteau hablará de la importancia del estudio de los fondos abisales para comprender la dinámica terrestre y estudiar el origen de la vida. \nImprescindible confirmar asistencia haciendo click en este enlace \nCon la colaboración de la Fundación Ramón Areces \n\n 
URL:https://old.sge.org/evento/mes-geografico-la-dificil-conquista-de-los-paisajes-abisales-la-mirada-de-un/
LOCATION:Fundación Ramón Areces\, Vitruvio 5\, Madrid\, España
CATEGORIES:Mes geográfico
ATTACH;FMTTYPE=image/png:https://old.sge.org/wp-content/uploads/2018/09/22.-Enseñando-el-Flysch-de-Zumaia-Guipuzcoa.png
ORGANIZER;CN="SGE":MAILTO:sge@sge.org
END:VEVENT
BEGIN:VEVENT
DTSTART;TZID=Europe/Madrid:20181009T193000
DTEND;TZID=Europe/Madrid:20181009T210000
DTSTAMP:20260423T093723
CREATED:20180907T084824Z
LAST-MODIFIED:20180912T123047Z
UID:14367-1539113400-1539118800@old.sge.org
SUMMARY:Mes Geográfico - La aventura de medir la salud de los océanos: Big Data y revolución tecnológica para la investigación de los océanos
DESCRIPTION:Carlos Duarte\nDirector del Centro de Investigación del Mar Rojo \nCarlos Duarte es biólogo marino y uno de los oceanógrafos españoles de mayor proyección internacional. Actualmente dirige el Centro de Investigación del Mar Rojo\, en Arabia Saudí. Duarte nos hablará de sus últimas expediciones e investigaciones y de cómo la información inteligente y el big data están cambiando la forma de investigar los océanos. Uno de sus últimos proyectos ha sido el desarrollo de una nueva generación de sensores que convertirán a los propios animales en “exploradores de los océanos” y permitirán el estudio exhaustivo de la salud de los mares y el movimiento de los animales. \nImprescindible confirmar asistencia haciendo click en este enlace \nCon la colaboración de la Fundación Ramón Areces
URL:https://old.sge.org/evento/mes-geografico-medir-la-salud-de-los-oceanos/
LOCATION:Fundación Ramón Areces\, Vitruvio 5\, Madrid\, España
CATEGORIES:Mes geográfico
ATTACH;FMTTYPE=image/jpeg:https://old.sge.org/wp-content/uploads/2018/09/038-copia.jpg
ORGANIZER;CN="SGE":MAILTO:sge@sge.org
END:VEVENT
BEGIN:VEVENT
DTSTART;TZID=Europe/Madrid:20181016T193000
DTEND;TZID=Europe/Madrid:20181016T210000
DTSTAMP:20260423T093723
CREATED:20180907T085410Z
LAST-MODIFIED:20180911T084840Z
UID:14370-1539718200-1539723600@old.sge.org
SUMMARY:Mes Geográfico - Investigar el mar para vivir mejor: los retos actuales de los estudios oceanográficos
DESCRIPTION:Eduardo Balguerías\nDirector del Instituto Español de Oceanografía \nLa oceanografía española lleva más de 100 años investigando los fondos marinos\, desde que se fundara en 1914 el Instituto Español de Oceanografía. Su director actual nos hablará de los principales campos de trabajo\, del mar como fuente de recursos pero también como laboratorio de investigación y de los retos de esta ciencia para los investigadores españoles. \nEduardo Balguerías es oceanógrafo y desde 2010 es director del Instituto Español de Oceanografía. Sus áreas de investigación son la evaluación de recursos vivos marinos\, la biología pesquera y la ecología marina. Ha participado en más de 30 proyectos de investigación nacionales e internacionales fundamentalmente relacionados con la biodiversidad\, la evaluación de los recursos vivos marinos y la ecología marina\, lo que le ha llevado a trabajar en África\, Sudamérica y la Antártida También ha participado en 25 campañas de investigación oceanográfica en todos los océanos del mundo\, excepto el Ártico .Ha sido representante científico de las administraciones española y europea\, en multitud de grupos de trabajo y comités científicos relacionados con la conservación y gestión de los recursos vivos marinos. Tiene más de 70 publicaciones en diversas revistas científicas\, nacionales e internacionales\, e innumerables informes técnicos. \nImprescindible confirmar asistencia haciendo click en este enlace \nCon la colaboración de la Fundación Ramón Areces
URL:https://old.sge.org/evento/mes-geografico-investigar-el-mar/
LOCATION:Fundación Ramón Areces\, Vitruvio 5\, Madrid\, España
CATEGORIES:Mes geográfico
ATTACH;FMTTYPE=image/jpeg:https://old.sge.org/wp-content/uploads/2018/09/SGE14_3851-copia-600x400.jpg
ORGANIZER;CN="SGE":MAILTO:sge@sge.org
END:VEVENT
BEGIN:VEVENT
DTSTART;TZID=Europe/Madrid:20181018T110000
DTEND;TZID=Europe/Madrid:20181018T173000
DTSTAMP:20260423T093723
CREATED:20181015T100512Z
LAST-MODIFIED:20181018T135008Z
UID:15064-1539860400-1539883800@old.sge.org
SUMMARY:Sierra de las Nieves
DESCRIPTION:Desde la Junta Rectora del Parque\, en colaboración con las Mancomunidades de municipios de la Sierra de las Nieves y la SGE de Málaga\, se ofrece la oportunidad de conocer la Reserva de la Biosfera\, la evolución de la organización socioterritorial y ambiental y el impacto económico que conlleva la declaración de parque nacional. \n  \nPROGRAMA DE LA ACTIVIDAD\nNUEVA FECHA DE CELEBRACIÓN PENDIENTE DE CONFIRMACIÓN\n \n\nLa SGE propone una salida por Málaga para conocer más a fondo la Sierra de las Nieves\, así como las causas que propiciaron su declaración como Parque Nacional. \nIntervendrán en las explicaciones: D. Antonio Pérez\, presidente; D. Tomás Rueda\, gerente; Mª Luisa Gómez\, presidenta de la Junta Rectora del parque natural Sierra de las Nieves. \nLa actividad constará además de la visita a las localidades de Casarabonela\, donde se hablará del sistema de acequias tradicional; y a Jorox\, donde se realizará un recorrido por el travertino\, que contará con las explicaciones de Jesús Vías sobre el funcionamiento del acuífero y de la formación de los travertinos. \nFin de la actividad a las 17:30 h. \n  \nParticipación exclusiva para socios. Plazas limitadas. \nCONFIRMACIÓN DE ASISTENCIA EN sge@sge.org
URL:https://old.sge.org/evento/sierra-de-las-nieves/
CATEGORIES:Senderismo
ATTACH;FMTTYPE=image/jpeg:https://old.sge.org/wp-content/uploads/2017/07/bosquedecastanos.jpg
END:VEVENT
BEGIN:VEVENT
DTSTART;TZID=Europe/Madrid:20181030T193000
DTEND;TZID=Europe/Madrid:20181030T210000
DTSTAMP:20260423T093723
CREATED:20180907T085759Z
LAST-MODIFIED:20180912T123132Z
UID:14374-1540927800-1540933200@old.sge.org
SUMMARY:Mes Geográfico - Cartografiando el sonido de los océanos: cómo contener la contaminación acústica bajo el mar
DESCRIPTION:Michel André\nIngeniero y biólogo \nMichel André\, ingeniero y biólogo\, desarrolla desde 2015 la expedición “The Ocean Mapping”\, alcanzando regiones remotas hasta ahora no estudiadas\, para registrar el paisaje sonoro submarino y analizar el nivel de polución acústica generada por la actividad humana\, y que se ha convertido en una de las amenazas más graves del medio marino. \nDurante cuatro años ha circunnavegado el planeta alcanzando regiones remotas hasta ahora no estudiadas\, para registrar el paisaje sonoro submarino y analizar el nivel de polución acústica generada por la actividad humana que cada vez invade más el mar y que se ha convertido en una de las amenazas más graves del medio marino. Para ello\, han navegado a bordo del velero `Fleur du Passion’ durante cuatro años y el resultado será la elaboración de una inédita cartografía sonora del océano  Michel André es Premio de Investigación de la SGE 2016. \nImprescindible confirmar asistencia haciendo click en este enlace \nCon la colaboración de la Fundación Ramón Areces
URL:https://old.sge.org/evento/mes-geografico-cartografiando-el-sonido-de-los-oceanos/
LOCATION:Fundación Ramón Areces\, Vitruvio 5\, Madrid\, España
CATEGORIES:Mes geográfico
ATTACH;FMTTYPE=image/jpeg:https://old.sge.org/wp-content/uploads/2018/09/28072016-_N2A1043-Michel-Editar-copia.jpg
ORGANIZER;CN="SGE":MAILTO:sge@sge.org
END:VEVENT
BEGIN:VEVENT
DTSTART;VALUE=DATE:20181031
DTEND;VALUE=DATE:20181101
DTSTAMP:20260423T093723
CREATED:20180907T094230Z
LAST-MODIFIED:20181005T081245Z
UID:14396-1540944000-1541030399@old.sge.org
SUMMARY:Anteriores Meses Geográficos
DESCRIPTION:MES GEOGRÁFICO 2017 – El Ártico\, la última frontera \nEl cambio climático\, el deshielo progresivo de sus masas de hielo y el consiguiente acceso a nuevos recursos\, o el nuevo Gran Juego geoestratégico entre las potencias presentes en la zona\, son temas de candente actualidad que han hecho que políticos\, científicos e incluso artistas y personajes mediáticos se hayan unido para concienciar de la importancia vital de la buena gestión del Ártico. \nAccede haciendo click en el siguiente enlace \n  \nMES GEOGRÁFICO 2016 – Mapas que cuentan historias\n \nUn acercamiento al fascinante mundo de la cartografía\, desde los aspectos históricos y las aventuras de exploración ligadas a la construcción del mapa del mundo\, pasando por la relación del arte y la cartografía o  los aspectos más geoestratégicos\, para terminar con una mirada a las nuevas tecnologías que nos hacen conocer mejor nuestro planeta. Y todo con una pregunta de fondo: ¿son inocentes los mapas? \nAccede haciendo click en el siguiente enlace \n 
URL:https://old.sge.org/evento/anteriores-meses-geograficos/
CATEGORIES:Mes geográfico
END:VEVENT
END:VCALENDAR