BEGIN:VCALENDAR
VERSION:2.0
PRODID:-//Sociedad Geográfica Española - ECPv6.10.3//NONSGML v1.0//EN
CALSCALE:GREGORIAN
METHOD:PUBLISH
X-WR-CALNAME:Sociedad Geográfica Española
X-ORIGINAL-URL:https://old.sge.org
X-WR-CALDESC:Eventos para Sociedad Geográfica Española
REFRESH-INTERVAL;VALUE=DURATION:PT1H
X-Robots-Tag:noindex
X-PUBLISHED-TTL:PT1H

BEGIN:VEVENT
DTSTART;TZID=Europe/Madrid:20260424T055632
DTEND;TZID=Europe/Madrid:20240521T110100
DTSTAMP:20260424T055632
CREATED:20240222T144155Z
LAST-MODIFIED:20240521T110212Z
UID:33751-0-1716289260@old.sge.org
SUMMARY:ALASKA\, LA LLAMADA DE LA NATURALEZA
DESCRIPTION:Diversidad geográfica y conexión con la Naturaleza\, en los confines del mundo habitado de Norteamérica\nAlaska es una península singular\, ubicada entre los océanos Ártico y Pacífico y en el límite noroccidental de Norteamérica que ofrece paisajes extremos. \nEs una tierra de extensas montañas\, glaciares\, bosques y tundra donde el frío y el hielo son las constantes que dirigen los paisajes y condicionan la presencia humana. Aúna el Ártico con su naturaleza salvaje -fauna\, montañas glaciadas\, extensos valles\, turberas\, tundra y taiga- y el desarrollo humano en ciudades y asentamientos -mineros\, militares\, pesqueros- esparcidos por su territorio y que en ocasiones han dejado una profunda huella. \nDe sur a norte se pueden admirar paisajes costeros modelados por el hielo\, con fiordos\, montañas y frentes glaciares sobre el mar que nos llevan a las montañas continentales\, los grandes espacios con las cumbres más altas y donde de nuevo alternan bosques y praderas con unos glaciares que muestran los rastros de su reciente retroceso sin perder la belleza del ártico. Más al norte\, los grandes ríos y sus llanuras dominan el paisaje\, caracterizado por la presencia de amplios bosques y el permafrost. Son extensas masas de coníferas que colonizan los sustratos helados. \n  \n\n 
URL:https://old.sge.org/evento/alaska-la-llamada-de-la-naturaleza/
CATEGORIES:Viajes
ATTACH;FMTTYPE=image/jpeg:https://old.sge.org/wp-content/uploads/2024/02/barth-bailey-DeNUFD4XcNA-unsplash.jpg
ORGANIZER;CN="Sociedad Geogr%C3%A1fica Espa%C3%B1ola":MAILTO:sge@sge.org
END:VEVENT
BEGIN:VEVENT
DTSTART;TZID=Europe/Madrid:20180510T200000
DTEND;TZID=Europe/Madrid:20180510T213000
DTSTAMP:20260424T055632
CREATED:20180508T154608Z
LAST-MODIFIED:20180508T154657Z
UID:13893-1525982400-1525987800@old.sge.org
SUMMARY:"Lado B"\, con Ricardo Yebra en Málaga.
DESCRIPTION:En marzo de 2015 Ricardo Yebra compró un billete sin retorno a Sudamérica. A la espalda llevaba una tienda de campaña\, una cocinilla y una mochila con su cámara Canon; en el bolsillo\, algunos ahorros y en la cabeza una idea: hacer cine documental recorriendo a dedo de sur a norte Latinoamérica. Fruto de este viaje de 3.000 km en autostop por Sudamérica es el documental “Lado B”. \nRicardo Yebra nos narrará su experiencia y se proyectarán secuencias del documental “Lado B”\, cinta que fue elegida para competir en el festival de cine de Málaga. \nEl documental relata el intento de superación de una mujer que\, con un bebé en brazos\, abandona Santiago de Chile en dirección a Patagonia para evitar caer en las drogas.
URL:https://old.sge.org/evento/lado-b-con-ricardo-yebra-en-malaga/
LOCATION:Hotel Vincci Posada del Patio\, Calle Santa Isabel 7.\, Málaga\, España
CATEGORIES:Tertulias
ATTACH;FMTTYPE=image/jpeg:https://old.sge.org/wp-content/uploads/2018/05/foto_ladoB.jpg
END:VEVENT
BEGIN:VEVENT
DTSTART;VALUE=DATE:20180520
DTEND;VALUE=DATE:20180521
DTSTAMP:20260424T055632
CREATED:20180508T153821Z
LAST-MODIFIED:20180508T153821Z
UID:13888-1526774400-1526860799@old.sge.org
SUMMARY:Quinta de Torre Arias\, con Pilar Lacasta
DESCRIPTION:Se pueden encontrar hasta 51 especies diferentes de árboles\, algunos excepcionales como una encina con más de 300 años\, algunos almendros y pinos y cedros en gran cantidad. Ha pertenecido a la aristocracia madrileña desde el año 1600 hasta la actualidad. \nSu última propietaria Tatiana Pérez de Guzmán el Bueno\, firmó junto a su marido\, el 15 julio de 1986 un convenio mediante el cual donaba la finca al Ayuntamiento de Madrid. A su fallecimiento\, la totalidad del ámbito ha pasado a ser\, por tanto\, de propiedad municipal. \nPilar Lacasta\, geógrafa y experta en jardines\, guiará la visita.
URL:https://old.sge.org/evento/quinta-de-torre-arias-con-pilar-lacasta/
CATEGORIES:Senderismo
ATTACH;FMTTYPE=image/jpeg:https://old.sge.org/wp-content/uploads/2017/09/torreariasalmendros-copia.jpg
ORGANIZER;CN="SGE":MAILTO:sge@sge.org
END:VEVENT
END:VCALENDAR