BEGIN:VCALENDAR
VERSION:2.0
PRODID:-//Sociedad Geográfica Española - ECPv6.10.3//NONSGML v1.0//EN
CALSCALE:GREGORIAN
METHOD:PUBLISH
X-ORIGINAL-URL:https://old.sge.org
X-WR-CALDESC:Eventos para Sociedad Geográfica Española
REFRESH-INTERVAL;VALUE=DURATION:PT1H
X-Robots-Tag:noindex
X-PUBLISHED-TTL:PT1H

BEGIN:VEVENT
DTSTART;TZID=Europe/Madrid:20260425T131951
DTEND;TZID=Europe/Madrid:20240521T110100
DTSTAMP:20260425T131951
CREATED:20240222T144155Z
LAST-MODIFIED:20240521T110212Z
UID:33751-0-1716289260@old.sge.org
SUMMARY:ALASKA\, LA LLAMADA DE LA NATURALEZA
DESCRIPTION:Diversidad geográfica y conexión con la Naturaleza\, en los confines del mundo habitado de Norteamérica\nAlaska es una península singular\, ubicada entre los océanos Ártico y Pacífico y en el límite noroccidental de Norteamérica que ofrece paisajes extremos. \nEs una tierra de extensas montañas\, glaciares\, bosques y tundra donde el frío y el hielo son las constantes que dirigen los paisajes y condicionan la presencia humana. Aúna el Ártico con su naturaleza salvaje -fauna\, montañas glaciadas\, extensos valles\, turberas\, tundra y taiga- y el desarrollo humano en ciudades y asentamientos -mineros\, militares\, pesqueros- esparcidos por su territorio y que en ocasiones han dejado una profunda huella. \nDe sur a norte se pueden admirar paisajes costeros modelados por el hielo\, con fiordos\, montañas y frentes glaciares sobre el mar que nos llevan a las montañas continentales\, los grandes espacios con las cumbres más altas y donde de nuevo alternan bosques y praderas con unos glaciares que muestran los rastros de su reciente retroceso sin perder la belleza del ártico. Más al norte\, los grandes ríos y sus llanuras dominan el paisaje\, caracterizado por la presencia de amplios bosques y el permafrost. Son extensas masas de coníferas que colonizan los sustratos helados. \n  \n\n 
URL:https://old.sge.org/evento/alaska-la-llamada-de-la-naturaleza/
CATEGORIES:Viajes
ATTACH;FMTTYPE=image/jpeg:https://old.sge.org/wp-content/uploads/2024/02/barth-bailey-DeNUFD4XcNA-unsplash.jpg
ORGANIZER;CN="Sociedad Geogr%C3%A1fica Espa%C3%B1ola":MAILTO:sge@sge.org
END:VEVENT
BEGIN:VEVENT
DTSTART;VALUE=DATE:20180117
DTEND;VALUE=DATE:20180118
DTSTAMP:20260425T131951
CREATED:20180109T114810Z
LAST-MODIFIED:20180109T123121Z
UID:12546-1516147200-1516233599@old.sge.org
SUMMARY:"CARTOGRAFÍAS DE LO DESCONOCIDO" EN LA BIBLIOTECA NACIONAL.
DESCRIPTION:Visita\, exclusiva para socios\, guiada por la comisaria de la exposición Sandra Sáenz-López a la muestra instalada en la Biblioteca Nacional. \nLa Biblioteca Nacional de España da a conocer en la exposición Cartografías de lo desconocido\, que se podrá ver desde el 3 de noviembre al 28 de enero. La muestra presenta más de doscientas obras de valor inestimable sobre el mundo cartográfico en la antigüedad. \nMapas\, manuscritos incunables\, grabados\, atlas\, cartas náuticas… La colección\, procedente de la propia BNE y de otras instituciones españolas\, recoge desde los mapamundi medievales o las cartas de los descubrimiento hasta mapas sobre lugares inexistentes o fenómenos imaginarios. La exposición\, además\, ofrece un recorrido sobre cómo estos documentos han gestionado las novedades\, la información improbable o las regiones ignotas.
URL:https://old.sge.org/evento/cartografias-lo-desconocido-la-biblioteca-nacional/
LOCATION:Biblioteca Nacional\, Paseo de Recoletos 20-22\, Madrid\, España
CATEGORIES:Visitas a museos
ATTACH;FMTTYPE=image/jpeg:https://old.sge.org/wp-content/uploads/2018/01/PoloNorte-scaled.jpg
ORGANIZER;CN="SGE":MAILTO:sge@sge.org
END:VEVENT
BEGIN:VEVENT
DTSTART;TZID=Europe/Madrid:20180118T193000
DTEND;TZID=Europe/Madrid:20180118T210000
DTSTAMP:20260425T131951
CREATED:20180109T115801Z
LAST-MODIFIED:20180109T150557Z
UID:12550-1516303800-1516309200@old.sge.org
SUMMARY:
DESCRIPTION:Eduardo Martínez de Pisón presenta a los socios de Málaga su último libro “La montaña y el arte. Miradas desde la pintura\, la música y la literatura”.\nPara Eduardo Martínez de Pisón la montaña es parte de la exploración geográfica: es un todo geográfico y cultural\, donde su vertiente artística es especialmente reveladora y magnífica. El Mont Blanc y los Alpes\, el Everest y el Himalaya\, o nuestros más cercanos Pirineos o Sierra de Guadarrama\, durante siglos han captado la atención de generaciones de artistas. \nEduardo Martínez de Pisón es el decano de los geógrafos españoles. Es catedrático emérito de Geografía de la Universidad Autónoma de Madrid. Dibujante\, orador\, escritor\, lector\, bibliófilo\, montañero… es uno de los grandes intelectuales de España\, mezcla de hombre de letras y de ciencias. \nEs uno de los nombres indiscutibles del ecologismo en nuestro país. Premio Nacional de Medio Ambiente en 1991\, entre 1991 y 1995 presidió el Comité Español del Comité Científico para la Investigación en la Antártida. Fue vocal del Comité Científico de Parques Nacionales\, es miembro de los patronatos del Parque Nacional de Ordesa y Monte Perdido\, del Parque Nacional de la Sierra de Guadarrama y miembro de honor del patronato del Parque Nacional del Teide. \nLa mayor parte de su investigación\, publicaciones y docencia se centran en Geografía Física: paisajes naturales\, relieves volcánicos\, cordilleras y glaciares. Además\, ha escrito sobre pensamiento geográfico\, geografía medioambiental y sobre las relaciones entre geografía\, paisaje y cultura.
URL:https://old.sge.org/evento/12550/
LOCATION:Hotel Vincci Posada del Patio\, Calle Santa Isabel 7.\, Málaga\, España
CATEGORIES:Tertulias
ATTACH;FMTTYPE=image/jpeg:https://old.sge.org/wp-content/uploads/2018/01/Sin-título-6.jpg
ORGANIZER;CN="SGE":MAILTO:sge@sge.org
END:VEVENT
BEGIN:VEVENT
DTSTART;VALUE=DATE:20180120
DTEND;VALUE=DATE:20180121
DTSTAMP:20260425T131951
CREATED:20180111T130751Z
LAST-MODIFIED:20180111T130751Z
UID:12571-1516406400-1516492799@old.sge.org
SUMMARY:Visita guiada a la Quinta de la Fuente del Berro
DESCRIPTION:Continuamos con el programa dedicado a conocer mejor el patrimonio verde urbano de Madrid\, dirigido por la geógrafa Pilar Lacasta. Debido a que las condiciones meteorológicas no parece que vayan a ser las idóneas para visitar el Jardín de la Casa de Campo\, como era nuestra intención inicial\, se ha considerado oportuno cambiarlo por la visita a la Quinta de la Fuente del Berro\, que por sus dimensiones más reducidas\, y ya que ofrece más cobijo\, se adapta mejor a estos días de enero. \nConsiderado como jardín histórico del siglo XVII\, propiedad municipal desde 1954\,  el jardín de la Quinta de la Fuente del Berro dispone de espléndidos ejemplares arbóreos y arbustivos\, así como de elementos singulares de gran valor\, como es el monumento de la Fuente del Berro cuyas aguas en sus orígenes proveyeron a la Casa Real. Se inscribe dentro de las villas suburbanas de huerta jardín del XVIII y el XIX y su estilo es básicamente paisajista. \n\n 
URL:https://old.sge.org/evento/jardinesfuentedelberro/
CATEGORIES:Senderismo
ATTACH;FMTTYPE=image/jpeg:https://old.sge.org/wp-content/uploads/2018/01/quintafuentedelberro.jpg
ORGANIZER;CN="Sociedad Geogr%C3%A1fica Espa%C3%B1ola":MAILTO:sge@sge.org
END:VEVENT
BEGIN:VEVENT
DTSTART;TZID=Europe/Madrid:20180122T190000
DTEND;TZID=Europe/Madrid:20180122T210000
DTSTAMP:20260425T131951
CREATED:20180109T113812Z
LAST-MODIFIED:20180109T113812Z
UID:12540-1516647600-1516654800@old.sge.org
SUMMARY:Los límites del turismo.
DESCRIPTION:¿Es sostenible el turismo masivo? ¿Cómo afecta al paisaje? ¿Se puede limitar el turismo? ¿Cómo encontrar el término justo entre protección y turismo?  \nCristina Morató\, escritora y miembro de la Junta Directiva de la SGE\, y el geógrafo y miembro de la SGE Eduardo Martínez de Pisón protagonizarán este primer GeoEncuentro de 2018 en el que conversarán sobre uno de los grandes retos actuales: los límites del turismo.   \nEl turismo crece a velocidades cada vez mayores. España batió en 2016 todos los registros turísticos conocidos hasta la fecha\, en menos de 20 años. Según la Organización Mundial del Turismo el volumen de turistas que viajan a otros países se ha duplicado\, y de los 674 millones registrados en el 2000 se ha pasado a 1.200 millones el año pasado. Esta situación genera optimismo en determinados sectores\, pero tensiones\, en otros: ciudades saturadas\, complicada convivencia con turistas\, saturación de servicios e infraestructuras\, riesgo medioambiental e incertidumbres sobre la sostenibilidad futura. \nFijar tasas\, regular el tránsito de personas\, acotar la construcción de hoteles\, itinerarios alternativos… son algunas de las limitaciones que ya se están planteando en los destinos más masificados ¿es la solución? ¿hasta dónde se puede limitar? ¿y qué papel juega la responsabilidad del viajero? \nCristina Morató\, miembro fundador de la Sociedad Geográfica Española. Periodista\, es fotógrafa\, escritora y directora de programas de televisión\, es especialmente reconocida por sus ensayos biográficos sobre viajeras y exploradoras\, trabajos en los ha centrado su trabajo desde 2001. Lleva más de veinte años recorriendo el mundo como reportera y ha visitado más de cincuenta países realizando numerosos artículos y reportajes. Ha vivido largas temporadas en países de América Latina- donde trabajó como reportera de guerra en Nicaragua\, Honduras y El Salvador- y Asia. Trabajó en proyectos de cooperación en diversos países africanos. \nHa alternado sus viajes con la dirección de programas de televisión\, hasta que en 2001 decidió dedicarse exclusivamente a rescatar las biografías de grandes viajeras y exploradoras del pasado olvidadas por la historia. Actualmente compagina su trabajo como escritora y conferenciante con la publicación de artículos de opinión y reportajes en diversos medios. \nEduardo Martínez de Pisón es el decano de los geógrafos españoles. Es catedrático emérito de Geografía de la Universidad Autónoma de Madrid. Dibujante\, orador\, escritor\, lector\, bibliófilo\, montañero… es uno de los grandes intelectuales de España\, mezcla de hombre de letras y de ciencias. \nEs uno de los nombres indiscutibles del ecologismo en nuestro país. Premio Nacional de Medio Ambiente en 1991\, entre 1991 y 1995 presidió el Comité Español del Comité Científico para la Investigación en la Antártida. Fue vocal del Comité Científico de Parques Nacionales\, es miembro de los patronatos del Parque Nacional de Ordesa y Monte Perdido\, del Parque Nacional de la Sierra de Guadarrama y miembro de honor del patronato del Parque Nacional del Teide. \nLa mayor parte de su investigación\, publicaciones y docencia se centran en Geografía Física: paisajes naturales\, relieves volcánicos\, cordilleras y glaciares. Además\, ha escrito sobre pensamiento geográfico\, geografía medioambiental y sobre las relaciones entre geografía\, paisaje y cultura.
URL:https://old.sge.org/evento/los-limites-del-turismo/
LOCATION:Pangea The Travel Store\, Príncipe de Vergara 26\, Madrid\, España
CATEGORIES:Tertulias
ATTACH;FMTTYPE=image/jpeg:https://old.sge.org/wp-content/uploads/2018/01/tourists_photograph.jpg
ORGANIZER;CN="SGE":MAILTO:sge@sge.org
END:VEVENT
BEGIN:VEVENT
DTSTART;VALUE=DATE:20180127
DTEND;VALUE=DATE:20180128
DTSTAMP:20260425T131951
CREATED:20180111T132632Z
LAST-MODIFIED:20180111T135050Z
UID:12576-1517011200-1517097599@old.sge.org
SUMMARY:Visita al Museo del Ejército en Toledo
DESCRIPTION:Visita especial para socios al Museo del Ejército de Toledo en la que\, además de recorrer las instalaciones del Alcázar y las del nuevo edificio\, y de visitar la exposición temporal dedicada a la modernización militar ocurrida durante el reinado de Carlos III\, se mostrará a los socios el proceso de catalogación y preparación de los fondos desde el momento de su recepción hasta la de su archivo o exposición permanente. \nEl Museo del Ejército es el resultado de la fusión de diversos Museos Militares creados a lo largo del siglo XIX y principios del XX. Su núcleo fundacional está constituido por el de Artillería e Ingenieros. \nEn 1929\, se plantea ya la idea de organizar un nuevo Museo reuniendo todos los Museos Militares existentes\, aunque nunca llegó a materializarse. Hubo que esperar a la II República\, cuando se crea el Museo Histórico Militar\, en 1932\, incluyendo secciones para las cuatro Armas y los Cuerpos de Intendencia y Sanidad Militar. Tras la Guerra Civil\, el Museo adquiere la estructura y organización que estuvo vigente en la sede del Palacio del Buen Retiro. Actualmente el Museo del Ejército tiene su sede en el Alcázar de Toledo\, lo que ha implicado no sólo un cambio geográfico\, sino la reestructuración del concepto expositivo y el planteamiento museográfico\, acordes con las tendencias más en boga\, además de una restauración del edificio y construcción de nuestras instalaciones que lo han convertido en una cita más de interés a la hora de visitar la ciudad. \nLos fondos del Museo del Ejército permiten a los visitantes hacer un recorrido histórico desde la aparición de la Monarquía Hispánica hasta el siglo XX\, además de otros de carácter temático\, donde destaca la completa colección de armas de fuego portátiles con modelos reglamentarios de todas las épocas. Uniformes\, documentos y fotografías entre otros objetos completan la exposición. \nMás información\nhttp://www.museo.ejercito.es/
URL:https://old.sge.org/evento/visita-al-museo-del-ejercito-toledo/
CATEGORIES:Visitas a museos
ATTACH;FMTTYPE=image/jpeg:https://old.sge.org/wp-content/uploads/2018/01/1200px-Alcázar_de_Toledo_-_03.jpg
ORGANIZER;CN="Sociedad Geogr%C3%A1fica Espa%C3%B1ola":MAILTO:sge@sge.org
END:VEVENT
END:VCALENDAR