BEGIN:VCALENDAR
VERSION:2.0
PRODID:-//Sociedad Geográfica Española - ECPv6.10.3//NONSGML v1.0//EN
CALSCALE:GREGORIAN
METHOD:PUBLISH
X-WR-CALNAME:Sociedad Geográfica Española
X-ORIGINAL-URL:https://old.sge.org
X-WR-CALDESC:Eventos para Sociedad Geográfica Española
REFRESH-INTERVAL;VALUE=DURATION:PT1H
X-Robots-Tag:noindex
X-PUBLISHED-TTL:PT1H

BEGIN:VEVENT
DTSTART;TZID=Europe/Madrid:20260425T184731
DTEND;TZID=Europe/Madrid:20240521T110100
DTSTAMP:20260425T184731
CREATED:20240222T144155Z
LAST-MODIFIED:20240521T110212Z
UID:33751-0-1716289260@old.sge.org
SUMMARY:ALASKA\, LA LLAMADA DE LA NATURALEZA
DESCRIPTION:Diversidad geográfica y conexión con la Naturaleza\, en los confines del mundo habitado de Norteamérica\nAlaska es una península singular\, ubicada entre los océanos Ártico y Pacífico y en el límite noroccidental de Norteamérica que ofrece paisajes extremos. \nEs una tierra de extensas montañas\, glaciares\, bosques y tundra donde el frío y el hielo son las constantes que dirigen los paisajes y condicionan la presencia humana. Aúna el Ártico con su naturaleza salvaje -fauna\, montañas glaciadas\, extensos valles\, turberas\, tundra y taiga- y el desarrollo humano en ciudades y asentamientos -mineros\, militares\, pesqueros- esparcidos por su territorio y que en ocasiones han dejado una profunda huella. \nDe sur a norte se pueden admirar paisajes costeros modelados por el hielo\, con fiordos\, montañas y frentes glaciares sobre el mar que nos llevan a las montañas continentales\, los grandes espacios con las cumbres más altas y donde de nuevo alternan bosques y praderas con unos glaciares que muestran los rastros de su reciente retroceso sin perder la belleza del ártico. Más al norte\, los grandes ríos y sus llanuras dominan el paisaje\, caracterizado por la presencia de amplios bosques y el permafrost. Son extensas masas de coníferas que colonizan los sustratos helados. \n  \n\n 
URL:https://old.sge.org/evento/alaska-la-llamada-de-la-naturaleza/
CATEGORIES:Viajes
ATTACH;FMTTYPE=image/jpeg:https://old.sge.org/wp-content/uploads/2024/02/barth-bailey-DeNUFD4XcNA-unsplash.jpg
ORGANIZER;CN="Sociedad Geogr%C3%A1fica Espa%C3%B1ola":MAILTO:sge@sge.org
END:VEVENT
BEGIN:VEVENT
DTSTART;TZID=Europe/Madrid:20171107T190000
DTEND;TZID=Europe/Madrid:20171107T210000
DTSTAMP:20260425T184731
CREATED:20171031T092755Z
LAST-MODIFIED:20171106T094416Z
UID:11591-1510081200-1510088400@old.sge.org
SUMMARY:Tertulia: últimos hallazgos arqueológicos en la selva de Perú\, con Diego Cortijo
DESCRIPTION:Diego Cortijo\, explorador vallisoletano y miembro de la Sociedad Geográfica Española\, lleva siete años explorando el corazón de la selva peruana y toda una vida buscando respuestas sobre los mitos de la antigüedad\, como la existencia de este mítico enclave. Después de numerosos esfuerzos y acompañado de la arqueóloga peruana Geanette Guzmán y de un grupo de nativos amarakaeri\, ha dado con los restos de un complejo arqueológico en la Reserva Comunal Amarakaeri\, en la frontera con Brasil y Bolivia en su más reciente expedición. Según la arqueóloga\, que ya ha hecho público el informe\, se trata de las ruinas de una plataforma en forma de pirámide truncada de uso ceremonial construida en la época pre-inca y reutilizada hasta el periodo inca. \nCortijo estará en la tertulia de la SGE en Madrid para contarnos los detalles de la exploración y las consecuencias del descubrimiento.
URL:https://old.sge.org/evento/tertulia-ultimos-hallazgos-arqueologicos-la-selva-peru-diego-cortijo/
LOCATION:Pangea The Travel Store\, Príncipe de Vergara 26\, Madrid\, España
CATEGORIES:Tertulias
ATTACH;FMTTYPE=image/jpeg:https://old.sge.org/wp-content/uploads/2017/09/equipo-diego-cortijo-scaled.jpg
END:VEVENT
BEGIN:VEVENT
DTSTART;TZID=Europe/Madrid:20171118T090000
DTEND;TZID=Europe/Madrid:20171118T130000
DTSTAMP:20260425T184731
CREATED:20171031T091338Z
LAST-MODIFIED:20171114T123358Z
UID:11583-1510995600-1511010000@old.sge.org
SUMMARY:Patrimonio verde urbano: el Real Jardín Botánico en otoño\, con Pilar Lacasta.
DESCRIPTION:Visitar el Real Jardín Botánico es un placer en cualquier época del año. Visitarlo en otoño es una experiencia maravillosa. \nCaminar por un jardín siempre es emocionante porque reactiva la sensación de pertenencia a la tierra\, a la naturaleza\, que muchas veces se olvida en las ciudades. Pero recorrer un jardín botánico hace algo más\, nos lleva a caminar con los grandes exploradores\, a imaginar lo que vivieron cuando recolectaban semillas y plantas de lugares lejanos\, y nos permite conocer especies vegetales que no encontramos en nuestros ecosistemas. \nLa visita puede ser muy diferente dependiendo del objetivo que se persiga: estudio botánico y del origen de sus especies vegetales; estudio histórico del jardín; estudio de los arquitectos\, jardineros y paisajistas que lo han diseñado y a los que se debe su estructura actual\, paseo contemplativo… \nIntentaremos\, en unas horas ver un poco de todo ello y\, como no podía ser de otra manera\, analizar su posición en el conjunto del Paseo del Prado y la importancia de la construcción de este paseo. \nPara finalizar\, haremos una pequeña visita al jardín vertical de Caixa Forum. \n> Visita guiada por Pilar Lacasta\, geógrafa de la Universidad Autónoma de Madrid y experta en jardines\, con numerosas publicaciones y estudios sobre el tema. \n 
URL:https://old.sge.org/evento/real-jardin-botanico-otono-pilar-lacasta/
CATEGORIES:Senderismo
ATTACH;FMTTYPE=image/jpeg:https://old.sge.org/wp-content/uploads/2017/10/rjb_otoño.jpg
END:VEVENT
BEGIN:VEVENT
DTSTART;TZID=Europe/Madrid:20171124T083000
DTEND;TZID=Europe/Madrid:20171124T120000
DTSTAMP:20260425T184731
CREATED:20171019T111715Z
LAST-MODIFIED:20171114T125630Z
UID:11414-1511512200-1511524800@old.sge.org
SUMMARY:Visita al Palacio de Buenavista\, sede del Cuartel General del Ejército de Tierra.
DESCRIPTION:Escondido detrás de los frondosos árboles de su propio jardín\, en plena Plaza de Cibeles\, el Palacio de Buenavista\, actual sede del Cuartel General del Ejército de Tierra\, es uno de los edificios más importantes\, y desconocidos de la capital\, y donde se alberga una importante colección obras de arte. \nLa visita guiada incluye un recorrido por la zona noble\, un concierto y la ceremonia de cambio de Guardia. \nInscripciones abiertas en sge@sge.org y en el 91 528 38 47. \n\nPlazas limitadas. \n 
URL:https://old.sge.org/evento/visita-al-palacio-de-buenavista/
CATEGORIES:Visitas a museos
ATTACH;FMTTYPE=image/jpeg:https://old.sge.org/wp-content/uploads/2017/10/palacio-de-buenavista.jpg
ORGANIZER;CN="Sociedad Geogr%C3%A1fica Espa%C3%B1ola":MAILTO:sge@sge.org
END:VEVENT
BEGIN:VEVENT
DTSTART;TZID=Europe/Madrid:20171124T190000
DTEND;TZID=Europe/Madrid:20171124T210000
DTSTAMP:20260425T184731
CREATED:20171123T122947Z
LAST-MODIFIED:20171123T142431Z
UID:12028-1511550000-1511557200@old.sge.org
SUMMARY:"Viaje al centro de la Tierra"\, tertulia en Málaga con Sergio García-Dils
DESCRIPTION:“Demasiado deportiva para los científicos y demasiado científica para los deportistas”\, así se refiere el espeleólogo y Premio Viajero del Año SGE 2016 Sergio García-Dils a la espeleología. García-Dils siempre recalca que gracias a los satélites es fácil conocer la superficie terrestre\, pero apenas queda territorio para lo inexplorado: solo el océano\, el espacio y las grandes simas terrestres. Consciente de ello\, en sus viajes al centro de la Tierra\, García-Dils ha descubierto ecosistemas completos que habitan a 2.000 metros de profundidad y 12 nuevas especies. \nEn la tertulia de noviembre en Málaga\, nuestro reciente Premio SGE Viajero del Año nos explicará cómo es su trabajo como espeleólogo en las simas del valle glaciar de Orto-Balagán (Cáucaso Occidental)\, el Everest de las profundidades de la Tierra\, la única cavidad natural conocida hasta el momento que alcanza los 2.000 metros de profundidad.
URL:https://old.sge.org/evento/viaje-al-centro-la-tierra-sergio-garcia-dils/
LOCATION:Hotel Vincci Posada del Patio\, Calle Santa Isabel 7.\, Málaga\, España
CATEGORIES:Tertulias
ATTACH;FMTTYPE=image/jpeg:https://old.sge.org/wp-content/uploads/2016/01/dils-recortada-scaled.jpg
END:VEVENT
BEGIN:VEVENT
DTSTART;VALUE=DATE:20171127
DTEND;VALUE=DATE:20171128
DTSTAMP:20260425T184731
CREATED:20171110T095923Z
LAST-MODIFIED:20171114T122041Z
UID:11790-1511740800-1511827199@old.sge.org
SUMMARY:Dersu Uzala\, en Cartocine.
DESCRIPTION:Este mes proyectamos en CARTOCINE la película “Dersu Uzala”\, adaptación de Akira Kurosawa al cine de “Dersu Uzala\, La Taiga del Ussuri.” del explorador y naturalista ruso Vladímir Arséniev.  Se trata de un libro de viajes en el que el escritor dejó constancia de sus experiencias como cartógrafo en este salvaje territorio a principios del siglo XX junto a un anciano cazador de la tribu de los hezhen. Su relación de amistad con él marcaría toda su vida. \nJose Antonio Rodríguez Esteban\, miembro de la Junta Directiva de la SGE\, presentará y hará una introducción de la película. \nLa SGE y CARTO\, Premio Iniciativa/Empresa SGE 2016\, han organizado este ciclo de cine en el que se proyectarán en la sede de CARTO algunas de las películas que mejor han recogido las historias de la exploración  del planeta. El ciclo comenzó con la proyección de “Las montañas de la Luna” en septiembre de 2017. \n\nPlazas limitadas\nInformación y reservas en sge@sge.org y 91 528 38 47
URL:https://old.sge.org/evento/dersu-uzala-cartocine/
LOCATION:CARTO\, Gran Vía 46 2º Piso\, Madrid\, NC\, 28003\, España
CATEGORIES:Presentaciones
ATTACH;FMTTYPE=image/png:https://old.sge.org/wp-content/uploads/2017/07/Imagen3.png
ORGANIZER;CN="Sociedad Geogr%C3%A1fica Espa%C3%B1ola":MAILTO:sge@sge.org
END:VEVENT
END:VCALENDAR