BEGIN:VCALENDAR
VERSION:2.0
PRODID:-//Sociedad Geográfica Española - ECPv6.10.3//NONSGML v1.0//EN
CALSCALE:GREGORIAN
METHOD:PUBLISH
X-ORIGINAL-URL:https://old.sge.org
X-WR-CALDESC:Eventos para Sociedad Geográfica Española
REFRESH-INTERVAL;VALUE=DURATION:PT1H
X-Robots-Tag:noindex
X-PUBLISHED-TTL:PT1H
BEGIN:VTIMEZONE
TZID:Europe/Madrid
BEGIN:DAYLIGHT
TZOFFSETFROM:+0100
TZOFFSETTO:+0200
TZNAME:CEST
DTSTART:20120325T010000
END:DAYLIGHT
BEGIN:STANDARD
TZOFFSETFROM:+0200
TZOFFSETTO:+0100
TZNAME:CET
DTSTART:20121028T010000
END:STANDARD
END:VTIMEZONE
BEGIN:VEVENT
DTSTART;VALUE=DATE:20120306
DTEND;VALUE=DATE:20120307
DTSTAMP:20260420T102233
CREATED:20160405T121325Z
LAST-MODIFIED:20160405T121325Z
UID:374-1330992000-1331078399@old.sge.org
SUMMARY:Visita a la exposición: España explora. Malaspina 2010. Cambio global y biodiversidad en el océano
DESCRIPTION:NOTA IMPORTANTE: EL MARTES 6 DE MARZO NO HABRÁ TERTULIA MENSUAL DE SOCIOS POR COINCIDIR CON LA VISITA A LA EXPOSICIÓN “ESPAÑA EXPLORA” \nLa SGE ha organizado una visita\, exclusiva para socios\,  guiada por uno de los comisarios de la exposición y miembro de la SGE Miguel Ángel Puig-Samper. La muestra ofrece  un recorrido por las diferentes facetas de las expediciones de exploración del océano global llevadas a cabo por España en los últimos quinientos años: las motivaciones\, los desafíos\, la tecnología usada y los resultados de investigación obtenidos durante las mismas. \nEl contenido de la exposición se estructura en tres partes dedicadas a: 500 años de exploración marítima española; orígenes de la oceanografía y la Expedición Malaspina 2010; y cambio global y biodiversidad en los océanos. \nMás información\nMartes\, 6 de marzo de 2012. \nInformación y reservas en sge@sge.org y en el 91 528 38 47\nPlazas limitadas. Plazo de inscripción abierto
URL:https://old.sge.org/evento/visita-a-la-exposicion-espana-explora-malaspina-2010-cambio-global-y-biodiversidad-en-el-oceano/
CATEGORIES:Visitas a museos
ORGANIZER;CN="SGE":MAILTO:sge@sge.org
END:VEVENT
END:VCALENDAR