BEGIN:VCALENDAR
VERSION:2.0
PRODID:-//Sociedad Geográfica Española - ECPv6.10.3//NONSGML v1.0//EN
CALSCALE:GREGORIAN
METHOD:PUBLISH
X-ORIGINAL-URL:https://old.sge.org
X-WR-CALDESC:Eventos para Sociedad Geográfica Española
REFRESH-INTERVAL;VALUE=DURATION:PT1H
X-Robots-Tag:noindex
X-PUBLISHED-TTL:PT1H
BEGIN:VTIMEZONE
TZID:Europe/Madrid
BEGIN:DAYLIGHT
TZOFFSETFROM:+0100
TZOFFSETTO:+0200
TZNAME:CEST
DTSTART:20120325T010000
END:DAYLIGHT
BEGIN:STANDARD
TZOFFSETFROM:+0200
TZOFFSETTO:+0100
TZNAME:CET
DTSTART:20121028T010000
END:STANDARD
END:VTIMEZONE
BEGIN:VEVENT
DTSTART;VALUE=DATE:20120116
DTEND;VALUE=DATE:20120117
DTSTAMP:20260422T140520
CREATED:20160405T121243Z
LAST-MODIFIED:20160405T121243Z
UID:373-1326672000-1326758399@old.sge.org
SUMMARY:Visita a la Exposición Pompeya. Catástrofe bajo el Vesubio
DESCRIPTION:Cuando en el año 79 d.C. la ceniza sepultó las poblaciones de Pompeya\, Herculano yEstabia en la Campania\, se consumó una de las peores catástrofes de la historia. Su dramática destrucción las ha convertido\, paradójicamente\, en el yacimiento más importante y mejor conservado de la época romana. Una auténtica fotografía de cómo se vivía hace ahora dos mil años. \nLa SGE ha organizado una visita guiada\, exclusiva para socios\, a esta muestra\, compuesta por más de 600 piezas procedentes de museos italianos\, alemanes y españoles\, que pretende enseñar a los visitantes cómo era la vida de los pompeyanos antes de la erupción del Vesubio en el año 79 d.C\, así como las consecuencias de esa terrible catástrofe. Además\, se quiere resaltar la importancia de Carlos III\, el “Rey Arqueólogo”\, descubridor y auténtico impulsor de las excavaciones en Pompeya. \nLa visita será guiada por Carlos Buenacasa\, Doctor en Historia Antigua\, especialista en Mundo Clásico y Tardoantiguo de la Universidad de Barcelona. \nMás información\nMiércoles\, 16 de enero de 2012. \nInformación y reservas en sge@sge.org y en el 91 528 38 47\nPlazas limitadas. Plazo de inscripción abierto
URL:https://old.sge.org/evento/visita-a-la-exposicion-pompeya-catastrofe-bajo-el-vesubio/
CATEGORIES:Visitas a museos
ORGANIZER;CN="SGE":MAILTO:sge@sge.org
END:VEVENT
END:VCALENDAR