BEGIN:VCALENDAR
VERSION:2.0
PRODID:-//Sociedad Geográfica Española - ECPv6.10.3//NONSGML v1.0//EN
CALSCALE:GREGORIAN
METHOD:PUBLISH
X-ORIGINAL-URL:https://old.sge.org
X-WR-CALDESC:Eventos para Sociedad Geográfica Española
REFRESH-INTERVAL;VALUE=DURATION:PT1H
X-Robots-Tag:noindex
X-PUBLISHED-TTL:PT1H
BEGIN:VTIMEZONE
TZID:Europe/Madrid
BEGIN:DAYLIGHT
TZOFFSETFROM:+0100
TZOFFSETTO:+0200
TZNAME:CEST
DTSTART:20110327T010000
END:DAYLIGHT
BEGIN:STANDARD
TZOFFSETFROM:+0200
TZOFFSETTO:+0100
TZNAME:CET
DTSTART:20111030T010000
END:STANDARD
END:VTIMEZONE
BEGIN:VEVENT
DTSTART;VALUE=DATE:20110627
DTEND;VALUE=DATE:20110916
DTSTAMP:20260423T005841
CREATED:20160405T121620Z
LAST-MODIFIED:20160405T121620Z
UID:376-1309132800-1316131199@old.sge.org
SUMMARY:Exposición fotográfica de la SGE en "La Galería" de la Fundación Ramón Areces
DESCRIPTION:La SGE\, en colaboración con la Fundación Mutua Madrileña ha estrenado desde el 27 de junio\, y hasta el 15 de septiembre\, una exposición que recoge una selección de las imágenes de los galardonados con los Premios de la SGE a lo largo de estos años. \nSe trata de una oportunidad para dar a conocer a un gran público el trabajo de la SGE en la divulgación de la exploración\, la investigación y el conocimiento geográfico a través de las fotografías que los Premiados de la SGE nos hacen llegar y que nos invitan a soñar con nuevos horizontes. \nLa exposición está instalada en “La Galería”\, el espacio dedicado a las muestras fotográficas en la pasarela que une los edificios corporativos de la Mutua en Castellana 33 y Fortuny 18 en Madrid. La muestra permanecerá abierta al público hasta el 15 de septiembre de lunes a viernes de 08:00 a 15:00 h y los sábados de 09:00 a 13:00 h. El acceso es gratuito.
URL:https://old.sge.org/evento/exposicion-fotografica-de-la-sge-en-la-galeria-de-la-fundacion-ramon-areces/
CATEGORIES:Visitas a museos
END:VEVENT
END:VCALENDAR