BEGIN:VCALENDAR
VERSION:2.0
PRODID:-//Sociedad Geográfica Española - ECPv6.10.3//NONSGML v1.0//EN
CALSCALE:GREGORIAN
METHOD:PUBLISH
X-WR-CALNAME:Sociedad Geográfica Española
X-ORIGINAL-URL:https://old.sge.org
X-WR-CALDESC:Eventos para Sociedad Geográfica Española
REFRESH-INTERVAL;VALUE=DURATION:PT1H
X-Robots-Tag:noindex
X-PUBLISHED-TTL:PT1H
BEGIN:VTIMEZONE
TZID:Europe/Madrid
BEGIN:DAYLIGHT
TZOFFSETFROM:+0100
TZOFFSETTO:+0200
TZNAME:CEST
DTSTART:20110327T010000
END:DAYLIGHT
BEGIN:STANDARD
TZOFFSETFROM:+0200
TZOFFSETTO:+0100
TZNAME:CET
DTSTART:20111030T010000
END:STANDARD
END:VTIMEZONE
BEGIN:VEVENT
DTSTART;TZID=Europe/Madrid:20110302T073000
DTEND;TZID=Europe/Madrid:20110302T210000
DTSTAMP:20260423T085914
CREATED:20160405T121726Z
LAST-MODIFIED:20160405T121726Z
UID:377-1299051000-1299099600@old.sge.org
SUMMARY:Ciclo de conferencias: Residencia de Estudiantes
DESCRIPTION:La Residencia de Estudiantes ha organizado un ciclo de conferencias con motivo de la exposición “Viajeros por el conocimiento”. \nLa primera de ellas\, “El general Bruce\, el Monte Everest y la Residencia de Estudiantes”\, será impartida por el geógrafo y miembro de la SGE\, Eduardo Martínez de Pisón. \nEl brigadier general Charles Granville Bruce vino a Madrid a dar una conferencia en la Residencia de Estudiantes sobre el “asalto” al Everest el 12 de enero de 1926. Había dirigido la expedición británica del año 1922 y parcialmente la de 1924\, que había terminado con la desaparición de dos de sus alpinistas cerca de la cumbre y con la incógnita sobre su posible conquista de la montaña más alta de la Tierra. Pero además el mapa del macizo del Everest logrado entre 1921 y 1924 por la Royal Geographical Society\, las fotos\, los dibujos\, relatos\, libros\, conferencias\, películas\, descripciones geográficas\, y los estudios de geología y botánica\, dieron lugar\, gracias a aquellas exploraciones\, a un avance sustancial en el conocimiento del Himalaya. \nMiércoles\, 02 de marzo de 2011\, 19:30 h. \nResidencia de Estudiantes \nCalle Pinar 21-23. Madrid
URL:https://old.sge.org/evento/ciclo-de-conferencias-residencia-de-estudiantes/
LOCATION:Residencia de Estudiantes\, Calle Pinar 21-23\, Madrid\, España
CATEGORIES:Visitas a museos
END:VEVENT
END:VCALENDAR