BEGIN:VCALENDAR
VERSION:2.0
PRODID:-//Sociedad Geográfica Española - ECPv6.10.3//NONSGML v1.0//EN
CALSCALE:GREGORIAN
METHOD:PUBLISH
X-ORIGINAL-URL:https://old.sge.org
X-WR-CALDESC:Eventos para Sociedad Geográfica Española
REFRESH-INTERVAL;VALUE=DURATION:PT1H
X-Robots-Tag:noindex
X-PUBLISHED-TTL:PT1H
BEGIN:VTIMEZONE
TZID:Europe/Madrid
BEGIN:DAYLIGHT
TZOFFSETFROM:+0100
TZOFFSETTO:+0200
TZNAME:CEST
DTSTART:20110327T010000
END:DAYLIGHT
BEGIN:STANDARD
TZOFFSETFROM:+0200
TZOFFSETTO:+0100
TZNAME:CET
DTSTART:20111030T010000
END:STANDARD
END:VTIMEZONE
BEGIN:VEVENT
DTSTART;TZID=Europe/Madrid:20110129T103000
DTEND;TZID=Europe/Madrid:20110129T140000
DTSTAMP:20260424T142431
CREATED:20160405T122105Z
LAST-MODIFIED:20160405T122105Z
UID:382-1296297000-1296309600@old.sge.org
SUMMARY:"Viajeros por el conocimiento" en la Residencia de Estudiantes
DESCRIPTION:La SGE ha organizado una visita\, exclusiva para socios\, a la exposición “Viajeros por el conocimiento” instalada en la Residencia de Estudiantes. Previamente a la visita se impartirá una charla explicativa. \nCon esta exposición y en las palabras de su comisaria\, Estrella de Diego\, “vuelven a los ojos de la imaginación aquellas sesiones\, aquellas conferencias\, y se revive la emoción de quienes las escuchaban\, emociones que\, reflejadas en los documentos y los objetos expuestos\, tratarán de reproducir en estas salas de la Residencia un poco de aquel vértigo por el saber que debieron de suscitar los viajeros por el conocimiento y sus noticias del mundo de entonces\, que siguen fascinando en su extraordinaria contemporaneidad“. \nMás información\nSábado\, 29 de enero de 2011\, 10:30 h. \nInformación y reservas en sge@sge.org; 91 528 38 47 \nInscripciones a partir del día 10 de enero de 2011.
URL:https://old.sge.org/evento/viajeros-por-el-conocimiento-en-la-residencia-de-estudiantes/
CATEGORIES:Visitas a museos
ORGANIZER;CN="SGE":MAILTO:sge@sge.org
END:VEVENT
END:VCALENDAR