BEGIN:VCALENDAR
VERSION:2.0
PRODID:-//Sociedad Geográfica Española - ECPv6.10.3//NONSGML v1.0//EN
CALSCALE:GREGORIAN
METHOD:PUBLISH
X-WR-CALNAME:Sociedad Geográfica Española
X-ORIGINAL-URL:https://old.sge.org
X-WR-CALDESC:Eventos para Sociedad Geográfica Española
REFRESH-INTERVAL;VALUE=DURATION:PT1H
X-Robots-Tag:noindex
X-PUBLISHED-TTL:PT1H
BEGIN:VTIMEZONE
TZID:Europe/Madrid
BEGIN:DAYLIGHT
TZOFFSETFROM:+0100
TZOFFSETTO:+0200
TZNAME:CEST
DTSTART:20150329T010000
END:DAYLIGHT
BEGIN:STANDARD
TZOFFSETFROM:+0200
TZOFFSETTO:+0100
TZNAME:CET
DTSTART:20151025T010000
END:STANDARD
END:VTIMEZONE
BEGIN:VEVENT
DTSTART;TZID=Europe/Madrid:20150225T073000
DTEND;TZID=Europe/Madrid:20150225T210000
DTSTAMP:20260423T004811
CREATED:20160404T113346Z
LAST-MODIFIED:20160404T113409Z
UID:259-1424849400-1424898000@old.sge.org
SUMMARY:Tertulia mensual de socios en Barcelona: "El país de los Cárpatos" con Sergi Lara
DESCRIPTION:La charla-presentación se centrará en el arco septentrional de los Cárpatos\, desde las riberas del mítico río Danubio hasta el techo de la cordillera\, los montes Tatras. En los apenas 450 kilómetros del territorio que abraza la actual Eslovaquia y el sur de Polonia\, la diversidad y calidad de los paisajes nos descubre una de las últimas fronteras de Europa.  Sergi Lara\, Geógrafo\, guía de montaña profesional y miembro de la SGE\, es autor de 20 libros sobre territorios locales y destinos remotos\, lo que demuestra su gran polivalencia en todos los terrenos\, ya sea en lo referente a deportes outdoor\, como en grandes viajes de aventura. \n Miércoles\, 25 de febrero de 2015. 19:30 h.  \nEspacio Catai. Via Augusta 1-3. Barcelona.  \nACCESO LIBRE
URL:https://old.sge.org/evento/tertulia-mensual-de-socios-en-barcelona-el-pais-de-los-carpatos-con-sergi-lara/
LOCATION:Espacio Catai\, Vía Augusta 1-3\, Barcelona\, España
CATEGORIES:Tertulias
END:VEVENT
END:VCALENDAR