BEGIN:VCALENDAR
VERSION:2.0
PRODID:-//Sociedad Geográfica Española - ECPv6.10.3//NONSGML v1.0//EN
CALSCALE:GREGORIAN
METHOD:PUBLISH
X-ORIGINAL-URL:https://old.sge.org
X-WR-CALDESC:Eventos para Sociedad Geográfica Española
REFRESH-INTERVAL;VALUE=DURATION:PT1H
X-Robots-Tag:noindex
X-PUBLISHED-TTL:PT1H
BEGIN:VTIMEZONE
TZID:Europe/Madrid
BEGIN:DAYLIGHT
TZOFFSETFROM:+0100
TZOFFSETTO:+0200
TZNAME:CEST
DTSTART:20150329T010000
END:DAYLIGHT
BEGIN:STANDARD
TZOFFSETFROM:+0200
TZOFFSETTO:+0100
TZNAME:CET
DTSTART:20151025T010000
END:STANDARD
END:VTIMEZONE
BEGIN:VEVENT
DTSTART;TZID=Europe/Madrid:20150203T073000
DTEND;TZID=Europe/Madrid:20150203T210000
DTSTAMP:20260423T003121
CREATED:20160404T113453Z
LAST-MODIFIED:20160404T113453Z
UID:260-1422948600-1422997200@old.sge.org
SUMMARY:Tertulia mensual de socios en Madrid: Presentación de "Tierra" de Marta Sarramián
DESCRIPTION:Una isla habitada únicamente por un hombre\, aislado desde hace veintisiete años\, tres amigos que recalan en la arena\, una amistad que crece\, un sueño compartido y una aventura insospechada que nace en el mismo momento en que vuelven a pisar Tierra. Los tres se embarcan en una hazaña en la que se ven atrapados en una trama de poder\, ambición y corrupción al ayudar a su amigo isleño a vender su isla. Marta Sarramián\, escritora\, cooperante y viajera empedernida\, ha compaginado siempre su vocación solidaria con su formación\, lo que la llevó a desarrollar su carrera profesional en el ámbito de la cooperación internacional cultural\, colaborando en organizaciones como Fundación Vicente Ferrer (2008-09)\, Coopera (2009) y trabajando para organismos como UNESCO (2010)\, donde desarrolló una consultoría de la situación del sector cultura en Panamá\, especializándose en comunidades indígenas y afro-descendientes. \nMartes\, 3 de febrero de 2015. 19:30 h.  \nGran Hotel Velázquez (Velázquez 62. Madrid).  \nACCESO LIBRE
URL:https://old.sge.org/evento/tertulia-mensual-de-socios-en-madrid-presentacion-de-tierra-de-marta-sarramian/
LOCATION:Gran Hotel Velázquez\, Velazquez 62\, Madrid\, España
CATEGORIES:Tertulias
END:VEVENT
END:VCALENDAR