BEGIN:VCALENDAR
VERSION:2.0
PRODID:-//Sociedad Geográfica Española - ECPv6.10.3//NONSGML v1.0//EN
CALSCALE:GREGORIAN
METHOD:PUBLISH
X-ORIGINAL-URL:https://old.sge.org
X-WR-CALDESC:Eventos para Sociedad Geográfica Española
REFRESH-INTERVAL;VALUE=DURATION:PT1H
X-Robots-Tag:noindex
X-PUBLISHED-TTL:PT1H
BEGIN:VTIMEZONE
TZID:Europe/Madrid
BEGIN:DAYLIGHT
TZOFFSETFROM:+0100
TZOFFSETTO:+0200
TZNAME:CEST
DTSTART:20150329T010000
END:DAYLIGHT
BEGIN:STANDARD
TZOFFSETFROM:+0200
TZOFFSETTO:+0100
TZNAME:CET
DTSTART:20151025T010000
END:STANDARD
END:VTIMEZONE
BEGIN:VEVENT
DTSTART;TZID=Europe/Madrid:20150127T073000
DTEND;TZID=Europe/Madrid:20150127T210000
DTSTAMP:20260423T003123
CREATED:20160404T113545Z
LAST-MODIFIED:20160404T113545Z
UID:261-1422343800-1422392400@old.sge.org
SUMMARY:Tertulia mensual de socios en Barcelona:"Viaje al blanco. Último grado al Polo Norte" con Jordi Canal-Soler
DESCRIPTION:“Viaje al blanco” es el diario de los nueve días\, pasados sobre el hielo\, de una pequeña expedición de cuatro componentes\, en uno de los ambientes más hostiles del planeta.  A veces trágico\, a menudo con pinceladas de humor\, es un vivo retrato de los pormenores de una expedición polar a través de los hielos árticos\, con la minuciosidad y los detalles que muchas veces se obvian en los relatos de los grandes exploradores.  El frágil ecosistema del Ártico se está destruyendo a causa del calentamiento global\, y esta expedición será imposible de repetir dentro de unos pocos años\, cuando el hielo sea demasiado fino como para andar por él. Así\, relatando de primera mano los efectos del cambio climático mundial\, el libro es también un alegato contra la contaminación y una llamada al respeto por una de las zonas más vírgenes de nuestro planeta.  Jordi Canal-Soler\, miembro de la SGE\, es escritor y fotógrafo especializado en viajes. Ha viajado por los cinco continentes\, visitando más de cincuenta países. Aventurero y explorador\, sus viajes le han llevado a recorrer Alaska de arriba abajo\, cruzar parte del Sahara\, escalar las montañas más altas de Europa\, adentrarse en la selva amazónica o internarse en el desierto de Kalahari\,… Kalahari. \nMartes\, 27 de enero de 2015. 19:30 h.  \nEspacio Catai. Via Augusta 1-3. Barcelona.  \nACCESO LIBRE
URL:https://old.sge.org/evento/tertulia-mensual-de-socios-en-barcelonaviaje-al-blanco-ultimo-grado-al-polo-norte-con-jordi-canal-soler/
LOCATION:Espacio Catai\, Vía Augusta 1-3\, Barcelona\, España
CATEGORIES:Tertulias
END:VEVENT
END:VCALENDAR