BEGIN:VCALENDAR
VERSION:2.0
PRODID:-//Sociedad Geográfica Española - ECPv6.10.3//NONSGML v1.0//EN
CALSCALE:GREGORIAN
METHOD:PUBLISH
X-ORIGINAL-URL:https://old.sge.org
X-WR-CALDESC:Eventos para Sociedad Geográfica Española
REFRESH-INTERVAL;VALUE=DURATION:PT1H
X-Robots-Tag:noindex
X-PUBLISHED-TTL:PT1H
BEGIN:VTIMEZONE
TZID:Europe/Madrid
BEGIN:DAYLIGHT
TZOFFSETFROM:+0100
TZOFFSETTO:+0200
TZNAME:CEST
DTSTART:20150329T010000
END:DAYLIGHT
BEGIN:STANDARD
TZOFFSETFROM:+0200
TZOFFSETTO:+0100
TZNAME:CET
DTSTART:20151025T010000
END:STANDARD
END:VTIMEZONE
BEGIN:VEVENT
DTSTART;TZID=Europe/Madrid:20150113T073000
DTEND;TZID=Europe/Madrid:20150113T210000
DTSTAMP:20260423T034914
CREATED:20160404T113655Z
LAST-MODIFIED:20160404T113655Z
UID:262-1421134200-1421182800@old.sge.org
SUMMARY:Tertulia mensual de socios en Madrid:“Un viaje de tres meses por Brasil" con SaltaConmigo
DESCRIPTION:Sara y JAAC\, los autores del blogSaltaConmigo.com\, nos cuentan sus aventuras en un viaje de tres meses por Brasil. Dejaron sus trabajos para viajar por Sudamérica y la Antártida sin billete de vuelta. El viaje duró un año y una semana y el mes que pensaban dedicar a Brasil se multiplicó por tres\, y no fue más porque se les acababa el permiso de turismo. Brasil es un país que no dejó de sorprenderles cada día. Como en resto del viaje\, lo recorrieron siempre en transporte público y por vía terrestre o fluvial. Se movieron en autobuses y autostop y durmieron en los sitios más diversos –desde un cuartel militar hasta una hamaca en la selva\, pasando por hoteles de lujo y albergues–. Nos hablarán del desierto inundado en Lençois Maranhenses\, de los amaneceres en el Amazonas\, de las playas del Nordeste\, de la mezcla de culturas\, músicas\, comidas… Y sobre todo\, de la hospitalidad y amabilidad de los brasileños\, probablemente la mayor que han experimentado en todos sus viajes. ¿Quieres conocer un poco más de Brasil con ellos?. \nMartes\, 13 de enero de 2015. 19:30 h.  \n Instituto Geográfico Nacional (General Ibáñez de Ibero 3. Madrid).  \nACCESO LIBRE
URL:https://old.sge.org/evento/tertulia-mensual-de-socios-en-madridun-viaje-de-tres-meses-por-brasil-con-saltaconmigo/
LOCATION:Instituto Geográfico Nacional\, General Ibáñez de Ibero 3\, Madrid\, España
CATEGORIES:Tertulias
END:VEVENT
END:VCALENDAR