BEGIN:VCALENDAR
VERSION:2.0
PRODID:-//Sociedad Geográfica Española - ECPv6.10.3//NONSGML v1.0//EN
CALSCALE:GREGORIAN
METHOD:PUBLISH
X-WR-CALNAME:Sociedad Geográfica Española
X-ORIGINAL-URL:https://old.sge.org
X-WR-CALDESC:Eventos para Sociedad Geográfica Española
REFRESH-INTERVAL;VALUE=DURATION:PT1H
X-Robots-Tag:noindex
X-PUBLISHED-TTL:PT1H
BEGIN:VTIMEZONE
TZID:Europe/Madrid
BEGIN:DAYLIGHT
TZOFFSETFROM:+0100
TZOFFSETTO:+0200
TZNAME:CEST
DTSTART:20140330T010000
END:DAYLIGHT
BEGIN:STANDARD
TZOFFSETFROM:+0200
TZOFFSETTO:+0100
TZNAME:CET
DTSTART:20141026T010000
END:STANDARD
END:VTIMEZONE
BEGIN:VEVENT
DTSTART;TZID=Europe/Madrid:20141029T080000
DTEND;TZID=Europe/Madrid:20141029T170000
DTSTAMP:20260423T071015
CREATED:20160404T114023Z
LAST-MODIFIED:20160404T114023Z
UID:265-1414569600-1414602000@old.sge.org
SUMMARY:Tertulia mensual de socios en Barcelona:“Laszlo Almasy y la búsqueda de Zerzura” con Juan Corona.
DESCRIPTION:A lo largo de los siglos\, en el mundo árabe se gestó la leyenda sobre el Oasis perdido de Zerzura\, situado en la zona más inaccesible del desierto líbico\, lleno de tesoros y sede de la fuente de la eterna juventud. De entre muchos exploradores que lo han buscado destaca la figura del Conde Laszlo Almasy\, aviador\, espía y explorador\, que investigó a fondo el desierto occidental de Egipto y fue inmortalizado por la película “El paciente inglés”. Almasy\, que descubrió la famosa “cueva de los nadadores”\, creía haber encontrado el asentamiento de Zerzura en Wadi Hamra\, en la meseta Gilf El Kebir. Juan Corona\, miembro de la Junta Directiva de la Sociedad Geográfica Española\, seguirá sus pasos a través del desierto para descubrir algunas de las innumerables sorpresas que guarda una de las zonas más remotas del Sáhara\, en las proximidades del punto de encuentro entre Sudán\, Libia y Egipto. \nMartes\, 29 de octubre de 2014. 19:30 h.  \nEspacio Catai. Via Augusta 1-3. Barcelona. \n ACCESO LIBRE
URL:https://old.sge.org/evento/tertulia-mensual-de-socios-en-barcelonalaszlo-almasy-y-la-busqueda-de-zerzura-con-juan-corona/
LOCATION:Espacio Catai\, Vía Augusta 1-3\, Barcelona\, España
CATEGORIES:Tertulias
END:VEVENT
END:VCALENDAR