BEGIN:VCALENDAR
VERSION:2.0
PRODID:-//Sociedad Geográfica Española - ECPv6.10.3//NONSGML v1.0//EN
CALSCALE:GREGORIAN
METHOD:PUBLISH
X-ORIGINAL-URL:https://old.sge.org
X-WR-CALDESC:Eventos para Sociedad Geográfica Española
REFRESH-INTERVAL;VALUE=DURATION:PT1H
X-Robots-Tag:noindex
X-PUBLISHED-TTL:PT1H
BEGIN:VTIMEZONE
TZID:Europe/Madrid
BEGIN:DAYLIGHT
TZOFFSETFROM:+0100
TZOFFSETTO:+0200
TZNAME:CEST
DTSTART:20140330T010000
END:DAYLIGHT
BEGIN:STANDARD
TZOFFSETFROM:+0200
TZOFFSETTO:+0100
TZNAME:CET
DTSTART:20141026T010000
END:STANDARD
END:VTIMEZONE
BEGIN:VEVENT
DTSTART;TZID=Europe/Madrid:20140121T193000
DTEND;TZID=Europe/Madrid:20140121T210000
DTSTAMP:20260424T192639
CREATED:20160404T115012Z
LAST-MODIFIED:20160404T115012Z
UID:276-1390332600-1390338000@old.sge.org
SUMMARY:Tertulia mensual de socios en Barcelona: "Las fuentes del Nilo" con Josep A. Pujante
DESCRIPTION:Profundo conocedor del continente negro\, Josep A. Pujante\, miembro fundador de la SGE\, narra la expedición que\, en compañía de sus dos amigos Marcos y Agustí\, realizaron por las húmedas junglas en las que\, entre el Congo y Uganda\, se alzan los legendarios Ruwenzori para coronar la cima de nieves perpetuas en las que nace el Nilo Blanco. Cuatro años después de coronar los Ruwenzori\, cuando planeaban una nueva expedición al monte sagrado Gishe\, en Etiopía\, un trágico accidente de escalada se cobró la vida de Agustí. Embargado aún por la emoción\, Josep alcanzó en solitario la cima del monte Gishe y\, un año después\, Josep y Marcos\, coronaron juntos aquella cima dejando allí\, en las fuentes del Nilo Azul\, las cenizas del amigo desaparecido. Un canto a la amistad después de la muerte\, esta historia real discurre por los parajes remotos del Congo\, Uganda y Ruanda y por el lago Tana\, por Yibuti y Aksum. \nMartes\, 21 de enero de 2014. 19:30 h.  \nEspacio Catai. Vía Augusta 1-3. Barcelona.  \nACCESO LIBRE
URL:https://old.sge.org/evento/tertulia-mensual-de-socios-en-barcelona-las-fuentes-del-nilo-con-josep-a-pujante/
LOCATION:Espacio Catai\, Vía Augusta 1-3\, Barcelona\, España
CATEGORIES:Tertulias
END:VEVENT
END:VCALENDAR