BEGIN:VCALENDAR
VERSION:2.0
PRODID:-//Sociedad Geográfica Española - ECPv6.10.3//NONSGML v1.0//EN
CALSCALE:GREGORIAN
METHOD:PUBLISH
X-ORIGINAL-URL:https://old.sge.org
X-WR-CALDESC:Eventos para Sociedad Geográfica Española
REFRESH-INTERVAL;VALUE=DURATION:PT1H
X-Robots-Tag:noindex
X-PUBLISHED-TTL:PT1H
BEGIN:VTIMEZONE
TZID:Europe/Madrid
BEGIN:DAYLIGHT
TZOFFSETFROM:+0100
TZOFFSETTO:+0200
TZNAME:CEST
DTSTART:20140330T010000
END:DAYLIGHT
BEGIN:STANDARD
TZOFFSETFROM:+0200
TZOFFSETTO:+0100
TZNAME:CET
DTSTART:20141026T010000
END:STANDARD
END:VTIMEZONE
BEGIN:VEVENT
DTSTART;TZID=Europe/Madrid:20140114T193000
DTEND;TZID=Europe/Madrid:20140114T193000
DTSTAMP:20260424T192835
CREATED:20160404T115055Z
LAST-MODIFIED:20160404T115055Z
UID:277-1389727800-1389727800@old.sge.org
SUMMARY:Tertulia mensual de socios en Madrid: "Españolas del nuevo mundo" con Eloísa Gómez-Lucena
DESCRIPTION:Durante los dos primeros siglos de la colonización americana\, multitud de viajeras partieron desde la Península rumbo al Nuevo Mundo. Sus nombres han quedado sepultados bajo la olvidadiza Historia a causa de la desidia de los funcionarios (pues no las anotaron en los registros de pasajeros) y de algunos descuidados cronistas\, testigos directos de la conquista\, exploración y poblamiento. Sin embargo sí relataron las hazañas de sus capitanes aunque silenciaron a las españolas\, sus compañeras a lo largo de la travesía atlántica\, en las batallas contra los indígenas y en las calamidades que todos padecieron por igual. Eloísa Gómez-Lucena presentará   “Españolas del Nuevo Mundo”\, una colección de biografías de mujeres de distintas clases sociales y oficios cuyas vidas se han podido reconstruir gracias a informes y crónicas de otros autores menos cicateros. Las hubo virreinas y gobernadoras\, místicas y letradas\, pequeñas empresarias\, costureras\, criadas\, prostitutas y maestras. Y cuando los hombres habían muerto o estaban malheridos\, la mayoría de las españolas de este ensayo se vieron abocadas a ejercer de improvisadas capitanas\, soldaderas o marineras. \nMartes\, 14 de enero de 2014. 19:30 h. \nGran Hotel Velázquez (Velázquez 62. Madrid).  \nACCESO LIBRE
URL:https://old.sge.org/evento/tertulia-mensual-de-socios-en-madrid-espanolas-del-nuevo-mundo-con-eloisa-gomez-lucena/
LOCATION:Gran Hotel Velázquez\, Velazquez 62\, Madrid\, España
CATEGORIES:Tertulias
END:VEVENT
END:VCALENDAR