BEGIN:VCALENDAR
VERSION:2.0
PRODID:-//Sociedad Geográfica Española - ECPv6.10.3//NONSGML v1.0//EN
CALSCALE:GREGORIAN
METHOD:PUBLISH
X-ORIGINAL-URL:https://old.sge.org
X-WR-CALDESC:Eventos para Sociedad Geográfica Española
REFRESH-INTERVAL;VALUE=DURATION:PT1H
X-Robots-Tag:noindex
X-PUBLISHED-TTL:PT1H
BEGIN:VTIMEZONE
TZID:Europe/Madrid
BEGIN:DAYLIGHT
TZOFFSETFROM:+0100
TZOFFSETTO:+0200
TZNAME:CEST
DTSTART:20130331T010000
END:DAYLIGHT
BEGIN:STANDARD
TZOFFSETFROM:+0200
TZOFFSETTO:+0100
TZNAME:CET
DTSTART:20131027T010000
END:STANDARD
END:VTIMEZONE
BEGIN:VEVENT
DTSTART;TZID=Europe/Madrid:20131203T193000
DTEND;TZID=Europe/Madrid:20131203T210000
DTSTAMP:20260425T030252
CREATED:20160404T115232Z
LAST-MODIFIED:20160404T115232Z
UID:279-1386099000-1386104400@old.sge.org
SUMMARY:Tertulia mensual de socios en Madrid: "Las cajas chinas: paisajes\, relatos\, memorias y realidades" con Manel Ollé
DESCRIPTION:El viaje a China es un viaje en el tiempo\, que nos lleva del bronce a la seda y de la terracota al cristal líquido. Ecos de la épica revolucionaria sobre un lienzo de reliquias milenarias\, arquitecturas futuristas en un paisaje humano abigarrado y febril. Templos intemporales\, jardines en calma en medio de la vorágine de la China del siglo XXI. En la tertulia se comentará el viaje realizado recientemente a China y se proyectará una selección de fotos del viaje preparada por Amaya Guruceta. Manel Ollé\, es profesor de historia y cultura de la China moderna y contemporánea en la Universidad Pompeu Fabra de Barcelona y ha sido el director científico del reciente viaje organizado por Catai Tours para la SGE al país asiático. \nMartes\, 3 de diciembre de 2013. 19:30 h.  \nGran Hotel Velázquez (Velázquez 62. Madrid).  \nACCESO LIBRE
URL:https://old.sge.org/evento/tertulia-mensual-de-socios-en-madrid-las-cajas-chinas-paisajes-relatos-memorias-y-realidades-con-manel-olle/
LOCATION:Gran Hotel Velázquez\, Velazquez 62\, Madrid\, España
CATEGORIES:Tertulias
END:VEVENT
END:VCALENDAR