BEGIN:VCALENDAR
VERSION:2.0
PRODID:-//Sociedad Geográfica Española - ECPv6.10.3//NONSGML v1.0//EN
CALSCALE:GREGORIAN
METHOD:PUBLISH
X-ORIGINAL-URL:https://old.sge.org
X-WR-CALDESC:Eventos para Sociedad Geográfica Española
REFRESH-INTERVAL;VALUE=DURATION:PT1H
X-Robots-Tag:noindex
X-PUBLISHED-TTL:PT1H
BEGIN:VTIMEZONE
TZID:Europe/Madrid
BEGIN:DAYLIGHT
TZOFFSETFROM:+0100
TZOFFSETTO:+0200
TZNAME:CEST
DTSTART:20130331T010000
END:DAYLIGHT
BEGIN:STANDARD
TZOFFSETFROM:+0200
TZOFFSETTO:+0100
TZNAME:CET
DTSTART:20131027T010000
END:STANDARD
END:VTIMEZONE
BEGIN:VEVENT
DTSTART;TZID=Europe/Madrid:20130910T193000
DTEND;TZID=Europe/Madrid:20130910T210000
DTSTAMP:20260426T015429
CREATED:20160404T115535Z
LAST-MODIFIED:20160404T115535Z
UID:282-1378841400-1378846800@old.sge.org
SUMMARY:Tertulia de socios en Madrid: Guadarrama\, al fin Parque Nacional
DESCRIPTION:En la charla que impartirá Pedro  Nicolás se va a explicar de cuándo y dónde procede la iniciativa de proteger la Sierra de Guadarrama mediante su declaración como Parque Nacional\, proceso que ha sido\, tras casi 90 años\, el más largo y complejo de todos los espacios naturales protegidos  españoles. Finalmente el pasado 25 de junio\, el BOE  procedía a declara 34.000 hectáreas con la máxima protección ambiental de nuestro país. Tras esta declaración hay múltiples  matices\, vicisitudes y controversias de las que podremos tratar en esta primera tertulia tras la vuelta del verano. Pedro Nicolás\, al igual que otros miembros de la SGE\,  ha seguido muy de cerca este proceso\, pues formó parte del equipo redactor del primer Plan de Ordenación de los Recursos Naturales de la parte madrileña elaborado para la declaración de dicho Parque Nacional. \nMartes\, 10 de septiembre de 2013. 19:30 h.  \nGran Hotel Velázquez (Velázquez 62. Madrid)  \nACCESO LIBRE
URL:https://old.sge.org/evento/tertulia-de-socios-en-madrid-guadarrama-al-fin-parque-nacional/
LOCATION:Gran Hotel Velázquez\, Velazquez 62\, Madrid\, España
CATEGORIES:Tertulias
END:VEVENT
END:VCALENDAR