BEGIN:VCALENDAR
VERSION:2.0
PRODID:-//Sociedad Geográfica Española - ECPv6.10.3//NONSGML v1.0//EN
CALSCALE:GREGORIAN
METHOD:PUBLISH
X-ORIGINAL-URL:https://old.sge.org
X-WR-CALDESC:Eventos para Sociedad Geográfica Española
REFRESH-INTERVAL;VALUE=DURATION:PT1H
X-Robots-Tag:noindex
X-PUBLISHED-TTL:PT1H
BEGIN:VTIMEZONE
TZID:Europe/Madrid
BEGIN:DAYLIGHT
TZOFFSETFROM:+0100
TZOFFSETTO:+0200
TZNAME:CEST
DTSTART:20130331T010000
END:DAYLIGHT
BEGIN:STANDARD
TZOFFSETFROM:+0200
TZOFFSETTO:+0100
TZNAME:CET
DTSTART:20131027T010000
END:STANDARD
END:VTIMEZONE
BEGIN:VEVENT
DTSTART;TZID=Europe/Madrid:20130723T193000
DTEND;TZID=Europe/Madrid:20130723T193000
DTSTAMP:20260425T205211
CREATED:20160404T115632Z
LAST-MODIFIED:20160404T115632Z
UID:283-1374607800-1374607800@old.sge.org
SUMMARY:Tertulia de socios en Barcelona: Libia: la Grecia y Roma africanas
DESCRIPTION:Libia era un país en auge económico (reservas petrolíferas) situado al norte de África\, entre el desierto sahariano y la costa mediterránea casi virgen. Aún hoy\, cuando se habla de Libia\, se asocia a la figura excéntrica del que fue su líder político y espiritual\, y\, evidentemente\, a las consecuencias de su muerte.Libia es un vasto territorio poco poblado que esconde\, asombrosamente\, uno de los conjuntos patrimoniales más espectaculares del mundo clásico de la Antigüedad. A pesar del devastador terremoto documentado el 365 dC.\, el viento del desierto que sopla en dirección al Mediterráneo fue el encargado de cubrir y proteger lo que hoy se consideran los vestigios más impresionantes y bien conservados del mundo\, todos ellos Patrimonio Cultural de la Humanidad. Tener el privilegio de haber conocido Libia a fondo anima a difundir su riqueza continuamente y a mantener la esperanza de volver. Y es que\, en el ámbito arqueológico mundial grecorromano\, pocos restos pueden compararse a los descubiertos en Libia. Impartirá la tertulia\, Nuria Roselló Gregori\, arqueóloga\, licenciada en Geografía e Historia en la especialidad de Prehistoria\, Historia Antigua y Arqueología. Diplomada en Antiguo Egipto. Con doce años de experiencia en el área de cultura\, en los ámbitos museográficos/museológicos (Museo de Gavà\, Museo Egipcio de Barcelona\, Museo d’Arqueologia de Catalunya…) \, en prospecciones y excavaciones arqueológicas (como directora técnica y/o colaboradora) y en pedagogía y divulgación del Patrimonio Cultural. En la actualidad\, trabaja vinculada a proyectos de exposiciones de Caja Foro y a varias tareas como profesora/coordinadora (cursos\, conferencias\, artículos\, guías y expediciones culturales) en diferentes empresas de gestión cultural\, tanto a nivel local como internacional. \nMartes\, 23 de julio de 2013. 19:30 h.  \nEspacio Catai. Vía Augusta 1-3. Barcelona.  \nACCESO LIBRE
URL:https://old.sge.org/evento/tertulia-de-socios-en-barcelona-libia-la-grecia-y-roma-africanas/
LOCATION:Espacio Catai\, Vía Augusta 1-3\, Barcelona\, España
CATEGORIES:Tertulias
END:VEVENT
END:VCALENDAR