BEGIN:VCALENDAR
VERSION:2.0
PRODID:-//Sociedad Geográfica Española - ECPv6.10.3//NONSGML v1.0//EN
CALSCALE:GREGORIAN
METHOD:PUBLISH
X-ORIGINAL-URL:https://old.sge.org
X-WR-CALDESC:Eventos para Sociedad Geográfica Española
REFRESH-INTERVAL;VALUE=DURATION:PT1H
X-Robots-Tag:noindex
X-PUBLISHED-TTL:PT1H
BEGIN:VTIMEZONE
TZID:Europe/Madrid
BEGIN:DAYLIGHT
TZOFFSETFROM:+0100
TZOFFSETTO:+0200
TZNAME:CEST
DTSTART:20130331T010000
END:DAYLIGHT
BEGIN:STANDARD
TZOFFSETFROM:+0200
TZOFFSETTO:+0100
TZNAME:CET
DTSTART:20131027T010000
END:STANDARD
END:VTIMEZONE
BEGIN:VEVENT
DTSTART;TZID=Europe/Madrid:20130604T193000
DTEND;TZID=Europe/Madrid:20130604T210000
DTSTAMP:20260425T202210
CREATED:20160404T115853Z
LAST-MODIFIED:20160404T115853Z
UID:286-1370374200-1370379600@old.sge.org
SUMMARY:Tertulia de socios en Madrid: Noruega. Paisajes que llevan al norte\, con Raúl Martín
DESCRIPTION:En sus casi veinticinco grados de latitud\, a lo largo de miles de kilómetros de costa e islas\, Noruega es -como reza su nombre en inglés\, the way to the North-\, una vía directa al norte a través de paisajes boreales y árticos de gran belleza. Impartirá la tertulia Raúl Martín\, Doctor en Geografía y miembro de la SGE\, que\, con gran experiencia en este país nórdico\, propone un viaje estético\, geográfico\, y personal\, a través de una serie de lugares seleccionados de sur a norte. \nMartes\, 4 de junio de 2013. 19:30 h.  \nGran Hotel Velázquez (Velázquez 62. Madrid)  \nACCESO LIBRE
URL:https://old.sge.org/evento/tertulia-de-socios-en-madrid-noruega-paisajes-que-llevan-al-norte-con-raul-martin/
LOCATION:Gran Hotel Velázquez\, Velazquez 62\, Madrid\, España
CATEGORIES:Tertulias
END:VEVENT
END:VCALENDAR