BEGIN:VCALENDAR
VERSION:2.0
PRODID:-//Sociedad Geográfica Española - ECPv6.10.3//NONSGML v1.0//EN
CALSCALE:GREGORIAN
METHOD:PUBLISH
X-ORIGINAL-URL:https://old.sge.org
X-WR-CALDESC:Eventos para Sociedad Geográfica Española
REFRESH-INTERVAL;VALUE=DURATION:PT1H
X-Robots-Tag:noindex
X-PUBLISHED-TTL:PT1H
BEGIN:VTIMEZONE
TZID:Europe/Madrid
BEGIN:DAYLIGHT
TZOFFSETFROM:+0100
TZOFFSETTO:+0200
TZNAME:CEST
DTSTART:20130331T010000
END:DAYLIGHT
BEGIN:STANDARD
TZOFFSETFROM:+0200
TZOFFSETTO:+0100
TZNAME:CET
DTSTART:20131027T010000
END:STANDARD
END:VTIMEZONE
BEGIN:VEVENT
DTSTART;TZID=Europe/Madrid:20130528T193000
DTEND;TZID=Europe/Madrid:20130528T193000
DTSTAMP:20260426T042015
CREATED:20160404T115944Z
LAST-MODIFIED:20160404T115944Z
UID:287-1369769400-1369769400@old.sge.org
SUMMARY:Tertulia de socios en Barcelona: Albert Bosch. Albert Bosch
DESCRIPTION:Premio SGE Viaje del Año\, protagonizará el próximo encuentro en el espacio Catai de Barcelona donde tendrá oportunidad de hablar de su nuevo libro “Vivir para sentirse vivo” inspirado en su expedición a la Antártida. \nMartes\, 28 de mayo de 2013. 19:30 h.  \nEspacio Catai. Vía Augusta 1-3. Barcelona. A \nCCESO LIBRE
URL:https://old.sge.org/evento/tertulia-de-socios-en-barcelona-albert-bosch-albert-bosch/
LOCATION:Espacio Catai\, Vía Augusta 1-3\, Barcelona\, España
CATEGORIES:Tertulias
END:VEVENT
END:VCALENDAR