BEGIN:VCALENDAR
VERSION:2.0
PRODID:-//Sociedad Geográfica Española - ECPv6.10.3//NONSGML v1.0//EN
CALSCALE:GREGORIAN
METHOD:PUBLISH
X-WR-CALNAME:Sociedad Geográfica Española
X-ORIGINAL-URL:https://old.sge.org
X-WR-CALDESC:Eventos para Sociedad Geográfica Española
REFRESH-INTERVAL;VALUE=DURATION:PT1H
X-Robots-Tag:noindex
X-PUBLISHED-TTL:PT1H
BEGIN:VTIMEZONE
TZID:Europe/Madrid
BEGIN:DAYLIGHT
TZOFFSETFROM:+0100
TZOFFSETTO:+0200
TZNAME:CEST
DTSTART:20140330T010000
END:DAYLIGHT
BEGIN:STANDARD
TZOFFSETFROM:+0200
TZOFFSETTO:+0100
TZNAME:CET
DTSTART:20141026T010000
END:STANDARD
END:VTIMEZONE
BEGIN:VEVENT
DTSTART;TZID=Europe/Madrid:20141104T193000
DTEND;TZID=Europe/Madrid:20141104T210000
DTSTAMP:20260423T052403
CREATED:20160404T113915Z
LAST-MODIFIED:20160404T113915Z
UID:264-1415129400-1415134800@old.sge.org
SUMMARY:Tertulia mensual de socios en Madrid:“Indonesia: ¿archipiélago o país?" con Fausto Saavedra
DESCRIPTION:Un país repartido entre más de 17.000 islas\, con más de 230 millones de habitantes\, que lo convierte en el cuarto más poblado del mundo y mayoritariamente musulmán. Un país que mira al futuro por vez primera\, con la independencia y la solvencia de su gran capital humano\, en un mundo en el que han intervenido poco como nación pero que ha sido muy intervenido como país por las potencias occidentales desde su descubrimiento\, como las Islas de las Especias.  Esta preciosa muestra de historia\, culturas\, paisajes\, etnias \, clima\, flora y fauna\, mezcladas con  la superpoblación generan un atractivo turístico de primer orden adaptable a la medida de los deseos de cada viajero\, sin defraudar expectativas de nadie.  Palacios de sultanes\, templos y volcanes en Java; selva y orangutanes en Borneo; espiritualidad\, religión y playas en Bali; mar cristalino y dragones en Rincha y Komodo; etnias y ritos funerarios en Celebes; nos transportan a situaciones que se graban por si solas en la memoria para siempre. \nMartes\, 4 de noviembre de 2014. 19:30 h.  \nGran Hotel Velázquez (Velázquez 62. Madrid).  \nACCESO LIBRE
URL:https://old.sge.org/evento/tertulia-mensual-de-socios-en-madridindonesia-archipielago-o-pais-con-fausto-saavedra/
LOCATION:Gran Hotel Velázquez\, Velazquez 62\, Madrid\, España
CATEGORIES:Tertulias
END:VEVENT
BEGIN:VEVENT
DTSTART;TZID=Europe/Madrid:20141119T193000
DTEND;TZID=Europe/Madrid:20141119T210000
DTSTAMP:20260423T052403
CREATED:20160404T113754Z
LAST-MODIFIED:20160404T113754Z
UID:263-1416425400-1416430800@old.sge.org
SUMMARY:Tertulia mensual de socios en Barcelona:“El sentido del viaje" con Patricia Almárcegui
DESCRIPTION:Desde la antigüedad\, el viaje ha sido una de las formas más destacadas para la representación de la humanidad. Desplazarse\, conocer nuevos lugares y habitantes ha constituido una de las grandes fascinaciones de la historia. Este ensayo pretende identificar los elementos que configuran el viaje y la literatura a la que ha dado lugar.  Patricia Almárcegui es escritora y profesora de Literatura Comparada. Ha dedicado sus últimos años de investigación al Orientalismo y a la literatura de viajes\, disciplinas sobre las que ha escrito más de veinte artículos\, traducidos al francés\, árabe e inglés. Entre sus libros están: “Alí Bey y los viajeros europeos a Oriente”\, “Los libros de viaje: realidad vivida y género literario” y “El pintor y la viajera”. Ha sido profesora invitada en la Universidad Americana de El Cairo y la Sorbona (París IV). En el año 2010 realizó una estancia de investigación posdoctoral en el Instituto de Estudios de Medio Oriente de la Universidad de Columbia. Ha ganado el concurso de ensayo Fray Luis de León con el libro El sentido del viaje. Es colaboradora del suplemento cultural del ABC y de La Vanguardia. Acaba de regresar de una residencia de Irán becada por el Ministerio y Endjavi Barbe Art Project. \nMiércoles\, 19 de noviembre de 2014. 19:30 h.  \nEspacio Catai. Via Augusta 1-3. Barcelona.  \nACCESO LIBRE
URL:https://old.sge.org/evento/tertulia-mensual-de-socios-en-barcelonael-sentido-del-viaje-con-patricia-almarcegui/
LOCATION:Espacio Catai\, Vía Augusta 1-3\, Barcelona\, España
CATEGORIES:Tertulias
END:VEVENT
END:VCALENDAR