BEGIN:VCALENDAR
VERSION:2.0
PRODID:-//Sociedad Geográfica Española - ECPv6.10.3//NONSGML v1.0//EN
CALSCALE:GREGORIAN
METHOD:PUBLISH
X-WR-CALNAME:Sociedad Geográfica Española
X-ORIGINAL-URL:https://old.sge.org
X-WR-CALDESC:Eventos para Sociedad Geográfica Española
REFRESH-INTERVAL;VALUE=DURATION:PT1H
X-Robots-Tag:noindex
X-PUBLISHED-TTL:PT1H
BEGIN:VTIMEZONE
TZID:Europe/Madrid
BEGIN:DAYLIGHT
TZOFFSETFROM:+0100
TZOFFSETTO:+0200
TZNAME:CEST
DTSTART:20140330T010000
END:DAYLIGHT
BEGIN:STANDARD
TZOFFSETFROM:+0200
TZOFFSETTO:+0100
TZNAME:CET
DTSTART:20141026T010000
END:STANDARD
END:VTIMEZONE
BEGIN:VEVENT
DTSTART;TZID=Europe/Madrid:20140909T193000
DTEND;TZID=Europe/Madrid:20140909T210000
DTSTAMP:20260423T114317
CREATED:20160404T114236Z
LAST-MODIFIED:20160404T114236Z
UID:267-1410291000-1410296400@old.sge.org
SUMMARY:Tertulia mensual de socios en Madrid: "Stromboli\, entre lapilli y estrellas" con Diana Soliverdi
DESCRIPTION:Stromboli es la isla más oriental del archipiélago de las Eolias y desde la antigüedad es conocida por el volcán que le da nombre y que es su dueño y señor. Fuente de fertilidad y belleza extraordinaria y al mismo tiempo de destrucción y catástrofe. Esta ambivalencia posiblemente sea una de las claves de la fascinación que produce este lugar único. Tras la travesía por el Tirreno\, nada más llegar al puerto\, Iddu (como llaman los lugareños al volcán) recibe al viajero y le impresiona con su presencia. Inmediatamente después\, una amalgama de aromas mediterráneos campestres nos envuelve y a partir de ahí empieza la magia: calles jalonadas con casas blanquísimas cubiertas de flores\, senderos que se pierden por la montaña\, playas de lava en contraste con el turquesa del mar\, cielos estrellados que parecen llegar hasta nosotros por la falta de contaminación lumínica\, un peñón con un faro evocador de cuentos de hadas o de cuadros surrealistas\, una paradójica sensación entre paz absoluta y energía desbordante\, una atmósfera que parece haberse detenido en el tiempo…Una experiencia impactante que merece ser contada. \nMartes\, 9 de septiembre de 2014. 19:30 h.  \nGran Hotel Velázquez (Velázquez 62. Madrid).  \nACCESO LIBRE
URL:https://old.sge.org/evento/tertulia-mensual-de-socios-en-madrid-stromboli-entre-lapilli-y-estrellas-con-diana-soliverdi/
LOCATION:Gran Hotel Velázquez\, Velazquez 62\, Madrid\, España
CATEGORIES:Tertulias
END:VEVENT
END:VCALENDAR