BEGIN:VCALENDAR
VERSION:2.0
PRODID:-//Sociedad Geográfica Española - ECPv6.10.3//NONSGML v1.0//EN
CALSCALE:GREGORIAN
METHOD:PUBLISH
X-ORIGINAL-URL:https://old.sge.org
X-WR-CALDESC:Eventos para Sociedad Geográfica Española
REFRESH-INTERVAL;VALUE=DURATION:PT1H
X-Robots-Tag:noindex
X-PUBLISHED-TTL:PT1H
BEGIN:VTIMEZONE
TZID:Europe/Madrid
BEGIN:DAYLIGHT
TZOFFSETFROM:+0100
TZOFFSETTO:+0200
TZNAME:CEST
DTSTART:20140330T010000
END:DAYLIGHT
BEGIN:STANDARD
TZOFFSETFROM:+0200
TZOFFSETTO:+0100
TZNAME:CET
DTSTART:20141026T010000
END:STANDARD
END:VTIMEZONE
BEGIN:VEVENT
DTSTART;TZID=Europe/Madrid:20140708T201500
DTEND;TZID=Europe/Madrid:20140708T220000
DTSTAMP:20260423T222105
CREATED:20160404T114459Z
LAST-MODIFIED:20160404T114459Z
UID:269-1404850500-1404856800@old.sge.org
SUMMARY:Tertulia mensual de socios en Madrid: "Sri Lanka\, paraíso perdido en el Índico " con Miguel Cuñat
DESCRIPTION:La isla de Sri Lanka\, la antigua Ceilán\, no sólo es un lugar sagrado para budistas e hindúes\, sino también para musulmanes y cristianos. Según algunas tradiciones\, fue en esa isla del océano Índico\, rica en canela\, donde Adán descendió a la Tierra tras su expulsión del Edén. La cultura tamil\, malaya\, árabe… se mezclan con la cingalesa y esa mezcla marca la isla entera al igual que la vegetación tropical viva y generosa y las espléndidas lomas plantadas de té que dan lugar a los paisajes más bellos y al aroma inconfundible del té de Ceilán.  El viajero y magnífico conocedor de la isla\, porque vive en ella\, Miguel Cuñat nos descubrirá todos los detalles de Sri Lanka. \nAVISO IMPORTANTE: LA TERTULIA DEL MES DE JULIO TENDRÁ LUGAR EL MARTES 8 A LAS 20:15 H EN LA LIBRERÍA DEVIAJE. \nMartes\, 8 de julio de 2014. 20:15 h.  Librería Deviaje. Serrano 41. Madrid.  \nACCESO LIBRE
URL:https://old.sge.org/evento/tertulia-mensual-de-socios-en-madrid-sri-lanka-paraiso-perdido-en-el-indico-con-miguel-cunat/
LOCATION:Librería Deviaje\, Serrano 41\, Madrid\, España
CATEGORIES:Tertulias
END:VEVENT
BEGIN:VEVENT
DTSTART;TZID=Europe/Madrid:20140722T190000
DTEND;TZID=Europe/Madrid:20140722T210000
DTSTAMP:20260423T222105
CREATED:20160404T114336Z
LAST-MODIFIED:20160404T114336Z
UID:268-1406055600-1406062800@old.sge.org
SUMMARY:Tertulia mensual de socios en Barcelona:  Cerramos el curso en Barcelona viajando hasta la época de la Inquisición con Ferran Sánchez
DESCRIPTION:El Papa Juan Pablo II incluyó la inquisición entre los errores por los que la Iglesia tenía que pedir perdón. Pero un análisis de la actividad de este tribunal durante la época moderna –a diferencia de en tiempos medievales- nos permitiría ver la persecución de la herejía a la que se dedicó como una herramienta muy eficaz del poder político. ¡Su legado resulta aún hoy angustioso! Ferran Sánchez\, licenciado en Historia (2001)\, Máster “Cultura Histórica y nuevas profesiones” (2003) y Certificado de Suficiencia Investigadora (2005) por la Universitat de Barcelona\, impartirá la tertulia “La Inquisición española: ¿furia de Dios o fuerza del rey?”. Sánchez actualmente ejerce como docente en la educación pública. Ha colaborado en la serie “Històries de Catalunya” (TV•3\, 2004). Ha publicado artículos de temática histórica en las revistas BUC-Universitat\, libros\, cultura (2008)\, Zero (2009)\, Historia y Vida (2000)\, BBC Historia (2010) y National Geographic Historia (2003-2010). Ha impartido cursos de historia en la Casa Elizalde (2006-2014)\, en la Escuela de Verano de Secundaria del Colegio de Licenciados en Filosofía y Letras de Catalunya\, y en la Escuela de Historia del Arte de Barcelona ESHAB. Ha sido presidente de la Associació Catalana d’Estudis Històrics\, Fent Història (2007-2013)\, por la que desde 2005 coordina las conferencias que celebra  la Biblioteca Pública Arús. \nMartes\, 22 de julio de 2014. 19:30 h.  \nEspacio Catai. Via Augusta 1-3. Barcelona.  \nACCESO LIBRE
URL:https://old.sge.org/evento/tertulia-mensual-de-socios-en-barcelona-cerramos-el-curso-en-barcelona-viajando-hasta-la-epoca-de-la-inquisicion-con-ferran-sanchez/
LOCATION:Espacio Catai\, Vía Augusta 1-3\, Barcelona\, España
CATEGORIES:Tertulias
END:VEVENT
END:VCALENDAR