BEGIN:VCALENDAR
VERSION:2.0
PRODID:-//Sociedad Geográfica Española - ECPv6.10.3//NONSGML v1.0//EN
CALSCALE:GREGORIAN
METHOD:PUBLISH
X-WR-CALNAME:Sociedad Geográfica Española
X-ORIGINAL-URL:https://old.sge.org
X-WR-CALDESC:Eventos para Sociedad Geográfica Española
REFRESH-INTERVAL;VALUE=DURATION:PT1H
X-Robots-Tag:noindex
X-PUBLISHED-TTL:PT1H
BEGIN:VTIMEZONE
TZID:Europe/Madrid
BEGIN:DAYLIGHT
TZOFFSETFROM:+0100
TZOFFSETTO:+0200
TZNAME:CEST
DTSTART:20140330T010000
END:DAYLIGHT
BEGIN:STANDARD
TZOFFSETFROM:+0200
TZOFFSETTO:+0100
TZNAME:CET
DTSTART:20141026T010000
END:STANDARD
END:VTIMEZONE
BEGIN:VEVENT
DTSTART;TZID=Europe/Madrid:20140204T193000
DTEND;TZID=Europe/Madrid:20140204T193000
DTSTAMP:20260424T053547
CREATED:20160404T114917Z
LAST-MODIFIED:20160404T114917Z
UID:275-1391542200-1391542200@old.sge.org
SUMMARY:Tertulia mensual de socios: "Laszlo Almasy y la búsqueda de Zerzura" con Juan Corona
DESCRIPTION:A lo largo de los siglos\, en el mundo árabe se gestó una leyenda sobre el Oasis perdido de Zerzura\, situado en la zona más inaccesible del desierto líbico\, lleno de tesoros y sede de la fuente de la eterna juventud. De entre los muchos exploradores que lo han buscado destaca la figura del Conde Laszlo Almasy\, aviador\, espía y explorador\, que investigó a fondo el desierto occidental de Egipto y fue inmortalizado por la película “El paciente inglés”. Almasy\, que descubrió la famosa “Cueva de los nadadores”\, creía haber encontrado el asentamiento de Zerzura en Wadi Hamra\, en la meseta Gilf El Kebir. Juan Corona\, miembro de la Junta Directiva de la SGE\, seguirá sus pasos a través del desierto para descubrir algunas de las innumerables sorpresas que guarda una de las zonas más remotas del Sahara\, en las proximidades del punto de encuentro entre Sudán\, Libia y Egipto. \nMartes\, 4 de febrero de 2014. 19:30 h.  \nGran Hotel Velázquez (Velázquez 62. Madrid).  \nACCESO LIBRE
URL:https://old.sge.org/evento/tertulia-mensual-de-socios-laszlo-almasy-y-la-busqueda-de-zerzura-con-juan-corona/
LOCATION:Gran Hotel Velázquez\, Velazquez 62\, Madrid\, España
CATEGORIES:Tertulias
END:VEVENT
BEGIN:VEVENT
DTSTART;TZID=Europe/Madrid:20140218T193000
DTEND;TZID=Europe/Madrid:20140218T210000
DTSTAMP:20260424T053547
CREATED:20160404T114827Z
LAST-MODIFIED:20160404T114827Z
UID:274-1392751800-1392757200@old.sge.org
SUMMARY:Tertulia mensual de socios en Barcelona: "Lo mejor del mundo es conocerlo. Una visión global de nuestro planeta" con Román Hereter
DESCRIPTION:Estamos acostumbrados a disponer de visiones parciales del mundo en que vivimos. Tenemos en la mente una serie de destinos a los que queremos viajar\, lugares que queremos visitar\, circuitos que queremos transitar. ¿Pero realmente nos hemos planteado un programa de prioridades a la hora de fijar nuestros próximos objetivos viajeros? Esta conferencia realiza un recorrido por todos los países del mundo\, agrupados por las distintas zonas geográficas\, y resalta\, a juicio del autor\, las más relevantes según las distintas motivaciones viajeras\, tanto desde el punto de vista paisajístico\, cultural\, o simplemente de relax.Román Hereter es viajero\, periodista y fotógrafo. Director y presentador del programa radiofónico “Viajar es un Placer” y del programa televisivo “Rodamón”\, es colaborador habitual con reportajes de viajes de diversos diarios y revistas y autor de diversos libros de fotografía y guías de viajes. En 2004 y con 45 años alcanzó su objetivo de visitar todos los países independientes del mundo (193)\, además de diversos territorios como Groenlandia o la Antártida. \nMartes\, 18 de febrero de 2014. 19:30 h.  \nEspacio Catai. Vía Augusta 1-3. Barcelona.  \nACCESO LIBRE
URL:https://old.sge.org/evento/tertulia-mensual-de-socios-en-barcelona-lo-mejor-del-mundo-es-conocerlo-una-vision-global-de-nuestro-planeta-con-roman-hereter/
LOCATION:Espacio Catai\, Vía Augusta 1-3\, Barcelona\, España
CATEGORIES:Tertulias
END:VEVENT
END:VCALENDAR