BEGIN:VCALENDAR
VERSION:2.0
PRODID:-//Sociedad Geográfica Española - ECPv6.10.3//NONSGML v1.0//EN
CALSCALE:GREGORIAN
METHOD:PUBLISH
X-WR-CALNAME:Sociedad Geográfica Española
X-ORIGINAL-URL:https://old.sge.org
X-WR-CALDESC:Eventos para Sociedad Geográfica Española
REFRESH-INTERVAL;VALUE=DURATION:PT1H
X-Robots-Tag:noindex
X-PUBLISHED-TTL:PT1H
BEGIN:VTIMEZONE
TZID:Europe/Madrid
BEGIN:DAYLIGHT
TZOFFSETFROM:+0100
TZOFFSETTO:+0200
TZNAME:CEST
DTSTART:20110327T010000
END:DAYLIGHT
BEGIN:STANDARD
TZOFFSETFROM:+0200
TZOFFSETTO:+0100
TZNAME:CET
DTSTART:20111030T010000
END:STANDARD
END:VTIMEZONE
BEGIN:VEVENT
DTSTART;VALUE=DATE:20110122
DTEND;VALUE=DATE:20110123
DTSTAMP:20260419T190029
CREATED:20160601T121909Z
LAST-MODIFIED:20160601T121909Z
UID:6302-1295654400-1295740799@old.sge.org
SUMMARY:De San Agustín de Guadalix a Guadalix de la Sierra por la Dehesa de Moncalvillo y el cerro de San Pedro
DESCRIPTION:Ruta de dificultad media guiada por el geógrafo y miembro de la SGE\, Pedro Nicolás. \nLa primera ruta del año 2011\, exclusiva para socios\, se desarrollará por un territorio muy cercano a la capital pero sorprendentemente interesante. \nLa ruta supondrá salir de la olvidada garganta del río Guadalix\, afluente del Jarama\, para llegar por la magnífica dehesa de Moncalvillo a las laderas del Cerro de San Pedro. Se ascenderá este monte\, tan presente como ignorado\, verdadera avanzada de la Sierra sobre la fosa\, disfrutando desde sus 1.430 m de privilegiadas vistas sobre gran parte de la Comunidad de Madrid. Posteriormente se descenderá por los terrenos ganaderos de la vertiente norte hacia el pueblo de Guadalix de la Sierra donde finalizará el recorrido. \nGalería fotográfica\n\nMás información: \n22 de enero de 2011\nPrecio socios: 35\,00 €\nIncluye: Traslados en autobús\, guía especializado\, documentación y seguro de viaje.\nReservas en: sge@sge.org; 91 528 38 47\nInscripciones a partir del 10 de enero de 2011.
URL:https://old.sge.org/evento/de-san-agustin-de-guadalix-a-guadalix-de-la-sierra-por-la-dehesa-de-moncalvillo-y-el-cerro-de-san-pedro/
CATEGORIES:Senderismo
ORGANIZER;CN="SGE":MAILTO:sge@sge.org
END:VEVENT
END:VCALENDAR