BEGIN:VCALENDAR
VERSION:2.0
PRODID:-//Sociedad Geográfica Española - ECPv6.10.3//NONSGML v1.0//EN
CALSCALE:GREGORIAN
METHOD:PUBLISH
X-ORIGINAL-URL:https://old.sge.org
X-WR-CALDESC:Eventos para Sociedad Geográfica Española
REFRESH-INTERVAL;VALUE=DURATION:PT1H
X-Robots-Tag:noindex
X-PUBLISHED-TTL:PT1H
BEGIN:VTIMEZONE
TZID:Europe/Madrid
BEGIN:DAYLIGHT
TZOFFSETFROM:+0100
TZOFFSETTO:+0200
TZNAME:CEST
DTSTART:20100328T010000
END:DAYLIGHT
BEGIN:STANDARD
TZOFFSETFROM:+0200
TZOFFSETTO:+0100
TZNAME:CET
DTSTART:20101031T010000
END:STANDARD
END:VTIMEZONE
BEGIN:VEVENT
DTSTART;VALUE=DATE:20100925
DTEND;VALUE=DATE:20100927
DTSTAMP:20260420T014515
CREATED:20160601T123139Z
LAST-MODIFIED:20160601T123139Z
UID:6425-1285372800-1285545599@old.sge.org
SUMMARY:Plasencia y los valles de Ambroz y Jerte. Salida de fin de semana
DESCRIPTION:Excursión geográfica de fin de semana por el norte de Extremadura que incluye recorridos urbanos por las localidades de Plasencia\, Hervás y Cabezuela del Valle y la realización de dos rutas de senderismo por estas zonas\, una de nivel bajo y otra de nivel medio. El programa diseñado también permite la posibilidad de realizar la excursión sin participar en las marchas de senderismo. \nLa salida\, guiada por el geógrafo Fernando Santa Cecilia\, ofrece la visita guiada a varios museos y puntos de interés cultural de la región como el museo de la Cereza o laJudería de Hervás. La estancia en una Hospedería tradicional nos permitirá disgrutar de la tranquilidad\, de la gastronomía y de la belleza de la arquitectura serrana además de otros muchos aspectos relacionados con la etnografía extremeña. \nEn el transcurso del viaje se harán paradas explicativas analizando el valor histórico\, la riqueza natural\, agroecológica y cultural de estas comarcas. El viaje culmina con un recorrido en autobús por la Sierra de Tormantos y la visita guiada al Monasterio de Yuste en la comarca de La Vera. \nGalería fotográfica\n\nMás información: \n25 y 26 de septiembre de 2010\nPrecio socios: 190\,00 € en habitación doble.\nIncluye: Traslado en autobús\, entrada a los museos. Comidas del 25 y 26\, cena del 25 y alojamiento en media pensión en Hervás. Guía especializado\, y seguro de viaje.\nReservas en: sge@sge.org; 91 528 38 47\nInscripciones a partir del 7 de septiembre de 2010.
URL:https://old.sge.org/evento/plasencia-y-los-valles-de-ambroz-y-jerte-salida-de-fin-de-semana/
CATEGORIES:Senderismo
ORGANIZER;CN="SGE":MAILTO:sge@sge.org
END:VEVENT
END:VCALENDAR