BEGIN:VCALENDAR
VERSION:2.0
PRODID:-//Sociedad Geográfica Española - ECPv6.10.3//NONSGML v1.0//EN
CALSCALE:GREGORIAN
METHOD:PUBLISH
X-WR-CALNAME:Sociedad Geográfica Española
X-ORIGINAL-URL:https://old.sge.org
X-WR-CALDESC:Eventos para Sociedad Geográfica Española
REFRESH-INTERVAL;VALUE=DURATION:PT1H
X-Robots-Tag:noindex
X-PUBLISHED-TTL:PT1H
BEGIN:VTIMEZONE
TZID:Europe/Madrid
BEGIN:DAYLIGHT
TZOFFSETFROM:+0100
TZOFFSETTO:+0200
TZNAME:CEST
DTSTART:20100328T010000
END:DAYLIGHT
BEGIN:STANDARD
TZOFFSETFROM:+0200
TZOFFSETTO:+0100
TZNAME:CET
DTSTART:20101031T010000
END:STANDARD
END:VTIMEZONE
BEGIN:VEVENT
DTSTART;VALUE=DATE:20100529
DTEND;VALUE=DATE:20100530
DTSTAMP:20260420T081946
CREATED:20160601T123530Z
LAST-MODIFIED:20160601T123530Z
UID:6597-1275091200-1275177599@old.sge.org
SUMMARY:29 de mayo. Sábado. Salida de campo con geógrafos: ascensión a la Cachiporrilla\, en el valle del Lozoya
DESCRIPTION:Marcha de dificultad media-baja\, exclusiva para socios\, por la Sierra del Hontanar\, en el Guadarrama Oriental. El itinerario será guiado por el geógrafo Fernando Santa Cecilia y transcurrirá por la vertiente sur de esta sierra hasta alcanzar la cumbre de La Cachiporrilla (1.620 m) para después descender hasta la población de Pinilla del Valle. \nPrados de diente\, dehesas de roble melojo\, hontanares y constantes panorámicas del valle del Lozoya pondrán la nota de color a esta singular ruta. \nMás información: \nSábado 29 de mayo de 2010\nComida: tipo pic-nic; Dificultad: Media-baja.\nDesnivel aproximado: subida: 380 m. y bajada: 525 m.\nDistancia: 17 km. Precio: 35\,00 € socios.\nIncluye: Traslados en autobús\, guía especializado\, documentación y seguro de viaje.\nReservas en: sge@sge.org; 91 528 38 47\nInscripciones a partir del 3 de mayo de 2010
URL:https://old.sge.org/evento/29-de-mayo-sabado-salida-de-campo-con-geografos-ascension-a-la-cachiporrilla-en-el-valle-del-lozoya/
CATEGORIES:Senderismo
ORGANIZER;CN="SGE":MAILTO:sge@sge.org
END:VEVENT
END:VCALENDAR