BEGIN:VCALENDAR
VERSION:2.0
PRODID:-//Sociedad Geográfica Española - ECPv6.10.3//NONSGML v1.0//EN
CALSCALE:GREGORIAN
METHOD:PUBLISH
X-WR-CALNAME:Sociedad Geográfica Española
X-ORIGINAL-URL:https://old.sge.org
X-WR-CALDESC:Eventos para Sociedad Geográfica Española
REFRESH-INTERVAL;VALUE=DURATION:PT1H
X-Robots-Tag:noindex
X-PUBLISHED-TTL:PT1H
BEGIN:VTIMEZONE
TZID:Europe/Madrid
BEGIN:DAYLIGHT
TZOFFSETFROM:+0100
TZOFFSETTO:+0200
TZNAME:CEST
DTSTART:20090329T010000
END:DAYLIGHT
BEGIN:STANDARD
TZOFFSETFROM:+0200
TZOFFSETTO:+0100
TZNAME:CET
DTSTART:20091025T010000
END:STANDARD
END:VTIMEZONE
BEGIN:VEVENT
DTSTART;VALUE=DATE:20090530
DTEND;VALUE=DATE:20090531
DTSTAMP:20260423T044404
CREATED:20160601T125320Z
LAST-MODIFIED:20160601T125320Z
UID:6791-1243641600-1243727999@old.sge.org
SUMMARY:Sábado 30 de mayo: Ascensión al Pico de Urbión
DESCRIPTION:Ruta de senderismo de dificultad alta que será guiada por el geógrafo Raúl Martín. Se ascenderá al Pico de Urbión\, de 2.228 m. desde la Laguna Negra\, 1.760 m. Se trata\, pues\, de una actividad dura y larga\, no sólo por el desnivel acumulado que casi llega a los 1.000 m.\, sino también por la longitud de la marcha.\nEl objetivo de la actividad\, no es sólo coronar el Pico de Urbión\, sino explicar su relieve y realizar sobre el terreno un estudio y análisis del paisaje de esta Sierra. \nGalería fotográfica\n\nMás información\nDificultad: Alta; Desnivel: 1.000 m\nPlazas: 35\nComida: tipo pic-nic\nPrecio: 35\,00 €/socios / 42\,50 € no/socios\nIncluye: Traslados en autobús\, guía especializado\, mapa del recorrido y seguro de viaje. \nInscripciones a partir del 4 de mayo
URL:https://old.sge.org/evento/sabado-30-de-mayo-ascension-al-pico-de-urbion/
CATEGORIES:Senderismo
ORGANIZER;CN="SGE":MAILTO:sge@sge.org
END:VEVENT
END:VCALENDAR