BEGIN:VCALENDAR
VERSION:2.0
PRODID:-//Sociedad Geográfica Española - ECPv6.10.3//NONSGML v1.0//EN
CALSCALE:GREGORIAN
METHOD:PUBLISH
X-ORIGINAL-URL:https://old.sge.org
X-WR-CALDESC:Eventos para Sociedad Geográfica Española
REFRESH-INTERVAL;VALUE=DURATION:PT1H
X-Robots-Tag:noindex
X-PUBLISHED-TTL:PT1H
BEGIN:VTIMEZONE
TZID:Europe/Madrid
BEGIN:DAYLIGHT
TZOFFSETFROM:+0100
TZOFFSETTO:+0200
TZNAME:CEST
DTSTART:20080330T010000
END:DAYLIGHT
BEGIN:STANDARD
TZOFFSETFROM:+0200
TZOFFSETTO:+0100
TZNAME:CET
DTSTART:20081026T010000
END:STANDARD
END:VTIMEZONE
BEGIN:VEVENT
DTSTART;VALUE=DATE:20080426
DTEND;VALUE=DATE:20080427
DTSTAMP:20260424T221832
CREATED:20160601T145129Z
LAST-MODIFIED:20160601T145129Z
UID:6890-1209168000-1209254399@old.sge.org
SUMMARY:26 de abril de 2008. Senderismo con geógrafos a la Chorrera de San Mamés
DESCRIPTION:Itinerario de dificultad moderada en el que se podrá disfrutar de la tranquilidad y belleza de los bosques que rodean a Navarredonda\, en la Sierra Norte de Madrid\, una aldea de origen medieval dedicada al carboneo dentro de lo que fue el alfoz de la Comunidad de Villa y tierra de Buitrago. El recorrido\, guiado por Fernando Santa Cecilia\, geógrafo de la UAM\, enlazará los senderos y pistas forestales situadas a los pies de Lomo Gordo\, último ‘’dosmil’’ del Guadarrama. La visita a la Chorrera de San Mamés será el gran atractivo de esta ruta en la que se comentarán rasgos de repoblaciones forestales\, su relación con las obras hidráulicas de los siglos XIX y XX y otros aspectos de carácter geográfico\, histórico y botánico. \nMás información: \nSábado  26 de abril de 2008.\nPlazas: 35; Dificultad: Media-alta;  Desnivel: 438 m.\nComida: tipo pic-nic\nPrecio: 30\,00 € socios / 37\,50 € no socios.\nIncluye: Traslados en autobús\, guía especializado\, mapa del recorrido y seguro de viaje.\nInformación y reservas en: sge@sge.org; 91 528 38 47\nInscripciones a partir del 2 de abril de 2008.
URL:https://old.sge.org/evento/26-de-abril-de-2008-senderismo-con-geografos-a-la-chorrera-de-san-mames/
CATEGORIES:Senderismo
ORGANIZER;CN="SGE":MAILTO:sge@sge.org
END:VEVENT
END:VCALENDAR