BEGIN:VCALENDAR
VERSION:2.0
PRODID:-//Sociedad Geográfica Española - ECPv6.10.3//NONSGML v1.0//EN
CALSCALE:GREGORIAN
METHOD:PUBLISH
X-ORIGINAL-URL:https://old.sge.org
X-WR-CALDESC:Eventos para Sociedad Geográfica Española
REFRESH-INTERVAL;VALUE=DURATION:PT1H
X-Robots-Tag:noindex
X-PUBLISHED-TTL:PT1H
BEGIN:VTIMEZONE
TZID:Europe/Madrid
BEGIN:DAYLIGHT
TZOFFSETFROM:+0100
TZOFFSETTO:+0200
TZNAME:CEST
DTSTART:20080330T010000
END:DAYLIGHT
BEGIN:STANDARD
TZOFFSETFROM:+0200
TZOFFSETTO:+0100
TZNAME:CET
DTSTART:20081026T010000
END:STANDARD
END:VTIMEZONE
BEGIN:VEVENT
DTSTART;VALUE=DATE:20080420
DTEND;VALUE=DATE:20080421
DTSTAMP:20260424T171235
CREATED:20160601T145211Z
LAST-MODIFIED:20160601T150255Z
UID:6891-1208649600-1208735999@old.sge.org
SUMMARY:20 de abril de 2008. Senderismo para familias
DESCRIPTION:La SGE ha organizado en colaboración con la Fundación para la Investigación  y el  Desarrollo Ambiental de Madrid (FIDA) una  nueva propuesta para hacer senderismo  con  niños  y  expertos en educación medioambiental.  \nLa ruta\, que transcurrirá por la senda botánica del Puerto de Canencia\, es apta para niños de cualquier edad (no bebés). Se podrán observar recursos no sólo botánicos o naturales ya que se han planificado paradas para realizar actividades de interpretación. \nGalería fotográfica\n\nMás información: \nDomingo  20 de abril de 2008.\nPlazas: 35; Comida: tipo pic-nic\nPrecio:  30\,00 € adultos / 5\,00 € niños.\nIncluye: Traslados en autobús\, guía especializado\, documentación y seguro de viaje.\nInformación y reservas en: sge@sge.org; 91 528 38 47\nInscripciones a partir del 2 de abril de 2008.
URL:https://old.sge.org/evento/20-de-abril-de-2008-senderismo-para-familias/
CATEGORIES:Senderismo
ORGANIZER;CN="SGE":MAILTO:sge@sge.org
END:VEVENT
END:VCALENDAR