BEGIN:VCALENDAR
VERSION:2.0
PRODID:-//Sociedad Geográfica Española - ECPv6.10.3//NONSGML v1.0//EN
CALSCALE:GREGORIAN
METHOD:PUBLISH
X-WR-CALNAME:Sociedad Geográfica Española
X-ORIGINAL-URL:https://old.sge.org
X-WR-CALDESC:Eventos para Sociedad Geográfica Española
REFRESH-INTERVAL;VALUE=DURATION:PT1H
X-Robots-Tag:noindex
X-PUBLISHED-TTL:PT1H
BEGIN:VTIMEZONE
TZID:Europe/Madrid
BEGIN:DAYLIGHT
TZOFFSETFROM:+0100
TZOFFSETTO:+0200
TZNAME:CEST
DTSTART:20110327T010000
END:DAYLIGHT
BEGIN:STANDARD
TZOFFSETFROM:+0200
TZOFFSETTO:+0100
TZNAME:CET
DTSTART:20111030T010000
END:STANDARD
END:VTIMEZONE
BEGIN:VEVENT
DTSTART;VALUE=DATE:20110226
DTEND;VALUE=DATE:20110227
DTSTAMP:20260419T143104
CREATED:20160601T115721Z
LAST-MODIFIED:20160601T115721Z
UID:6301-1298678400-1298764799@old.sge.org
SUMMARY:Travesía de la Sierra de Guadarrama: del valle del río Moros al valle de la Fuenfría
DESCRIPTION:Ruta de dificultad media-alta guiada por el geógrafo y miembro de la SGE\, Raúl Martín. \nLa actividad propuesta por la SGE para el mes de febrero cruza la Sierra de norte a sur\, desde el área recreativa de La Panera\, en la Estación del Espinar\, hasta el madrileño pueblo de Cercedilla. \nEsta travesía permite observar numerosos elementos geomorfológicos (modelado torrencial en los fondos de los ríos y periglaciar en lo alto de las cumbres)\, naturales(como son los pinares de montaña bien conservados\, y áreas de nidificación del buitre negro)\, históricas (calzada romana\, carretera de la República)\, y valorar las profundas diferencias que existen en lo que al uso y aprovechamiento se refiere entre la vertiente segoviana y la madrileña. Además\, dado su carácter invernal\, es también una buena ocasión para familiarizarse con las travesías en nieve mientras se disfruta de un paisaje casi nórdico. \nMás información: \n26 de febrero de 2011\nPrecio socios: 35\,00 €\nIncluye: Traslados en autobús\, guía especializado\, documentación y seguro de viaje.\nReservas en: sge@sge.org; 91 528 38 47\nInscripciones a partir del 07 de febrero de 2011.
URL:https://old.sge.org/evento/travesia-de-la-sierra-de-guadarrama-del-valle-del-rio-moros-al-valle-de-la-fuenfria/
CATEGORIES:Senderismo
ORGANIZER;CN="SGE":MAILTO:sge@sge.org
END:VEVENT
END:VCALENDAR