BEGIN:VCALENDAR
VERSION:2.0
PRODID:-//Sociedad Geográfica Española - ECPv6.10.3//NONSGML v1.0//EN
CALSCALE:GREGORIAN
METHOD:PUBLISH
X-ORIGINAL-URL:https://old.sge.org
X-WR-CALDESC:Eventos para Sociedad Geográfica Española
REFRESH-INTERVAL;VALUE=DURATION:PT1H
X-Robots-Tag:noindex
X-PUBLISHED-TTL:PT1H
BEGIN:VTIMEZONE
TZID:Europe/Madrid
BEGIN:DAYLIGHT
TZOFFSETFROM:+0100
TZOFFSETTO:+0200
TZNAME:CEST
DTSTART:20100328T010000
END:DAYLIGHT
BEGIN:STANDARD
TZOFFSETFROM:+0200
TZOFFSETTO:+0100
TZNAME:CET
DTSTART:20101031T010000
END:STANDARD
END:VTIMEZONE
BEGIN:VEVENT
DTSTART;VALUE=DATE:20101023
DTEND;VALUE=DATE:20101024
DTSTAMP:20260419T221610
CREATED:20160601T122552Z
LAST-MODIFIED:20160601T122552Z
UID:6387-1287792000-1287878399@old.sge.org
SUMMARY:Gredos Oriental\, ascenso a Lanchamala
DESCRIPTION:Con Gredos Oriental tenemos los excursionistas de Madrid una deuda por el olvido al que le sometemos. Este gran y bello macizo merece una inaplazable visita por parte de la SGE y\, ésta será en nuestra excursión de octubre. \nPedro Nicolás\, geógrafo y miembro de la SGE\, guiará el ascenso a Lanchamala\, lacima de dos mil metros más oriental de Gredos. Además\, para entrar a lo grande vamos a intentar evocar lo que durante siglos hizo la población serrana: atravesar la sierra y unir los valles del Alberche y el Tiétar por el viejo camino medieval que une Navaluenga al norte con Piedralaves al sur. En nuestro caso añadiremos la desviación que nos permitirá conocer la cima de Lanchamala. \nGalería fotográfica\n\nMás información: \n23 de octubre de 2010\nPrecio socios: 35\,00 €\nIncluye: Traslados en autobús\, guía especializado\, documentación y seguro de viaje.\nReservas en: sge@sge.org; 91 528 38 47\nInscripciones a partir del 4 de octubre de 2010.
URL:https://old.sge.org/evento/gredos-oriental-ascenso-a-lanchamala/
CATEGORIES:Senderismo
ORGANIZER;CN="SGE":MAILTO:sge@sge.org
END:VEVENT
END:VCALENDAR