BEGIN:VCALENDAR
VERSION:2.0
PRODID:-//Sociedad Geográfica Española - ECPv6.10.3//NONSGML v1.0//EN
CALSCALE:GREGORIAN
METHOD:PUBLISH
X-WR-CALNAME:Sociedad Geográfica Española
X-ORIGINAL-URL:https://old.sge.org
X-WR-CALDESC:Eventos para Sociedad Geográfica Española
REFRESH-INTERVAL;VALUE=DURATION:PT1H
X-Robots-Tag:noindex
X-PUBLISHED-TTL:PT1H
BEGIN:VTIMEZONE
TZID:Europe/Madrid
BEGIN:DAYLIGHT
TZOFFSETFROM:+0100
TZOFFSETTO:+0200
TZNAME:CEST
DTSTART:20100328T010000
END:DAYLIGHT
BEGIN:STANDARD
TZOFFSETFROM:+0200
TZOFFSETTO:+0100
TZNAME:CET
DTSTART:20101031T010000
END:STANDARD
END:VTIMEZONE
BEGIN:VEVENT
DTSTART;VALUE=DATE:20100327
DTEND;VALUE=DATE:20100328
DTSTAMP:20260422T104451
CREATED:20160601T123852Z
LAST-MODIFIED:20160601T123852Z
UID:6599-1269648000-1269734399@old.sge.org
SUMMARY:Salida de campo con geógrafos: De la Pedriza\, Canto Cochino a Soto del Real por el collado de Matasanos
DESCRIPTION:Itinerario circular de dificultad muy alta que transcurre desde la Pedriza\, Canto Cochino\, a Soto del Real por el collado de Matasanos. La ruta será guiada por el geógrafo y miembro de la SGE Pedro Nicolás. \nEl itinerario saldrá de Canto Cochino\, a unos 9501 m\, para remontar un tramo del río Manzanares y luego el empinado sendero del valle del arroyo de los Hoyos de la Sierra. Este nos llevará hasta el collado del Miradero y poco después al collado de Matasanos a casi 2000 m de altitud. Desde aquí se desciende por uno de los valles más salvajes de la sierra de Guadarrama hasta el arroyo del Mediano por donde discurre una pista forestal que nos conducirá a Soto del Real. \nEs imprescindible llevar polainas para nieve\, aunque si ésta fuera muy abundante o helada se cambiaría el itinerario a una zona cercana. Bastones aconsejables. \nGalería fotográfica\n\nMás información: \nSábado 27 de marzo de 2010\nComida: tipo pic-nic. Dificultad: Muy alta\nDistancia: 19 km. Desnivel: 1.100 m.\nPrecio: 35\,00 €\nIncluye: Traslados en autobús\, guía especializado\, documentación y seguro de viaje.\nReservas en: sge@sge.org: 91 528 38 47. Inscripciones a partir del 1 de marzo de 2010.
URL:https://old.sge.org/evento/salida-de-campo-con-geografos-de-la-pedriza-canto-cochino-a-soto-del-real-por-el-collado-de-matasanos/
CATEGORIES:Senderismo
ORGANIZER;CN="SGE":MAILTO:sge@sge.org
END:VEVENT
END:VCALENDAR