BEGIN:VCALENDAR
VERSION:2.0
PRODID:-//Sociedad Geográfica Española - ECPv6.10.3//NONSGML v1.0//EN
CALSCALE:GREGORIAN
METHOD:PUBLISH
X-ORIGINAL-URL:https://old.sge.org
X-WR-CALDESC:Eventos para Sociedad Geográfica Española
REFRESH-INTERVAL;VALUE=DURATION:PT1H
X-Robots-Tag:noindex
X-PUBLISHED-TTL:PT1H
BEGIN:VTIMEZONE
TZID:Europe/Madrid
BEGIN:DAYLIGHT
TZOFFSETFROM:+0100
TZOFFSETTO:+0200
TZNAME:CEST
DTSTART:20100328T010000
END:DAYLIGHT
BEGIN:STANDARD
TZOFFSETFROM:+0200
TZOFFSETTO:+0100
TZNAME:CET
DTSTART:20101031T010000
END:STANDARD
END:VTIMEZONE
BEGIN:VEVENT
DTSTART;VALUE=DATE:20100130
DTEND;VALUE=DATE:20100131
DTSTAMP:20260422T134822
CREATED:20160601T124126Z
LAST-MODIFIED:20160601T124126Z
UID:6667-1264809600-1264895999@old.sge.org
SUMMARY:Salida de campo\, exclusiva para socios\, por la Presa del Gasco y los montes de Torrelodones y Galapagar
DESCRIPTION:Ruta de dificultad baja que discurrirá por la Presa del Gasco (Las Rozas) y los montes de Torrelodones y Galapagar\, a fin de ver el proyecto abandonado de Carlos III de hacer una ruta navegable desde el mar hasta la mismísima capital\, las antiguas minas de wolframio y su historia\, y la morfología granítica de las sierras. La ruta será guiada por Raúl Martín\, geógrafo y miembro de la SGE. \nMás información: \nSábado 30 de enero de 2010\nComida: tipo pic-nic; Dificultad: Baja\nPrecio: 35\,00 €\nIncluye: Traslados en autobús\, guía especializado\, documentación y seguro de viaje.\nReservas en: sge@sge.org: 91 528 38 47. Inscripciones a partir del 4 de enero de 2010.
URL:https://old.sge.org/evento/salida-de-campo-exclusiva-para-socios-por-la-presa-del-gasco-y-los-montes-de-torrelodones-y-galapagar/
CATEGORIES:Senderismo
ORGANIZER;CN="SGE":MAILTO:sge@sge.org
END:VEVENT
END:VCALENDAR