BEGIN:VCALENDAR
VERSION:2.0
PRODID:-//Sociedad Geográfica Española - ECPv6.10.3//NONSGML v1.0//EN
CALSCALE:GREGORIAN
METHOD:PUBLISH
X-WR-CALNAME:Sociedad Geográfica Española
X-ORIGINAL-URL:https://old.sge.org
X-WR-CALDESC:Eventos para Sociedad Geográfica Española
REFRESH-INTERVAL;VALUE=DURATION:PT1H
X-Robots-Tag:noindex
X-PUBLISHED-TTL:PT1H
BEGIN:VTIMEZONE
TZID:Europe/Madrid
BEGIN:DAYLIGHT
TZOFFSETFROM:+0100
TZOFFSETTO:+0200
TZNAME:CEST
DTSTART:20090329T010000
END:DAYLIGHT
BEGIN:STANDARD
TZOFFSETFROM:+0200
TZOFFSETTO:+0100
TZNAME:CET
DTSTART:20091025T010000
END:STANDARD
END:VTIMEZONE
BEGIN:VEVENT
DTSTART;VALUE=DATE:20091212
DTEND;VALUE=DATE:20091213
DTSTAMP:20260422T164740
CREATED:20160601T124252Z
LAST-MODIFIED:20160601T124252Z
UID:6668-1260576000-1260662399@old.sge.org
SUMMARY:Salida de campo\, exclusiva para socios\, de dificultad media-alta\, con el geógrafo Pedro Nicolás
DESCRIPTION:Se partirá de Patones de Abajo\, (700 m)\, para llegar a Patones de Arriba desde donde\, por una sierra solitaria y desolada\, se ascenderá al Cancho de la Cabeza (1.264 m) que ofrece unas interesantes panorámicas. Se desciende hasta el antiguo poblado de la presa del Atazar y desde allí a la presa de la Parra ya en el cauce del Lozoya. Por el fondo de su encajado valle se seguirá el río aguas abajo hasta la presa del Pontón de la Oliva lugar de gran interés histórico y deportivo. \nGalería fotográfica\n\nMás información: \nSábado 12 de diciembre de 2009\nComida: tipo pic-nic; Dificultad: Media-alta\nDesnivel: 700 m; Distancia: 20 km\nPrecio: 35\,00 € \nIncluye: Traslados en autobús\, guía especializado\, documentación y seguro de viaje. \nReservas en: sge@sge.org; 91 528 38 47\nInscripciones a partir del 1 de diciembre de 2009.
URL:https://old.sge.org/evento/salida-de-campo-exclusiva-para-socios-de-dificultad-media-alta-con-el-geografo-pedro-nicolas/
CATEGORIES:Senderismo
ORGANIZER;CN="SGE":MAILTO:sge@sge.org
END:VEVENT
END:VCALENDAR