BEGIN:VCALENDAR
VERSION:2.0
PRODID:-//Sociedad Geográfica Española - ECPv6.10.3//NONSGML v1.0//EN
CALSCALE:GREGORIAN
METHOD:PUBLISH
X-WR-CALNAME:Sociedad Geográfica Española
X-ORIGINAL-URL:https://old.sge.org
X-WR-CALDESC:Eventos para Sociedad Geográfica Española
REFRESH-INTERVAL;VALUE=DURATION:PT1H
X-Robots-Tag:noindex
X-PUBLISHED-TTL:PT1H
BEGIN:VTIMEZONE
TZID:Europe/Madrid
BEGIN:DAYLIGHT
TZOFFSETFROM:+0100
TZOFFSETTO:+0200
TZNAME:CEST
DTSTART:20090329T010000
END:DAYLIGHT
BEGIN:STANDARD
TZOFFSETFROM:+0200
TZOFFSETTO:+0100
TZNAME:CET
DTSTART:20091025T010000
END:STANDARD
END:VTIMEZONE
BEGIN:VEVENT
DTSTART;VALUE=DATE:20091128
DTEND;VALUE=DATE:20091129
DTSTAMP:20260422T181225
CREATED:20160601T124529Z
LAST-MODIFIED:20160601T124529Z
UID:6672-1259366400-1259452799@old.sge.org
SUMMARY:Salida de campo con geógrafos: Descubriendo las Lagunas de Ruidera\, sábado 28 de noviembre
DESCRIPTION:Ruta de dificultad baja\, exclusiva para socios\, por el interior del Parque Natural de las Lagunas de Ruidera\, uno de los espacios lacustres de naturaleza calcárea más importantes de Europa. \nEntenderemos el funcionamiento y la creación de este paisaje fluvial compuesto por trece lagunas\, comunicadas por sorprendentes cascadas de roca tobácea. El itinerario\, guiado por el geógrafo Fernando Santa Cecilia\, incluye\, además de la visita a este espacio natural protegido\, el acercamiento a otros lugares de interés paisajístico\, patrimonial y arquitectónico incluidos en la Ruta de Don Quijote. \nGalería fotográfica\n\n\nMás información: \nSábado 28 de noviembre de 2009\nComida: tipo pic-nic; Dificultad: Baja.\nDesnivel: 50 m.; Distancia: 9 km.\nPrecio: 35\,00 €\nIncluye: Traslados en autobús\, guía especializado\, documentación y seguro de viaje.\nReservas en:sge@sge.org; 91 528 38 47\nInscripciones a partir del 2 de noviembre de 2009.
URL:https://old.sge.org/evento/salida-de-campo-con-geografos-descubriendo-las-lagunas-de-ruidera-sabado-28-de-noviembre/
CATEGORIES:Senderismo
ORGANIZER;CN="SGE":MAILTO:sge@sge.org
END:VEVENT
END:VCALENDAR