BEGIN:VCALENDAR
VERSION:2.0
PRODID:-//Sociedad Geográfica Española - ECPv6.10.3//NONSGML v1.0//EN
CALSCALE:GREGORIAN
METHOD:PUBLISH
X-ORIGINAL-URL:https://old.sge.org
X-WR-CALDESC:Eventos para Sociedad Geográfica Española
REFRESH-INTERVAL;VALUE=DURATION:PT1H
X-Robots-Tag:noindex
X-PUBLISHED-TTL:PT1H
BEGIN:VTIMEZONE
TZID:Europe/Madrid
BEGIN:DAYLIGHT
TZOFFSETFROM:+0100
TZOFFSETTO:+0200
TZNAME:CEST
DTSTART:20090329T010000
END:DAYLIGHT
BEGIN:STANDARD
TZOFFSETFROM:+0200
TZOFFSETTO:+0100
TZNAME:CET
DTSTART:20091025T010000
END:STANDARD
END:VTIMEZONE
BEGIN:VEVENT
DTSTART;VALUE=DATE:20090620
DTEND;VALUE=DATE:20090621
DTSTAMP:20260423T013757
CREATED:20160601T124912Z
LAST-MODIFIED:20160601T124912Z
UID:6728-1245456000-1245542399@old.sge.org
SUMMARY:Sábado 20 de junio de 2009. Senderismo con geógrafos: Ruta de la Buitrera
DESCRIPTION:Se vuelve a programar esta ruta que tuvo que ser anulada el pasado mes de noviembre a causa del mal tiempo. Se trata de un itinerario de dificultad alta\, guiado por el geógrafo y miembro de la Junta Directiva de la SGE\, Pedro Nicolás.\nSe inicia en la ermita de Hontanares\, a unos 1.500 m. de altitud y permite observar las vistas sobre la meseta del Duero\, las estribaciones de la Cordillera Ibérica y su posición dominante sobre el Parque Natural de la Tejera Negra. \nGalería fotográfica\n\nMás información\nComida: tipo pic-nic\nDificultad: Alta\nDesnivel: 600 m\nPrecio: 35\,00 € socios/ 42\,50 € no socios\nIncluye: Traslados en autobús\, guía especializado\, documentación y seguro de viaje.\nReservas en: sge@sge.org; 91 528 38 47 \nInscripciones a partir del 1 de junio de 2009
URL:https://old.sge.org/evento/sabado-20-de-junio-de-2009-senderismo-con-geografos-ruta-de-la-buitrera/
CATEGORIES:Senderismo
ORGANIZER;CN="SGE":MAILTO:sge@sge.org
END:VEVENT
BEGIN:VEVENT
DTSTART;VALUE=DATE:20090620
DTEND;VALUE=DATE:20090621
DTSTAMP:20260423T013757
CREATED:20160601T125114Z
LAST-MODIFIED:20160601T125114Z
UID:6758-1245456000-1245542399@old.sge.org
SUMMARY:Sábado 20 de junio de 2009. Senderismo en familia: caminando con los neandertales
DESCRIPTION:La SGE vuelve a organizar una ruta sencilla de senderismo para los socios que quieran salir al campo con sus hijos. Se visitará el yacimiento prehistórico de Pinilla del Valle\, el “Atapuerca” madrileño\, donde se han hallado restos de neandertales.\nEl itinerario será guiado por Enrique  Baquedano\, miembro de la SGE\, director del Museo Arqueológico Regional de la Comunidad de Madrid y codirector de la excavación de Pinilla del Valle. \nGalería fotográfica\n\nMás información\nComida: tipo pic-nic\nPrecio: 35\,00 €  adultos / 5\,00 € niños\nIncluye: Traslados en autobús\, guía especializado y seguro de viaje\nReservas en: sge@sge.org; 91 528 38 47 \nInscripciones a partir del 1 de junio de 2009
URL:https://old.sge.org/evento/sabado-20-de-junio-de-2009-senderismo-en-familia-caminando-con-los-neandertales/
CATEGORIES:Senderismo
ORGANIZER;CN="SGE":MAILTO:sge@sge.org
END:VEVENT
END:VCALENDAR