BEGIN:VCALENDAR
VERSION:2.0
PRODID:-//Sociedad Geográfica Española - ECPv6.10.3//NONSGML v1.0//EN
CALSCALE:GREGORIAN
METHOD:PUBLISH
X-WR-CALNAME:Sociedad Geográfica Española
X-ORIGINAL-URL:https://old.sge.org
X-WR-CALDESC:Eventos para Sociedad Geográfica Española
REFRESH-INTERVAL;VALUE=DURATION:PT1H
X-Robots-Tag:noindex
X-PUBLISHED-TTL:PT1H
BEGIN:VTIMEZONE
TZID:Europe/Madrid
BEGIN:DAYLIGHT
TZOFFSETFROM:+0100
TZOFFSETTO:+0200
TZNAME:CEST
DTSTART:20090329T010000
END:DAYLIGHT
BEGIN:STANDARD
TZOFFSETFROM:+0200
TZOFFSETTO:+0100
TZNAME:CET
DTSTART:20091025T010000
END:STANDARD
END:VTIMEZONE
BEGIN:VEVENT
DTSTART;VALUE=DATE:20090425
DTEND;VALUE=DATE:20090426
DTSTAMP:20260423T043822
CREATED:20160601T143939Z
LAST-MODIFIED:20160601T143939Z
UID:6816-1240617600-1240703999@old.sge.org
SUMMARY:25 de abril: Ascensión al Rocigalgo en el Parque Nacional de Cabañeros
DESCRIPTION:Itinerario de dificultad alta guiado por el geógrafo y miembro de la Junta Directiva\, Pedro Nicolás. Se trata de un recorrido por el techo de Toledo en el que se podrá disfrutar de la belleza de un paraje totalmente diferente del que se puede esperar encontrar en estas latitudes: paredes\, rocas y árboles con musgo\, mientras el salto de agua de 15 metros de altura se desliza por la piedra para estrellarse contra una poza natural; un bello bosque de robles y en la cumbre vistas de los Montes de Toledo y los magníficos y frondosos valles que la surcan. \nGalería fotográfica\n\nMás información: \nPlazas: 30; \nDificultad: Alta; \nDesnivel: 744 m\nComida: tipo pic-nic\nPrecio: 35\,00 € socios/42\,50 no socios\nIncluye: Traslados en autobús\, guía especializado\, mapa del recorrido y seguro de viaje.\nInformación y reservas en: sge@sge.org; 91 528 38 47.\nInscripciones a partir del 6 de abril de 2009
URL:https://old.sge.org/evento/25-de-abril-ascension-al-rocigalgo-en-el-parque-nacional-de-cabaneros/
CATEGORIES:Senderismo
ORGANIZER;CN="SGE":MAILTO:sge@sge.org
END:VEVENT
END:VCALENDAR