BEGIN:VCALENDAR
VERSION:2.0
PRODID:-//Sociedad Geográfica Española - ECPv6.10.3//NONSGML v1.0//EN
CALSCALE:GREGORIAN
METHOD:PUBLISH
X-ORIGINAL-URL:https://old.sge.org
X-WR-CALDESC:Eventos para Sociedad Geográfica Española
REFRESH-INTERVAL;VALUE=DURATION:PT1H
X-Robots-Tag:noindex
X-PUBLISHED-TTL:PT1H
BEGIN:VTIMEZONE
TZID:Europe/Madrid
BEGIN:DAYLIGHT
TZOFFSETFROM:+0100
TZOFFSETTO:+0200
TZNAME:CEST
DTSTART:20090329T010000
END:DAYLIGHT
BEGIN:STANDARD
TZOFFSETFROM:+0200
TZOFFSETTO:+0100
TZNAME:CET
DTSTART:20091025T010000
END:STANDARD
END:VTIMEZONE
BEGIN:VEVENT
DTSTART;VALUE=DATE:20090221
DTEND;VALUE=DATE:20090222
DTSTAMP:20260423T125052
CREATED:20160601T144601Z
LAST-MODIFIED:20160601T144601Z
UID:6872-1235174400-1235260799@old.sge.org
SUMMARY:21 de febrero de 2009: La hoz del río Dulce
DESCRIPTION:Ruta por el entorno del parque Natural Barranco del Río Dulce. El recorrido de unos catorce kilómetros discurrirá por la zona llana al borde del río y será guiado por la geógrafa y miembro de la SGE Pilar Lacasta. \nEl río Dulce es el primer afluente que se encuentra el Henares aguas debajo de Sigüenza. Nace en Sierra Ministra\, atraviesa la Cordillera Ibérica erosionando las rocas calcáreas formando un magnífico cañón. A lo largo del recorrido se pueden observar espectaculares cascadas en época de lluvia: Gollorio o Varenosa; fantásticas formas de erosión; pueblos con sus castillos roqueros – Peregrina-\, al borde del agua –La Cabrera; o con formaciones tobáceas –Aragosa. \nMás información: \nSábado 21 de febrero de 2009-02-02 Distancia: 14 km.\nDuración: 5h.\nDificultad: Media. Plazas: 35\nComida: tipo pic-nic\nPrecio: 35\,00€ socios/ 42\,50 € no socios\nIncluye: Traslados en autobús\, guía especializado\, mapa del recorrido y seguro de viaje.\nIInscripciones a partir del 2 de febrero en sge@sge.org y 91 528 38 47.
URL:https://old.sge.org/evento/21-de-febrero-de-2009-la-hoz-del-rio-dulce/
CATEGORIES:Senderismo
ORGANIZER;CN="SGE":MAILTO:sge@sge.org
END:VEVENT
END:VCALENDAR