BEGIN:VCALENDAR
VERSION:2.0
PRODID:-//Sociedad Geográfica Española - ECPv6.10.3//NONSGML v1.0//EN
CALSCALE:GREGORIAN
METHOD:PUBLISH
X-WR-CALNAME:Sociedad Geográfica Española
X-ORIGINAL-URL:https://old.sge.org
X-WR-CALDESC:Eventos para Sociedad Geográfica Española
REFRESH-INTERVAL;VALUE=DURATION:PT1H
X-Robots-Tag:noindex
X-PUBLISHED-TTL:PT1H
BEGIN:VTIMEZONE
TZID:Europe/Madrid
BEGIN:DAYLIGHT
TZOFFSETFROM:+0100
TZOFFSETTO:+0200
TZNAME:CEST
DTSTART:20090329T010000
END:DAYLIGHT
BEGIN:STANDARD
TZOFFSETFROM:+0200
TZOFFSETTO:+0100
TZNAME:CET
DTSTART:20091025T010000
END:STANDARD
END:VTIMEZONE
BEGIN:VEVENT
DTSTART;VALUE=DATE:20090124
DTEND;VALUE=DATE:20090125
DTSTAMP:20260423T092206
CREATED:20160601T144808Z
LAST-MODIFIED:20160601T144808Z
UID:6873-1232755200-1232841599@old.sge.org
SUMMARY:24 de enero 2009: La Hiruela en la Sierra Norte: senderismo con geógrafos
DESCRIPTION:Ruta de dificultad media que será guiada por Pedro Nicolás\, geógrafo y miembro de la Junta Directiva de la SGE. \nSe trata de una marcha o ruta bastante tranquila que lleva desde la localidad de la Hiruela a la orilla del recién nacido Jarama por el viejo camino del Cardoso. \nGalería fotográfica\n\nMás información: \n24 de enero de 2009\nPrecio: 30 €/socios; 37\,50€/no socios\nPlazas: 35; Dificultad: Media\nIncluye: Traslados en autobús\, guía y seguro de viaje.\nReservas en:sge@sge.org y 91 528 38 47
URL:https://old.sge.org/evento/24-de-enero-2009-la-hiruela-en-la-sierra-norte-senderismo-con-geografos/
CATEGORIES:Senderismo
ORGANIZER;CN="SGE":MAILTO:sge@sge.org
END:VEVENT
END:VCALENDAR