BEGIN:VCALENDAR
VERSION:2.0
PRODID:-//Sociedad Geográfica Española - ECPv6.10.3//NONSGML v1.0//EN
CALSCALE:GREGORIAN
METHOD:PUBLISH
X-WR-CALNAME:Sociedad Geográfica Española
X-ORIGINAL-URL:https://old.sge.org
X-WR-CALDESC:Eventos para Sociedad Geográfica Española
REFRESH-INTERVAL;VALUE=DURATION:PT1H
X-Robots-Tag:noindex
X-PUBLISHED-TTL:PT1H
BEGIN:VTIMEZONE
TZID:Europe/Madrid
BEGIN:DAYLIGHT
TZOFFSETFROM:+0100
TZOFFSETTO:+0200
TZNAME:CEST
DTSTART:20080330T010000
END:DAYLIGHT
BEGIN:STANDARD
TZOFFSETFROM:+0200
TZOFFSETTO:+0100
TZNAME:CET
DTSTART:20081026T010000
END:STANDARD
END:VTIMEZONE
BEGIN:VEVENT
DTSTART;VALUE=DATE:20080628
DTEND;VALUE=DATE:20080629
DTSTAMP:20260424T092812
CREATED:20160601T145028Z
LAST-MODIFIED:20160601T145028Z
UID:6888-1214611200-1214697599@old.sge.org
SUMMARY:28 de junio de 2008. Senderismo: Hoces del Duratón
DESCRIPTION:Ruta de senderismo que transcurre por el interior del Parque Natural de las Hoces del Río Duratón muy cerca de la villa medieval de Sepúlveda. Será guiada por Fernando Santa Cecilia\, geógrafo de la UAM e incluye a su vez un pequeño recorrido por el casco urbano de Sepúlveda y la visita al Centro de Interpretación de este espacio natural protegido. \nMás información: \nPlazas:35; Comida: tipo pic-nic\nDesnivel: 50 m. Dificultad: baja\nPrecio: 30\,00 € adultos/37\,50 € no socios\nIncluye: Traslados en autobús\, guía especializado\, mapa del recorrido y seguro de viaje.\nInformación y reservas en: sge@sge.org; 91 528 38 47\nInscripciones a partir del 2 de junio.
URL:https://old.sge.org/evento/28-de-junio-de-2008-senderismo-hoces-del-duraton/
CATEGORIES:Senderismo
ORGANIZER;CN="SGE":MAILTO:sge@sge.org
END:VEVENT
END:VCALENDAR