BEGIN:VCALENDAR
VERSION:2.0
PRODID:-//Sociedad Geográfica Española - ECPv6.10.3//NONSGML v1.0//EN
CALSCALE:GREGORIAN
METHOD:PUBLISH
X-ORIGINAL-URL:https://old.sge.org
X-WR-CALDESC:Eventos para Sociedad Geográfica Española
REFRESH-INTERVAL;VALUE=DURATION:PT1H
X-Robots-Tag:noindex
X-PUBLISHED-TTL:PT1H
BEGIN:VTIMEZONE
TZID:Europe/Madrid
BEGIN:DAYLIGHT
TZOFFSETFROM:+0100
TZOFFSETTO:+0200
TZNAME:CEST
DTSTART:20080330T010000
END:DAYLIGHT
BEGIN:STANDARD
TZOFFSETFROM:+0200
TZOFFSETTO:+0100
TZNAME:CET
DTSTART:20081026T010000
END:STANDARD
END:VTIMEZONE
BEGIN:VEVENT
DTSTART;VALUE=DATE:20080524
DTEND;VALUE=DATE:20080525
DTSTAMP:20260424T154955
CREATED:20160601T145056Z
LAST-MODIFIED:20160601T145056Z
UID:6889-1211587200-1211673599@old.sge.org
SUMMARY:24 de mayo de 2008. Senderismo: Ruta al Morezón en la Sierra de Gredos
DESCRIPTION:Ruta de senderismo de dificultad alta pensada para los socios más montañeros que asciende a lo largo del núcleo central de la Sierra de Gredos\, y que corona una de sus cumbres más emblemáticas. Será guiada por Raúl Martín\, Geógrafo y Doctor por la Universidad Autónoma de Madrid y alpinista. \nMás información: \nPlazas: 35; Comida: tipo pic-nic\nDesnivel: desde la Plataforma (1.800 m) a la cumbre: 600 m.\nDistancia: ida y vuelta: 13 km.\nDificultad: alta. Posibilidad de encontrar nieve en el recorrido\nDuración: (Ida y vuelta): unas 6 horas\nPrecio: 30\,00 € socios/37\,50 € no socios\nIncluye: Traslados en autobús\, guía especializado\, mapa del recorrido y seguro de viaje\nInformación y reservas en: sge@sge.org; 91 528 38 47\nInscripciones a partir del 5 de mayo.
URL:https://old.sge.org/evento/24-de-mayo-de-2008-senderismo-ruta-al-morezon-en-la-sierra-de-gredos/
CATEGORIES:Senderismo
ORGANIZER;CN="SGE":MAILTO:sge@sge.org
END:VEVENT
END:VCALENDAR